BEGIN:VCALENDAR
VERSION:2.0
PRODID:-//Brighton Public Library - ECPv6.15.20//NONSGML v1.0//EN
CALSCALE:GREGORIAN
METHOD:PUBLISH
X-WR-CALNAME:Brighton Public Library
X-ORIGINAL-URL:https://www.brightonlibrary.ca
X-WR-CALDESC:Events for Brighton Public Library
REFRESH-INTERVAL;VALUE=DURATION:PT1H
X-Robots-Tag:noindex
X-PUBLISHED-TTL:PT1H
BEGIN:VTIMEZONE
TZID:America/Toronto
BEGIN:DAYLIGHT
TZOFFSETFROM:-0500
TZOFFSETTO:-0400
TZNAME:EDT
DTSTART:20250309T070000
END:DAYLIGHT
BEGIN:STANDARD
TZOFFSETFROM:-0400
TZOFFSETTO:-0500
TZNAME:EST
DTSTART:20251102T060000
END:STANDARD
BEGIN:DAYLIGHT
TZOFFSETFROM:-0500
TZOFFSETTO:-0400
TZNAME:EDT
DTSTART:20260308T070000
END:DAYLIGHT
BEGIN:STANDARD
TZOFFSETFROM:-0400
TZOFFSETTO:-0500
TZNAME:EST
DTSTART:20261101T060000
END:STANDARD
BEGIN:DAYLIGHT
TZOFFSETFROM:-0500
TZOFFSETTO:-0400
TZNAME:EDT
DTSTART:20270314T070000
END:DAYLIGHT
BEGIN:STANDARD
TZOFFSETFROM:-0400
TZOFFSETTO:-0500
TZNAME:EST
DTSTART:20271107T060000
END:STANDARD
BEGIN:DAYLIGHT
TZOFFSETFROM:-0500
TZOFFSETTO:-0400
TZNAME:EDT
DTSTART:20280312T070000
END:DAYLIGHT
BEGIN:STANDARD
TZOFFSETFROM:-0400
TZOFFSETTO:-0500
TZNAME:EST
DTSTART:20281105T060000
END:STANDARD
BEGIN:DAYLIGHT
TZOFFSETFROM:-0500
TZOFFSETTO:-0400
TZNAME:EDT
DTSTART:20290311T070000
END:DAYLIGHT
BEGIN:STANDARD
TZOFFSETFROM:-0400
TZOFFSETTO:-0500
TZNAME:EST
DTSTART:20291104T060000
END:STANDARD
BEGIN:DAYLIGHT
TZOFFSETFROM:-0500
TZOFFSETTO:-0400
TZNAME:EDT
DTSTART:20300310T070000
END:DAYLIGHT
BEGIN:STANDARD
TZOFFSETFROM:-0400
TZOFFSETTO:-0500
TZNAME:EST
DTSTART:20301103T060000
END:STANDARD
END:VTIMEZONE
BEGIN:VEVENT
DTSTART;VALUE=DATE:20260701
DTEND;VALUE=DATE:20260702
DTSTAMP:20260421T095136
CREATED:20250523T180434Z
LAST-MODIFIED:20250523T180937Z
UID:10001942-1782864000-1782950399@www.brightonlibrary.ca
SUMMARY:Canada Day: The Library Will Be Closed
DESCRIPTION:The library will be closed today. Happy Canada Day\, Brighton!
URL:https://www.brightonlibrary.ca/event-calendar/canada-day-the-library-will-be-closed/2026-07-01/
END:VEVENT
BEGIN:VEVENT
DTSTART;VALUE=DATE:20270701
DTEND;VALUE=DATE:20270702
DTSTAMP:20260421T095136
CREATED:20250523T180434Z
LAST-MODIFIED:20250523T180937Z
UID:10001943-1814400000-1814486399@www.brightonlibrary.ca
SUMMARY:Canada Day: The Library Will Be Closed
DESCRIPTION:The library will be closed today. Happy Canada Day\, Brighton!
URL:https://www.brightonlibrary.ca/event-calendar/canada-day-the-library-will-be-closed/2027-07-01/
END:VEVENT
BEGIN:VEVENT
DTSTART;VALUE=DATE:20280701
DTEND;VALUE=DATE:20280702
DTSTAMP:20260421T095136
CREATED:20250523T180434Z
LAST-MODIFIED:20250523T180937Z
UID:10001944-1846022400-1846108799@www.brightonlibrary.ca
SUMMARY:Canada Day: The Library Will Be Closed
DESCRIPTION:The library will be closed today. Happy Canada Day\, Brighton!
URL:https://www.brightonlibrary.ca/event-calendar/canada-day-the-library-will-be-closed/2028-07-01/
END:VEVENT
BEGIN:VEVENT
DTSTART;VALUE=DATE:20290701
DTEND;VALUE=DATE:20290702
DTSTAMP:20260421T095136
CREATED:20250523T180434Z
LAST-MODIFIED:20250523T180937Z
UID:10001945-1877558400-1877644799@www.brightonlibrary.ca
SUMMARY:Canada Day: The Library Will Be Closed
DESCRIPTION:The library will be closed today. Happy Canada Day\, Brighton!
URL:https://www.brightonlibrary.ca/event-calendar/canada-day-the-library-will-be-closed/2029-07-01/
END:VEVENT
END:VCALENDAR