BEGIN:VCALENDAR
VERSION:2.0
PRODID:-//Brighton Public Library - ECPv6.15.20//NONSGML v1.0//EN
CALSCALE:GREGORIAN
METHOD:PUBLISH
X-WR-CALNAME:Brighton Public Library
X-ORIGINAL-URL:https://www.brightonlibrary.ca
X-WR-CALDESC:Events for Brighton Public Library
REFRESH-INTERVAL;VALUE=DURATION:PT1H
X-Robots-Tag:noindex
X-PUBLISHED-TTL:PT1H
BEGIN:VTIMEZONE
TZID:America/Toronto
BEGIN:DAYLIGHT
TZOFFSETFROM:-0500
TZOFFSETTO:-0400
TZNAME:EDT
DTSTART:20250309T070000
END:DAYLIGHT
BEGIN:STANDARD
TZOFFSETFROM:-0400
TZOFFSETTO:-0500
TZNAME:EST
DTSTART:20251102T060000
END:STANDARD
BEGIN:DAYLIGHT
TZOFFSETFROM:-0500
TZOFFSETTO:-0400
TZNAME:EDT
DTSTART:20260308T070000
END:DAYLIGHT
BEGIN:STANDARD
TZOFFSETFROM:-0400
TZOFFSETTO:-0500
TZNAME:EST
DTSTART:20261101T060000
END:STANDARD
BEGIN:DAYLIGHT
TZOFFSETFROM:-0500
TZOFFSETTO:-0400
TZNAME:EDT
DTSTART:20270314T070000
END:DAYLIGHT
BEGIN:STANDARD
TZOFFSETFROM:-0400
TZOFFSETTO:-0500
TZNAME:EST
DTSTART:20271107T060000
END:STANDARD
END:VTIMEZONE
BEGIN:VEVENT
DTSTART;TZID=America/Toronto:20260504T150000
DTEND;TZID=America/Toronto:20260504T170000
DTSTAMP:20260421T015851
CREATED:20260410T142755Z
LAST-MODIFIED:20260410T142755Z
UID:10002943-1777906800-1777914000@www.brightonlibrary.ca
SUMMARY:Gratitude Rocks
DESCRIPTION:Drop in and decorate a rock in honour of Mental Health Week! You can take your finished rock home\, pass it on to someone special\, or add it to the BPL rock garden. \nAll materials are provided\, and no registration is required. \nNote that this activity is available on two days this week: Monday May 4th and Friday May 8th.
URL:https://www.brightonlibrary.ca/event-calendar/gratitude-rocks/2026-05-04/
LOCATION:Brighton Public Library\, 35 Alice St\, Brighton\, Ontario\, K0K 1H0\, Canada
CATEGORIES:All Ages,Crafty,Drop-In
ATTACH;FMTTYPE=image/png:https://www.brightonlibrary.ca/wp-content/uploads/Gratitude-Rocks-Feature-Image.png
END:VEVENT
BEGIN:VEVENT
DTSTART;TZID=America/Toronto:20260508T150000
DTEND;TZID=America/Toronto:20260508T170000
DTSTAMP:20260421T015851
CREATED:20260410T142755Z
LAST-MODIFIED:20260410T142755Z
UID:10002944-1778252400-1778259600@www.brightonlibrary.ca
SUMMARY:Gratitude Rocks
DESCRIPTION:Drop in and decorate a rock in honour of Mental Health Week! You can take your finished rock home\, pass it on to someone special\, or add it to the BPL rock garden. \nAll materials are provided\, and no registration is required. \nNote that this activity is available on two days this week: Monday May 4th and Friday May 8th.
URL:https://www.brightonlibrary.ca/event-calendar/gratitude-rocks/2026-05-08/
LOCATION:Brighton Public Library\, 35 Alice St\, Brighton\, Ontario\, K0K 1H0\, Canada
CATEGORIES:All Ages,Crafty,Drop-In
ATTACH;FMTTYPE=image/png:https://www.brightonlibrary.ca/wp-content/uploads/Gratitude-Rocks-Feature-Image.png
END:VEVENT
END:VCALENDAR