BEGIN:VCALENDAR
VERSION:2.0
PRODID:-//Brighton Public Library - ECPv6.15.20//NONSGML v1.0//EN
CALSCALE:GREGORIAN
METHOD:PUBLISH
X-ORIGINAL-URL:https://www.brightonlibrary.ca
X-WR-CALDESC:Events for Brighton Public Library
REFRESH-INTERVAL;VALUE=DURATION:PT1H
X-Robots-Tag:noindex
X-PUBLISHED-TTL:PT1H
BEGIN:VTIMEZONE
TZID:America/Toronto
BEGIN:DAYLIGHT
TZOFFSETFROM:-0500
TZOFFSETTO:-0400
TZNAME:EDT
DTSTART:20250309T070000
END:DAYLIGHT
BEGIN:STANDARD
TZOFFSETFROM:-0400
TZOFFSETTO:-0500
TZNAME:EST
DTSTART:20251102T060000
END:STANDARD
BEGIN:DAYLIGHT
TZOFFSETFROM:-0500
TZOFFSETTO:-0400
TZNAME:EDT
DTSTART:20260308T070000
END:DAYLIGHT
BEGIN:STANDARD
TZOFFSETFROM:-0400
TZOFFSETTO:-0500
TZNAME:EST
DTSTART:20261101T060000
END:STANDARD
BEGIN:DAYLIGHT
TZOFFSETFROM:-0500
TZOFFSETTO:-0400
TZNAME:EDT
DTSTART:20270314T070000
END:DAYLIGHT
BEGIN:STANDARD
TZOFFSETFROM:-0400
TZOFFSETTO:-0500
TZNAME:EST
DTSTART:20271107T060000
END:STANDARD
END:VTIMEZONE
BEGIN:VEVENT
DTSTART;TZID=America/Toronto:20260303T100000
DTEND;TZID=America/Toronto:20260303T160000
DTSTAMP:20260421T001732
CREATED:20250303T162536Z
LAST-MODIFIED:20260205T185936Z
UID:10002892-1772532000-1772553600@www.brightonlibrary.ca
SUMMARY:Tech Tuesdays
DESCRIPTION:Bring in your device or get help navigating the digital library\, by booking a 30-minute session with our staff. This one-on-one help is offered twice a month\, and is a very popular service. \nBecause we need to discuss your tech issue and select an appropriate time slot there is no online registration available for this program. Please visit the Main Desk or call the library during open hours to register: 613-475-2511.
URL:https://www.brightonlibrary.ca/event-calendar/tech-tuesdays-4/2026-03-03/
LOCATION:Brighton Public Library\, 35 Alice St\, Brighton\, Ontario\, K0K 1H0\, Canada
CATEGORIES:Adults,Recurring Program,Registration Required
ATTACH;FMTTYPE=image/png:https://www.brightonlibrary.ca/wp-content/uploads/Tech-Tuesdays-FB-Banner-1.png
END:VEVENT
BEGIN:VEVENT
DTSTART;TZID=America/Toronto:20260304T123000
DTEND;TZID=America/Toronto:20260304T143000
DTSTAMP:20260421T001732
CREATED:20241223T164321Z
LAST-MODIFIED:20251030T162458Z
UID:10000653-1772627400-1772634600@www.brightonlibrary.ca
SUMMARY:KnitCetera
DESCRIPTION:Drop in with your project to chat and share with other yarn enthusiasts. All fibre arts are welcome\, and those who want to learn how to knit or crochet are welcome to come and join in!  \nNo registration is required for this event.
URL:https://www.brightonlibrary.ca/event-calendar/knitcetera-2/2026-03-04/
LOCATION:Brighton Public Library\, 35 Alice St\, Brighton\, Ontario\, K0K 1H0\, Canada
CATEGORIES:Crafty,Drop-In,Recurring Program
ATTACH;FMTTYPE=image/png:https://www.brightonlibrary.ca/wp-content/uploads/KnitCetera-Banner.png
END:VEVENT
BEGIN:VEVENT
DTSTART;TZID=America/Toronto:20260307T103000
DTEND;TZID=America/Toronto:20260307T113000
DTSTAMP:20260421T001732
CREATED:20241223T164854Z
LAST-MODIFIED:20250227T185720Z
UID:10001376-1772879400-1772883000@www.brightonlibrary.ca
SUMMARY:Spanish Circle
DESCRIPTION:Join Sofia to practise your Spanish and make new amigos in a relaxed\, conversational group. All ages and skill levels are welcome.
URL:https://www.brightonlibrary.ca/event-calendar/spanish-circle/2026-03-07/
LOCATION:Brighton Public Library\, 35 Alice St\, Brighton\, Ontario\, K0K 1H0\, Canada
CATEGORIES:All Ages,Recurring Program
ATTACH;FMTTYPE=image/png:https://www.brightonlibrary.ca/wp-content/uploads/Spanish-Circle-FB-Cover.png
END:VEVENT
BEGIN:VEVENT
DTSTART;TZID=America/Toronto:20260311T123000
DTEND;TZID=America/Toronto:20260311T143000
DTSTAMP:20260421T001732
CREATED:20241223T164321Z
LAST-MODIFIED:20251030T162458Z
UID:10000654-1773232200-1773239400@www.brightonlibrary.ca
SUMMARY:KnitCetera
DESCRIPTION:Drop in with your project to chat and share with other yarn enthusiasts. All fibre arts are welcome\, and those who want to learn how to knit or crochet are welcome to come and join in!  \nNo registration is required for this event.
URL:https://www.brightonlibrary.ca/event-calendar/knitcetera-2/2026-03-11/
LOCATION:Brighton Public Library\, 35 Alice St\, Brighton\, Ontario\, K0K 1H0\, Canada
CATEGORIES:Crafty,Drop-In,Recurring Program
ATTACH;FMTTYPE=image/png:https://www.brightonlibrary.ca/wp-content/uploads/KnitCetera-Banner.png
END:VEVENT
BEGIN:VEVENT
DTSTART;TZID=America/Toronto:20260317T130000
DTEND;TZID=America/Toronto:20260317T190000
DTSTAMP:20260421T001732
CREATED:20250303T162536Z
LAST-MODIFIED:20260205T185936Z
UID:10002893-1773752400-1773774000@www.brightonlibrary.ca
SUMMARY:Tech Tuesdays
DESCRIPTION:Bring in your device or get help navigating the digital library\, by booking a 30-minute session with our staff. This one-on-one help is offered twice a month\, and is a very popular service. \nBecause we need to discuss your tech issue and select an appropriate time slot there is no online registration available for this program. Please visit the Main Desk or call the library during open hours to register: 613-475-2511.
URL:https://www.brightonlibrary.ca/event-calendar/tech-tuesdays-4/2026-03-17/
LOCATION:Brighton Public Library\, 35 Alice St\, Brighton\, Ontario\, K0K 1H0\, Canada
CATEGORIES:Adults,Recurring Program,Registration Required
ATTACH;FMTTYPE=image/png:https://www.brightonlibrary.ca/wp-content/uploads/Tech-Tuesdays-FB-Banner-1.png
END:VEVENT
BEGIN:VEVENT
DTSTART;TZID=America/Toronto:20260318T123000
DTEND;TZID=America/Toronto:20260318T143000
DTSTAMP:20260421T001732
CREATED:20241223T164321Z
LAST-MODIFIED:20251030T162458Z
UID:10000655-1773837000-1773844200@www.brightonlibrary.ca
SUMMARY:KnitCetera
DESCRIPTION:Drop in with your project to chat and share with other yarn enthusiasts. All fibre arts are welcome\, and those who want to learn how to knit or crochet are welcome to come and join in!  \nNo registration is required for this event.
URL:https://www.brightonlibrary.ca/event-calendar/knitcetera-2/2026-03-18/
LOCATION:Brighton Public Library\, 35 Alice St\, Brighton\, Ontario\, K0K 1H0\, Canada
CATEGORIES:Crafty,Drop-In,Recurring Program
ATTACH;FMTTYPE=image/png:https://www.brightonlibrary.ca/wp-content/uploads/KnitCetera-Banner.png
END:VEVENT
BEGIN:VEVENT
DTSTART;TZID=America/Toronto:20260319T103000
DTEND;TZID=America/Toronto:20260319T113000
DTSTAMP:20260421T001732
CREATED:20241217T171210Z
LAST-MODIFIED:20260122T161802Z
UID:10000081-1773916200-1773919800@www.brightonlibrary.ca
SUMMARY:Song & Story Hour
DESCRIPTION:Join Terry and Penny for sing-alongs and story books during this one hour program. This program is tailored to preschool children\, but we love to see all ages enjoy the stories and songs. \nOnce a month\, our friend Johanne helps us learn songs in French\, and brings a favourite French story to share! \nNo registration is required.  \n 
URL:https://www.brightonlibrary.ca/event-calendar/song-story-hour/2026-03-19/
LOCATION:Brighton Public Library\, 35 Alice St\, Brighton\, Ontario\, K0K 1H0\, Canada
CATEGORIES:Drop-In,Kids,Recurring Program
ATTACH;FMTTYPE=image/png:https://www.brightonlibrary.ca/wp-content/uploads/Song-and-Story-FB-Banner.png
END:VEVENT
BEGIN:VEVENT
DTSTART;TZID=America/Toronto:20260325T123000
DTEND;TZID=America/Toronto:20260325T143000
DTSTAMP:20260421T001732
CREATED:20241223T164321Z
LAST-MODIFIED:20251030T162458Z
UID:10000656-1774441800-1774449000@www.brightonlibrary.ca
SUMMARY:KnitCetera
DESCRIPTION:Drop in with your project to chat and share with other yarn enthusiasts. All fibre arts are welcome\, and those who want to learn how to knit or crochet are welcome to come and join in!  \nNo registration is required for this event.
URL:https://www.brightonlibrary.ca/event-calendar/knitcetera-2/2026-03-25/
LOCATION:Brighton Public Library\, 35 Alice St\, Brighton\, Ontario\, K0K 1H0\, Canada
CATEGORIES:Crafty,Drop-In,Recurring Program
ATTACH;FMTTYPE=image/png:https://www.brightonlibrary.ca/wp-content/uploads/KnitCetera-Banner.png
END:VEVENT
BEGIN:VEVENT
DTSTART;TZID=America/Toronto:20260326T103000
DTEND;TZID=America/Toronto:20260326T113000
DTSTAMP:20260421T001732
CREATED:20241217T171210Z
LAST-MODIFIED:20260122T161802Z
UID:10000082-1774521000-1774524600@www.brightonlibrary.ca
SUMMARY:Song & Story Hour
DESCRIPTION:Join Terry and Penny for sing-alongs and story books during this one hour program. This program is tailored to preschool children\, but we love to see all ages enjoy the stories and songs. \nOnce a month\, our friend Johanne helps us learn songs in French\, and brings a favourite French story to share! \nNo registration is required.  \n 
URL:https://www.brightonlibrary.ca/event-calendar/song-story-hour/2026-03-26/
LOCATION:Brighton Public Library\, 35 Alice St\, Brighton\, Ontario\, K0K 1H0\, Canada
CATEGORIES:Drop-In,Kids,Recurring Program
ATTACH;FMTTYPE=image/png:https://www.brightonlibrary.ca/wp-content/uploads/Song-and-Story-FB-Banner.png
END:VEVENT
BEGIN:VEVENT
DTSTART;TZID=America/Toronto:20260328T103000
DTEND;TZID=America/Toronto:20260328T120000
DTSTAMP:20260421T001732
CREATED:20250828T175926Z
LAST-MODIFIED:20260326T235434Z
UID:10002940-1774693800-1774699200@www.brightonlibrary.ca
SUMMARY:EarlyOn at the Library
DESCRIPTION:Join Sam from EarlyOn for a fun morning of open-ended play at the library! \nNo registration is required.
URL:https://www.brightonlibrary.ca/event-calendar/earlyon-at-the-library-3/2026-03-28/
LOCATION:Brighton Public Library\, 35 Alice St\, Brighton\, Ontario\, K0K 1H0\, Canada
CATEGORIES:Drop-In,Kids,Recurring Program
ATTACH;FMTTYPE=image/png:https://www.brightonlibrary.ca/wp-content/uploads/EarlyOn-at-the-Library-FB-Cover-2.png
END:VEVENT
END:VCALENDAR