BEGIN:VCALENDAR
VERSION:2.0
PRODID:-//Brighton Public Library - ECPv6.15.20//NONSGML v1.0//EN
CALSCALE:GREGORIAN
METHOD:PUBLISH
X-WR-CALNAME:Brighton Public Library
X-ORIGINAL-URL:https://www.brightonlibrary.ca
X-WR-CALDESC:Events for Brighton Public Library
REFRESH-INTERVAL;VALUE=DURATION:PT1H
X-Robots-Tag:noindex
X-PUBLISHED-TTL:PT1H
BEGIN:VTIMEZONE
TZID:America/Toronto
BEGIN:DAYLIGHT
TZOFFSETFROM:-0500
TZOFFSETTO:-0400
TZNAME:EDT
DTSTART:20250309T070000
END:DAYLIGHT
BEGIN:STANDARD
TZOFFSETFROM:-0400
TZOFFSETTO:-0500
TZNAME:EST
DTSTART:20251102T060000
END:STANDARD
BEGIN:DAYLIGHT
TZOFFSETFROM:-0500
TZOFFSETTO:-0400
TZNAME:EDT
DTSTART:20260308T070000
END:DAYLIGHT
BEGIN:STANDARD
TZOFFSETFROM:-0400
TZOFFSETTO:-0500
TZNAME:EST
DTSTART:20261101T060000
END:STANDARD
BEGIN:DAYLIGHT
TZOFFSETFROM:-0500
TZOFFSETTO:-0400
TZNAME:EDT
DTSTART:20270314T070000
END:DAYLIGHT
BEGIN:STANDARD
TZOFFSETFROM:-0400
TZOFFSETTO:-0500
TZNAME:EST
DTSTART:20271107T060000
END:STANDARD
BEGIN:DAYLIGHT
TZOFFSETFROM:-0500
TZOFFSETTO:-0400
TZNAME:EDT
DTSTART:20280312T070000
END:DAYLIGHT
BEGIN:STANDARD
TZOFFSETFROM:-0400
TZOFFSETTO:-0500
TZNAME:EST
DTSTART:20281105T060000
END:STANDARD
END:VTIMEZONE
BEGIN:VEVENT
DTSTART;TZID=America/Toronto:20261105T103000
DTEND;TZID=America/Toronto:20261105T113000
DTSTAMP:20260421T063934
CREATED:20241217T171210Z
LAST-MODIFIED:20260122T161802Z
UID:10000114-1793874600-1793878200@www.brightonlibrary.ca
SUMMARY:Song & Story Hour
DESCRIPTION:Join Terry and Penny for sing-alongs and story books during this one hour program. This program is tailored to preschool children\, but we love to see all ages enjoy the stories and songs. \nOnce a month\, our friend Johanne helps us learn songs in French\, and brings a favourite French story to share! \nNo registration is required.  \n 
URL:https://www.brightonlibrary.ca/event-calendar/song-story-hour/2026-11-05/
LOCATION:Brighton Public Library\, 35 Alice St\, Brighton\, Ontario\, K0K 1H0\, Canada
CATEGORIES:Drop-In,Kids,Recurring Program
ATTACH;FMTTYPE=image/png:https://www.brightonlibrary.ca/wp-content/uploads/Song-and-Story-FB-Banner.png
END:VEVENT
BEGIN:VEVENT
DTSTART;TZID=America/Toronto:20261107T103000
DTEND;TZID=America/Toronto:20261107T113000
DTSTAMP:20260421T063934
CREATED:20241223T164854Z
LAST-MODIFIED:20250227T185720Z
UID:10001384-1794047400-1794051000@www.brightonlibrary.ca
SUMMARY:Spanish Circle
DESCRIPTION:Join Sofia to practise your Spanish and make new amigos in a relaxed\, conversational group. All ages and skill levels are welcome.
URL:https://www.brightonlibrary.ca/event-calendar/spanish-circle/2026-11-07/
LOCATION:Brighton Public Library\, 35 Alice St\, Brighton\, Ontario\, K0K 1H0\, Canada
CATEGORIES:All Ages,Recurring Program
ATTACH;FMTTYPE=image/png:https://www.brightonlibrary.ca/wp-content/uploads/Spanish-Circle-FB-Cover.png
END:VEVENT
BEGIN:VEVENT
DTSTART;TZID=America/Toronto:20261110T180000
DTEND;TZID=America/Toronto:20261110T200000
DTSTAMP:20260421T063934
CREATED:20260210T164145Z
LAST-MODIFIED:20260210T170019Z
UID:10002915-1794333600-1794340800@www.brightonlibrary.ca
SUMMARY:Writers Circle
DESCRIPTION:Bring your writing project and get feedback in this supportive setting with other aspiring writers. Participants are invited to bring up to 1\,000 words or fiction or creative non-fiction\, or 3 pages of poetry\, to share and discuss with one another. Each month’s gathering is hosted by a local published author\, who will also share their process and provide insights. \nThis group will meet on the second Tuesday of each month\, and no registration is required.
URL:https://www.brightonlibrary.ca/event-calendar/writers-circle/2026-11-10/
LOCATION:Brighton Public Library\, 35 Alice St\, Brighton\, Ontario\, K0K 1H0\, Canada
CATEGORIES:Adults,Drop-In,Recurring Program,Writing
ATTACH;FMTTYPE=image/png:https://www.brightonlibrary.ca/wp-content/uploads/Writers-Circle-Feature-Image.png
END:VEVENT
BEGIN:VEVENT
DTSTART;TZID=America/Toronto:20261111T123000
DTEND;TZID=America/Toronto:20261111T143000
DTSTAMP:20260421T063934
CREATED:20241223T164321Z
LAST-MODIFIED:20251030T162458Z
UID:10000689-1794400200-1794407400@www.brightonlibrary.ca
SUMMARY:KnitCetera
DESCRIPTION:Drop in with your project to chat and share with other yarn enthusiasts. All fibre arts are welcome\, and those who want to learn how to knit or crochet are welcome to come and join in!  \nNo registration is required for this event.
URL:https://www.brightonlibrary.ca/event-calendar/knitcetera-2/2026-11-11/
LOCATION:Brighton Public Library\, 35 Alice St\, Brighton\, Ontario\, K0K 1H0\, Canada
CATEGORIES:Crafty,Drop-In,Recurring Program
ATTACH;FMTTYPE=image/png:https://www.brightonlibrary.ca/wp-content/uploads/KnitCetera-Banner.png
END:VEVENT
BEGIN:VEVENT
DTSTART;TZID=America/Toronto:20261112T103000
DTEND;TZID=America/Toronto:20261112T113000
DTSTAMP:20260421T063934
CREATED:20241217T171210Z
LAST-MODIFIED:20260122T161802Z
UID:10000115-1794479400-1794483000@www.brightonlibrary.ca
SUMMARY:Song & Story Hour
DESCRIPTION:Join Terry and Penny for sing-alongs and story books during this one hour program. This program is tailored to preschool children\, but we love to see all ages enjoy the stories and songs. \nOnce a month\, our friend Johanne helps us learn songs in French\, and brings a favourite French story to share! \nNo registration is required.  \n 
URL:https://www.brightonlibrary.ca/event-calendar/song-story-hour/2026-11-12/
LOCATION:Brighton Public Library\, 35 Alice St\, Brighton\, Ontario\, K0K 1H0\, Canada
CATEGORIES:Drop-In,Kids,Recurring Program
ATTACH;FMTTYPE=image/png:https://www.brightonlibrary.ca/wp-content/uploads/Song-and-Story-FB-Banner.png
END:VEVENT
BEGIN:VEVENT
DTSTART;TZID=America/Toronto:20261118T123000
DTEND;TZID=America/Toronto:20261118T143000
DTSTAMP:20260421T063934
CREATED:20241223T164321Z
LAST-MODIFIED:20251030T162458Z
UID:10000690-1795005000-1795012200@www.brightonlibrary.ca
SUMMARY:KnitCetera
DESCRIPTION:Drop in with your project to chat and share with other yarn enthusiasts. All fibre arts are welcome\, and those who want to learn how to knit or crochet are welcome to come and join in!  \nNo registration is required for this event.
URL:https://www.brightonlibrary.ca/event-calendar/knitcetera-2/2026-11-18/
LOCATION:Brighton Public Library\, 35 Alice St\, Brighton\, Ontario\, K0K 1H0\, Canada
CATEGORIES:Crafty,Drop-In,Recurring Program
ATTACH;FMTTYPE=image/png:https://www.brightonlibrary.ca/wp-content/uploads/KnitCetera-Banner.png
END:VEVENT
BEGIN:VEVENT
DTSTART;TZID=America/Toronto:20261119T103000
DTEND;TZID=America/Toronto:20261119T113000
DTSTAMP:20260421T063934
CREATED:20241217T171210Z
LAST-MODIFIED:20260122T161802Z
UID:10000116-1795084200-1795087800@www.brightonlibrary.ca
SUMMARY:Song & Story Hour
DESCRIPTION:Join Terry and Penny for sing-alongs and story books during this one hour program. This program is tailored to preschool children\, but we love to see all ages enjoy the stories and songs. \nOnce a month\, our friend Johanne helps us learn songs in French\, and brings a favourite French story to share! \nNo registration is required.  \n 
URL:https://www.brightonlibrary.ca/event-calendar/song-story-hour/2026-11-19/
LOCATION:Brighton Public Library\, 35 Alice St\, Brighton\, Ontario\, K0K 1H0\, Canada
CATEGORIES:Drop-In,Kids,Recurring Program
ATTACH;FMTTYPE=image/png:https://www.brightonlibrary.ca/wp-content/uploads/Song-and-Story-FB-Banner.png
END:VEVENT
BEGIN:VEVENT
DTSTART;TZID=America/Toronto:20261125T123000
DTEND;TZID=America/Toronto:20261125T143000
DTSTAMP:20260421T063934
CREATED:20241223T164321Z
LAST-MODIFIED:20251030T162458Z
UID:10000691-1795609800-1795617000@www.brightonlibrary.ca
SUMMARY:KnitCetera
DESCRIPTION:Drop in with your project to chat and share with other yarn enthusiasts. All fibre arts are welcome\, and those who want to learn how to knit or crochet are welcome to come and join in!  \nNo registration is required for this event.
URL:https://www.brightonlibrary.ca/event-calendar/knitcetera-2/2026-11-25/
LOCATION:Brighton Public Library\, 35 Alice St\, Brighton\, Ontario\, K0K 1H0\, Canada
CATEGORIES:Crafty,Drop-In,Recurring Program
ATTACH;FMTTYPE=image/png:https://www.brightonlibrary.ca/wp-content/uploads/KnitCetera-Banner.png
END:VEVENT
BEGIN:VEVENT
DTSTART;TZID=America/Toronto:20261126T103000
DTEND;TZID=America/Toronto:20261126T113000
DTSTAMP:20260421T063934
CREATED:20241217T171210Z
LAST-MODIFIED:20260122T161802Z
UID:10000117-1795689000-1795692600@www.brightonlibrary.ca
SUMMARY:Song & Story Hour
DESCRIPTION:Join Terry and Penny for sing-alongs and story books during this one hour program. This program is tailored to preschool children\, but we love to see all ages enjoy the stories and songs. \nOnce a month\, our friend Johanne helps us learn songs in French\, and brings a favourite French story to share! \nNo registration is required.  \n 
URL:https://www.brightonlibrary.ca/event-calendar/song-story-hour/2026-11-26/
LOCATION:Brighton Public Library\, 35 Alice St\, Brighton\, Ontario\, K0K 1H0\, Canada
CATEGORIES:Drop-In,Kids,Recurring Program
ATTACH;FMTTYPE=image/png:https://www.brightonlibrary.ca/wp-content/uploads/Song-and-Story-FB-Banner.png
END:VEVENT
BEGIN:VEVENT
DTSTART;TZID=America/Toronto:20261202T123000
DTEND;TZID=America/Toronto:20261202T143000
DTSTAMP:20260421T063934
CREATED:20241223T164321Z
LAST-MODIFIED:20251030T162458Z
UID:10000692-1796214600-1796221800@www.brightonlibrary.ca
SUMMARY:KnitCetera
DESCRIPTION:Drop in with your project to chat and share with other yarn enthusiasts. All fibre arts are welcome\, and those who want to learn how to knit or crochet are welcome to come and join in!  \nNo registration is required for this event.
URL:https://www.brightonlibrary.ca/event-calendar/knitcetera-2/2026-12-02/
LOCATION:Brighton Public Library\, 35 Alice St\, Brighton\, Ontario\, K0K 1H0\, Canada
CATEGORIES:Crafty,Drop-In,Recurring Program
ATTACH;FMTTYPE=image/png:https://www.brightonlibrary.ca/wp-content/uploads/KnitCetera-Banner.png
END:VEVENT
BEGIN:VEVENT
DTSTART;TZID=America/Toronto:20261203T103000
DTEND;TZID=America/Toronto:20261203T113000
DTSTAMP:20260421T063934
CREATED:20241217T171210Z
LAST-MODIFIED:20260122T161802Z
UID:10000118-1796293800-1796297400@www.brightonlibrary.ca
SUMMARY:Song & Story Hour
DESCRIPTION:Join Terry and Penny for sing-alongs and story books during this one hour program. This program is tailored to preschool children\, but we love to see all ages enjoy the stories and songs. \nOnce a month\, our friend Johanne helps us learn songs in French\, and brings a favourite French story to share! \nNo registration is required.  \n 
URL:https://www.brightonlibrary.ca/event-calendar/song-story-hour/2026-12-03/
LOCATION:Brighton Public Library\, 35 Alice St\, Brighton\, Ontario\, K0K 1H0\, Canada
CATEGORIES:Drop-In,Kids,Recurring Program
ATTACH;FMTTYPE=image/png:https://www.brightonlibrary.ca/wp-content/uploads/Song-and-Story-FB-Banner.png
END:VEVENT
BEGIN:VEVENT
DTSTART;TZID=America/Toronto:20261205T103000
DTEND;TZID=America/Toronto:20261205T113000
DTSTAMP:20260421T063934
CREATED:20241223T164854Z
LAST-MODIFIED:20250227T185720Z
UID:10001385-1796466600-1796470200@www.brightonlibrary.ca
SUMMARY:Spanish Circle
DESCRIPTION:Join Sofia to practise your Spanish and make new amigos in a relaxed\, conversational group. All ages and skill levels are welcome.
URL:https://www.brightonlibrary.ca/event-calendar/spanish-circle/2026-12-05/
LOCATION:Brighton Public Library\, 35 Alice St\, Brighton\, Ontario\, K0K 1H0\, Canada
CATEGORIES:All Ages,Recurring Program
ATTACH;FMTTYPE=image/png:https://www.brightonlibrary.ca/wp-content/uploads/Spanish-Circle-FB-Cover.png
END:VEVENT
BEGIN:VEVENT
DTSTART;TZID=America/Toronto:20261208T180000
DTEND;TZID=America/Toronto:20261208T200000
DTSTAMP:20260421T063934
CREATED:20260210T164145Z
LAST-MODIFIED:20260210T170019Z
UID:10002916-1796752800-1796760000@www.brightonlibrary.ca
SUMMARY:Writers Circle
DESCRIPTION:Bring your writing project and get feedback in this supportive setting with other aspiring writers. Participants are invited to bring up to 1\,000 words or fiction or creative non-fiction\, or 3 pages of poetry\, to share and discuss with one another. Each month’s gathering is hosted by a local published author\, who will also share their process and provide insights. \nThis group will meet on the second Tuesday of each month\, and no registration is required.
URL:https://www.brightonlibrary.ca/event-calendar/writers-circle/2026-12-08/
LOCATION:Brighton Public Library\, 35 Alice St\, Brighton\, Ontario\, K0K 1H0\, Canada
CATEGORIES:Adults,Drop-In,Recurring Program,Writing
ATTACH;FMTTYPE=image/png:https://www.brightonlibrary.ca/wp-content/uploads/Writers-Circle-Feature-Image.png
END:VEVENT
BEGIN:VEVENT
DTSTART;TZID=America/Toronto:20261209T123000
DTEND;TZID=America/Toronto:20261209T143000
DTSTAMP:20260421T063934
CREATED:20241223T164321Z
LAST-MODIFIED:20251030T162458Z
UID:10000693-1796819400-1796826600@www.brightonlibrary.ca
SUMMARY:KnitCetera
DESCRIPTION:Drop in with your project to chat and share with other yarn enthusiasts. All fibre arts are welcome\, and those who want to learn how to knit or crochet are welcome to come and join in!  \nNo registration is required for this event.
URL:https://www.brightonlibrary.ca/event-calendar/knitcetera-2/2026-12-09/
LOCATION:Brighton Public Library\, 35 Alice St\, Brighton\, Ontario\, K0K 1H0\, Canada
CATEGORIES:Crafty,Drop-In,Recurring Program
ATTACH;FMTTYPE=image/png:https://www.brightonlibrary.ca/wp-content/uploads/KnitCetera-Banner.png
END:VEVENT
BEGIN:VEVENT
DTSTART;TZID=America/Toronto:20261210T103000
DTEND;TZID=America/Toronto:20261210T113000
DTSTAMP:20260421T063934
CREATED:20241217T171210Z
LAST-MODIFIED:20260122T161802Z
UID:10000119-1796898600-1796902200@www.brightonlibrary.ca
SUMMARY:Song & Story Hour
DESCRIPTION:Join Terry and Penny for sing-alongs and story books during this one hour program. This program is tailored to preschool children\, but we love to see all ages enjoy the stories and songs. \nOnce a month\, our friend Johanne helps us learn songs in French\, and brings a favourite French story to share! \nNo registration is required.  \n 
URL:https://www.brightonlibrary.ca/event-calendar/song-story-hour/2026-12-10/
LOCATION:Brighton Public Library\, 35 Alice St\, Brighton\, Ontario\, K0K 1H0\, Canada
CATEGORIES:Drop-In,Kids,Recurring Program
ATTACH;FMTTYPE=image/png:https://www.brightonlibrary.ca/wp-content/uploads/Song-and-Story-FB-Banner.png
END:VEVENT
BEGIN:VEVENT
DTSTART;TZID=America/Toronto:20261216T123000
DTEND;TZID=America/Toronto:20261216T143000
DTSTAMP:20260421T063934
CREATED:20241223T164321Z
LAST-MODIFIED:20251030T162458Z
UID:10000694-1797424200-1797431400@www.brightonlibrary.ca
SUMMARY:KnitCetera
DESCRIPTION:Drop in with your project to chat and share with other yarn enthusiasts. All fibre arts are welcome\, and those who want to learn how to knit or crochet are welcome to come and join in!  \nNo registration is required for this event.
URL:https://www.brightonlibrary.ca/event-calendar/knitcetera-2/2026-12-16/
LOCATION:Brighton Public Library\, 35 Alice St\, Brighton\, Ontario\, K0K 1H0\, Canada
CATEGORIES:Crafty,Drop-In,Recurring Program
ATTACH;FMTTYPE=image/png:https://www.brightonlibrary.ca/wp-content/uploads/KnitCetera-Banner.png
END:VEVENT
BEGIN:VEVENT
DTSTART;TZID=America/Toronto:20261217T103000
DTEND;TZID=America/Toronto:20261217T113000
DTSTAMP:20260421T063934
CREATED:20241217T171210Z
LAST-MODIFIED:20260122T161802Z
UID:10000120-1797503400-1797507000@www.brightonlibrary.ca
SUMMARY:Song & Story Hour
DESCRIPTION:Join Terry and Penny for sing-alongs and story books during this one hour program. This program is tailored to preschool children\, but we love to see all ages enjoy the stories and songs. \nOnce a month\, our friend Johanne helps us learn songs in French\, and brings a favourite French story to share! \nNo registration is required.  \n 
URL:https://www.brightonlibrary.ca/event-calendar/song-story-hour/2026-12-17/
LOCATION:Brighton Public Library\, 35 Alice St\, Brighton\, Ontario\, K0K 1H0\, Canada
CATEGORIES:Drop-In,Kids,Recurring Program
ATTACH;FMTTYPE=image/png:https://www.brightonlibrary.ca/wp-content/uploads/Song-and-Story-FB-Banner.png
END:VEVENT
BEGIN:VEVENT
DTSTART;TZID=America/Toronto:20261223T123000
DTEND;TZID=America/Toronto:20261223T143000
DTSTAMP:20260421T063934
CREATED:20241223T164321Z
LAST-MODIFIED:20251030T162458Z
UID:10000695-1798029000-1798036200@www.brightonlibrary.ca
SUMMARY:KnitCetera
DESCRIPTION:Drop in with your project to chat and share with other yarn enthusiasts. All fibre arts are welcome\, and those who want to learn how to knit or crochet are welcome to come and join in!  \nNo registration is required for this event.
URL:https://www.brightonlibrary.ca/event-calendar/knitcetera-2/2026-12-23/
LOCATION:Brighton Public Library\, 35 Alice St\, Brighton\, Ontario\, K0K 1H0\, Canada
CATEGORIES:Crafty,Drop-In,Recurring Program
ATTACH;FMTTYPE=image/png:https://www.brightonlibrary.ca/wp-content/uploads/KnitCetera-Banner.png
END:VEVENT
BEGIN:VEVENT
DTSTART;TZID=America/Toronto:20261224T103000
DTEND;TZID=America/Toronto:20261224T113000
DTSTAMP:20260421T063934
CREATED:20241217T171210Z
LAST-MODIFIED:20260122T161802Z
UID:10000121-1798108200-1798111800@www.brightonlibrary.ca
SUMMARY:Song & Story Hour
DESCRIPTION:Join Terry and Penny for sing-alongs and story books during this one hour program. This program is tailored to preschool children\, but we love to see all ages enjoy the stories and songs. \nOnce a month\, our friend Johanne helps us learn songs in French\, and brings a favourite French story to share! \nNo registration is required.  \n 
URL:https://www.brightonlibrary.ca/event-calendar/song-story-hour/2026-12-24/
LOCATION:Brighton Public Library\, 35 Alice St\, Brighton\, Ontario\, K0K 1H0\, Canada
CATEGORIES:Drop-In,Kids,Recurring Program
ATTACH;FMTTYPE=image/png:https://www.brightonlibrary.ca/wp-content/uploads/Song-and-Story-FB-Banner.png
END:VEVENT
BEGIN:VEVENT
DTSTART;TZID=America/Toronto:20261230T123000
DTEND;TZID=America/Toronto:20261230T143000
DTSTAMP:20260421T063934
CREATED:20241223T164321Z
LAST-MODIFIED:20251030T162458Z
UID:10000696-1798633800-1798641000@www.brightonlibrary.ca
SUMMARY:KnitCetera
DESCRIPTION:Drop in with your project to chat and share with other yarn enthusiasts. All fibre arts are welcome\, and those who want to learn how to knit or crochet are welcome to come and join in!  \nNo registration is required for this event.
URL:https://www.brightonlibrary.ca/event-calendar/knitcetera-2/2026-12-30/
LOCATION:Brighton Public Library\, 35 Alice St\, Brighton\, Ontario\, K0K 1H0\, Canada
CATEGORIES:Crafty,Drop-In,Recurring Program
ATTACH;FMTTYPE=image/png:https://www.brightonlibrary.ca/wp-content/uploads/KnitCetera-Banner.png
END:VEVENT
BEGIN:VEVENT
DTSTART;TZID=America/Toronto:20261231T103000
DTEND;TZID=America/Toronto:20261231T113000
DTSTAMP:20260421T063934
CREATED:20241217T171210Z
LAST-MODIFIED:20260122T161802Z
UID:10000122-1798713000-1798716600@www.brightonlibrary.ca
SUMMARY:Song & Story Hour
DESCRIPTION:Join Terry and Penny for sing-alongs and story books during this one hour program. This program is tailored to preschool children\, but we love to see all ages enjoy the stories and songs. \nOnce a month\, our friend Johanne helps us learn songs in French\, and brings a favourite French story to share! \nNo registration is required.  \n 
URL:https://www.brightonlibrary.ca/event-calendar/song-story-hour/2026-12-31/
LOCATION:Brighton Public Library\, 35 Alice St\, Brighton\, Ontario\, K0K 1H0\, Canada
CATEGORIES:Drop-In,Kids,Recurring Program
ATTACH;FMTTYPE=image/png:https://www.brightonlibrary.ca/wp-content/uploads/Song-and-Story-FB-Banner.png
END:VEVENT
BEGIN:VEVENT
DTSTART;TZID=America/Toronto:20270102T103000
DTEND;TZID=America/Toronto:20270102T113000
DTSTAMP:20260421T063934
CREATED:20241223T164854Z
LAST-MODIFIED:20250227T185720Z
UID:10001386-1798885800-1798889400@www.brightonlibrary.ca
SUMMARY:Spanish Circle
DESCRIPTION:Join Sofia to practise your Spanish and make new amigos in a relaxed\, conversational group. All ages and skill levels are welcome.
URL:https://www.brightonlibrary.ca/event-calendar/spanish-circle/2027-01-02/
LOCATION:Brighton Public Library\, 35 Alice St\, Brighton\, Ontario\, K0K 1H0\, Canada
CATEGORIES:All Ages,Recurring Program
ATTACH;FMTTYPE=image/png:https://www.brightonlibrary.ca/wp-content/uploads/Spanish-Circle-FB-Cover.png
END:VEVENT
BEGIN:VEVENT
DTSTART;TZID=America/Toronto:20270106T123000
DTEND;TZID=America/Toronto:20270106T143000
DTSTAMP:20260421T063934
CREATED:20241223T164321Z
LAST-MODIFIED:20251030T162458Z
UID:10000697-1799238600-1799245800@www.brightonlibrary.ca
SUMMARY:KnitCetera
DESCRIPTION:Drop in with your project to chat and share with other yarn enthusiasts. All fibre arts are welcome\, and those who want to learn how to knit or crochet are welcome to come and join in!  \nNo registration is required for this event.
URL:https://www.brightonlibrary.ca/event-calendar/knitcetera-2/2027-01-06/
LOCATION:Brighton Public Library\, 35 Alice St\, Brighton\, Ontario\, K0K 1H0\, Canada
CATEGORIES:Crafty,Drop-In,Recurring Program
ATTACH;FMTTYPE=image/png:https://www.brightonlibrary.ca/wp-content/uploads/KnitCetera-Banner.png
END:VEVENT
BEGIN:VEVENT
DTSTART;TZID=America/Toronto:20270107T103000
DTEND;TZID=America/Toronto:20270107T113000
DTSTAMP:20260421T063934
CREATED:20241217T171210Z
LAST-MODIFIED:20260122T161802Z
UID:10000123-1799317800-1799321400@www.brightonlibrary.ca
SUMMARY:Song & Story Hour
DESCRIPTION:Join Terry and Penny for sing-alongs and story books during this one hour program. This program is tailored to preschool children\, but we love to see all ages enjoy the stories and songs. \nOnce a month\, our friend Johanne helps us learn songs in French\, and brings a favourite French story to share! \nNo registration is required.  \n 
URL:https://www.brightonlibrary.ca/event-calendar/song-story-hour/2027-01-07/
LOCATION:Brighton Public Library\, 35 Alice St\, Brighton\, Ontario\, K0K 1H0\, Canada
CATEGORIES:Drop-In,Kids,Recurring Program
ATTACH;FMTTYPE=image/png:https://www.brightonlibrary.ca/wp-content/uploads/Song-and-Story-FB-Banner.png
END:VEVENT
BEGIN:VEVENT
DTSTART;TZID=America/Toronto:20270112T180000
DTEND;TZID=America/Toronto:20270112T200000
DTSTAMP:20260421T063934
CREATED:20260210T164145Z
LAST-MODIFIED:20260210T170019Z
UID:10002917-1799776800-1799784000@www.brightonlibrary.ca
SUMMARY:Writers Circle
DESCRIPTION:Bring your writing project and get feedback in this supportive setting with other aspiring writers. Participants are invited to bring up to 1\,000 words or fiction or creative non-fiction\, or 3 pages of poetry\, to share and discuss with one another. Each month’s gathering is hosted by a local published author\, who will also share their process and provide insights. \nThis group will meet on the second Tuesday of each month\, and no registration is required.
URL:https://www.brightonlibrary.ca/event-calendar/writers-circle/2027-01-12/
LOCATION:Brighton Public Library\, 35 Alice St\, Brighton\, Ontario\, K0K 1H0\, Canada
CATEGORIES:Adults,Drop-In,Recurring Program,Writing
ATTACH;FMTTYPE=image/png:https://www.brightonlibrary.ca/wp-content/uploads/Writers-Circle-Feature-Image.png
END:VEVENT
BEGIN:VEVENT
DTSTART;TZID=America/Toronto:20270113T123000
DTEND;TZID=America/Toronto:20270113T143000
DTSTAMP:20260421T063934
CREATED:20241223T164321Z
LAST-MODIFIED:20251030T162458Z
UID:10000698-1799843400-1799850600@www.brightonlibrary.ca
SUMMARY:KnitCetera
DESCRIPTION:Drop in with your project to chat and share with other yarn enthusiasts. All fibre arts are welcome\, and those who want to learn how to knit or crochet are welcome to come and join in!  \nNo registration is required for this event.
URL:https://www.brightonlibrary.ca/event-calendar/knitcetera-2/2027-01-13/
LOCATION:Brighton Public Library\, 35 Alice St\, Brighton\, Ontario\, K0K 1H0\, Canada
CATEGORIES:Crafty,Drop-In,Recurring Program
ATTACH;FMTTYPE=image/png:https://www.brightonlibrary.ca/wp-content/uploads/KnitCetera-Banner.png
END:VEVENT
BEGIN:VEVENT
DTSTART;TZID=America/Toronto:20270114T103000
DTEND;TZID=America/Toronto:20270114T113000
DTSTAMP:20260421T063934
CREATED:20241217T171210Z
LAST-MODIFIED:20260122T161802Z
UID:10000124-1799922600-1799926200@www.brightonlibrary.ca
SUMMARY:Song & Story Hour
DESCRIPTION:Join Terry and Penny for sing-alongs and story books during this one hour program. This program is tailored to preschool children\, but we love to see all ages enjoy the stories and songs. \nOnce a month\, our friend Johanne helps us learn songs in French\, and brings a favourite French story to share! \nNo registration is required.  \n 
URL:https://www.brightonlibrary.ca/event-calendar/song-story-hour/2027-01-14/
LOCATION:Brighton Public Library\, 35 Alice St\, Brighton\, Ontario\, K0K 1H0\, Canada
CATEGORIES:Drop-In,Kids,Recurring Program
ATTACH;FMTTYPE=image/png:https://www.brightonlibrary.ca/wp-content/uploads/Song-and-Story-FB-Banner.png
END:VEVENT
BEGIN:VEVENT
DTSTART;TZID=America/Toronto:20270120T123000
DTEND;TZID=America/Toronto:20270120T143000
DTSTAMP:20260421T063934
CREATED:20241223T164321Z
LAST-MODIFIED:20251030T162458Z
UID:10000699-1800448200-1800455400@www.brightonlibrary.ca
SUMMARY:KnitCetera
DESCRIPTION:Drop in with your project to chat and share with other yarn enthusiasts. All fibre arts are welcome\, and those who want to learn how to knit or crochet are welcome to come and join in!  \nNo registration is required for this event.
URL:https://www.brightonlibrary.ca/event-calendar/knitcetera-2/2027-01-20/
LOCATION:Brighton Public Library\, 35 Alice St\, Brighton\, Ontario\, K0K 1H0\, Canada
CATEGORIES:Crafty,Drop-In,Recurring Program
ATTACH;FMTTYPE=image/png:https://www.brightonlibrary.ca/wp-content/uploads/KnitCetera-Banner.png
END:VEVENT
BEGIN:VEVENT
DTSTART;TZID=America/Toronto:20270121T103000
DTEND;TZID=America/Toronto:20270121T113000
DTSTAMP:20260421T063934
CREATED:20241217T171210Z
LAST-MODIFIED:20260122T161802Z
UID:10000125-1800527400-1800531000@www.brightonlibrary.ca
SUMMARY:Song & Story Hour
DESCRIPTION:Join Terry and Penny for sing-alongs and story books during this one hour program. This program is tailored to preschool children\, but we love to see all ages enjoy the stories and songs. \nOnce a month\, our friend Johanne helps us learn songs in French\, and brings a favourite French story to share! \nNo registration is required.  \n 
URL:https://www.brightonlibrary.ca/event-calendar/song-story-hour/2027-01-21/
LOCATION:Brighton Public Library\, 35 Alice St\, Brighton\, Ontario\, K0K 1H0\, Canada
CATEGORIES:Drop-In,Kids,Recurring Program
ATTACH;FMTTYPE=image/png:https://www.brightonlibrary.ca/wp-content/uploads/Song-and-Story-FB-Banner.png
END:VEVENT
BEGIN:VEVENT
DTSTART;TZID=America/Toronto:20270127T123000
DTEND;TZID=America/Toronto:20270127T143000
DTSTAMP:20260421T063934
CREATED:20241223T164321Z
LAST-MODIFIED:20251030T162458Z
UID:10000700-1801053000-1801060200@www.brightonlibrary.ca
SUMMARY:KnitCetera
DESCRIPTION:Drop in with your project to chat and share with other yarn enthusiasts. All fibre arts are welcome\, and those who want to learn how to knit or crochet are welcome to come and join in!  \nNo registration is required for this event.
URL:https://www.brightonlibrary.ca/event-calendar/knitcetera-2/2027-01-27/
LOCATION:Brighton Public Library\, 35 Alice St\, Brighton\, Ontario\, K0K 1H0\, Canada
CATEGORIES:Crafty,Drop-In,Recurring Program
ATTACH;FMTTYPE=image/png:https://www.brightonlibrary.ca/wp-content/uploads/KnitCetera-Banner.png
END:VEVENT
END:VCALENDAR