BEGIN:VCALENDAR
VERSION:2.0
PRODID:-//Brighton Public Library - ECPv6.15.20//NONSGML v1.0//EN
CALSCALE:GREGORIAN
METHOD:PUBLISH
X-WR-CALNAME:Brighton Public Library
X-ORIGINAL-URL:https://www.brightonlibrary.ca
X-WR-CALDESC:Events for Brighton Public Library
REFRESH-INTERVAL;VALUE=DURATION:PT1H
X-Robots-Tag:noindex
X-PUBLISHED-TTL:PT1H
BEGIN:VTIMEZONE
TZID:America/Toronto
BEGIN:DAYLIGHT
TZOFFSETFROM:-0500
TZOFFSETTO:-0400
TZNAME:EDT
DTSTART:20270314T070000
END:DAYLIGHT
BEGIN:STANDARD
TZOFFSETFROM:-0400
TZOFFSETTO:-0500
TZNAME:EST
DTSTART:20271107T060000
END:STANDARD
BEGIN:DAYLIGHT
TZOFFSETFROM:-0500
TZOFFSETTO:-0400
TZNAME:EDT
DTSTART:20280312T070000
END:DAYLIGHT
BEGIN:STANDARD
TZOFFSETFROM:-0400
TZOFFSETTO:-0500
TZNAME:EST
DTSTART:20281105T060000
END:STANDARD
BEGIN:DAYLIGHT
TZOFFSETFROM:-0500
TZOFFSETTO:-0400
TZNAME:EDT
DTSTART:20290311T070000
END:DAYLIGHT
BEGIN:STANDARD
TZOFFSETFROM:-0400
TZOFFSETTO:-0500
TZNAME:EST
DTSTART:20291104T060000
END:STANDARD
END:VTIMEZONE
BEGIN:VEVENT
DTSTART;TZID=America/Toronto:20280315T123000
DTEND;TZID=America/Toronto:20280315T143000
DTSTAMP:20260424T122517
CREATED:20241223T164321Z
LAST-MODIFIED:20251030T162458Z
UID:10000759-1836736200-1836743400@www.brightonlibrary.ca
SUMMARY:KnitCetera
DESCRIPTION:Drop in with your project to chat and share with other yarn enthusiasts. All fibre arts are welcome\, and those who want to learn how to knit or crochet are welcome to come and join in!  \nNo registration is required for this event.
URL:https://www.brightonlibrary.ca/event-calendar/knitcetera-2/2028-03-15/
LOCATION:Brighton Public Library\, 35 Alice St\, Brighton\, Ontario\, K0K 1H0\, Canada
CATEGORIES:Crafty,Drop-In,Recurring Program
ATTACH;FMTTYPE=image/png:https://www.brightonlibrary.ca/wp-content/uploads/KnitCetera-Banner.png
END:VEVENT
BEGIN:VEVENT
DTSTART;TZID=America/Toronto:20280316T100000
DTEND;TZID=America/Toronto:20280316T103000
DTSTAMP:20260424T122517
CREATED:20250816T170631Z
LAST-MODIFIED:20260122T161515Z
UID:10002357-1836813600-1836815400@www.brightonlibrary.ca
SUMMARY:Busy Bees
DESCRIPTION:Babies and their caregivers are invited to buzz over and explore a variety of sensory activities together each week while making new friends in this relaxed program.
URL:https://www.brightonlibrary.ca/event-calendar/busy-bees/2028-03-16/
LOCATION:Brighton Public Library\, 35 Alice St\, Brighton\, Ontario\, K0K 1H0\, Canada
CATEGORIES:Babies,Drop-In
ATTACH;FMTTYPE=image/png:https://www.brightonlibrary.ca/wp-content/uploads/Busy-Bees.png
END:VEVENT
BEGIN:VEVENT
DTSTART;TZID=America/Toronto:20280316T103000
DTEND;TZID=America/Toronto:20280316T113000
DTSTAMP:20260424T122517
CREATED:20241217T171210Z
LAST-MODIFIED:20260122T161802Z
UID:10000185-1836815400-1836819000@www.brightonlibrary.ca
SUMMARY:Song & Story Hour
DESCRIPTION:Join Terry and Penny for sing-alongs and story books during this one hour program. This program is tailored to preschool children\, but we love to see all ages enjoy the stories and songs. \nOnce a month\, our friend Johanne helps us learn songs in French\, and brings a favourite French story to share! \nNo registration is required.  \n 
URL:https://www.brightonlibrary.ca/event-calendar/song-story-hour/2028-03-16/
LOCATION:Brighton Public Library\, 35 Alice St\, Brighton\, Ontario\, K0K 1H0\, Canada
CATEGORIES:Drop-In,Kids,Recurring Program
ATTACH;FMTTYPE=image/png:https://www.brightonlibrary.ca/wp-content/uploads/Song-and-Story-FB-Banner.png
END:VEVENT
BEGIN:VEVENT
DTSTART;TZID=America/Toronto:20280316T150000
DTEND;TZID=America/Toronto:20280316T160000
DTSTAMP:20260424T122517
CREATED:20250816T170221Z
LAST-MODIFIED:20260217T135711Z
UID:10002098-1836831600-1836835200@www.brightonlibrary.ca
SUMMARY:Tween Scene
DESCRIPTION:Ages 11-14 can drop in for some snacks\, games\, crafts and hang outs. Head to the Program Room to see what’s on offer each week.
URL:https://www.brightonlibrary.ca/event-calendar/tween-scene/2028-03-16/
LOCATION:Brighton Public Library\, 35 Alice St\, Brighton\, Ontario\, K0K 1H0\, Canada
CATEGORIES:Drop-In,Tweens
ATTACH;FMTTYPE=image/png:https://www.brightonlibrary.ca/wp-content/uploads/Tween-Scene.png
END:VEVENT
BEGIN:VEVENT
DTSTART;TZID=America/Toronto:20280318T100000
DTEND;TZID=America/Toronto:20280318T160000
DTSTAMP:20260424T122517
CREATED:20241223T164123Z
LAST-MODIFIED:20251030T162536Z
UID:10000441-1836986400-1837008000@www.brightonlibrary.ca
SUMMARY:Kids' Crafts Kits
DESCRIPTION:New Craft Kits are unveiled every Saturday at the Main Desk. These can be completed with a few items from home (like glue\, scissors and crayons or markers). There’s a new craft every week!
URL:https://www.brightonlibrary.ca/event-calendar/kids-crafts-kits-2/2028-03-18/
LOCATION:Brighton Public Library\, 35 Alice St\, Brighton\, Ontario\, K0K 1H0\, Canada
CATEGORIES:Crafty,Grab and Go,Kids
ATTACH;FMTTYPE=image/png:https://www.brightonlibrary.ca/wp-content/uploads/Craft-Kits-Banner.png
END:VEVENT
BEGIN:VEVENT
DTSTART;TZID=America/Toronto:20280322T123000
DTEND;TZID=America/Toronto:20280322T143000
DTSTAMP:20260424T122517
CREATED:20241223T164321Z
LAST-MODIFIED:20251030T162458Z
UID:10000760-1837341000-1837348200@www.brightonlibrary.ca
SUMMARY:KnitCetera
DESCRIPTION:Drop in with your project to chat and share with other yarn enthusiasts. All fibre arts are welcome\, and those who want to learn how to knit or crochet are welcome to come and join in!  \nNo registration is required for this event.
URL:https://www.brightonlibrary.ca/event-calendar/knitcetera-2/2028-03-22/
LOCATION:Brighton Public Library\, 35 Alice St\, Brighton\, Ontario\, K0K 1H0\, Canada
CATEGORIES:Crafty,Drop-In,Recurring Program
ATTACH;FMTTYPE=image/png:https://www.brightonlibrary.ca/wp-content/uploads/KnitCetera-Banner.png
END:VEVENT
BEGIN:VEVENT
DTSTART;TZID=America/Toronto:20280322T190000
DTEND;TZID=America/Toronto:20280322T200000
DTSTAMP:20260424T122517
CREATED:20250227T170024Z
LAST-MODIFIED:20251209T175921Z
UID:10001829-1837364400-1837368000@www.brightonlibrary.ca
SUMMARY:BPL Board Meeting
DESCRIPTION:The Brighton Public Library Board will be meeting tonight in the Library’s Program Room at 35 Alice Street. The public is always welcome to attend these Board meetings.
URL:https://www.brightonlibrary.ca/event-calendar/bpl-board-meeting/2028-03-22/
LOCATION:Brighton Public Library\, 35 Alice St\, Brighton\, Ontario\, K0K 1H0\, Canada
ATTACH;FMTTYPE=image/png:https://www.brightonlibrary.ca/wp-content/uploads/Board-Meeting.png
END:VEVENT
BEGIN:VEVENT
DTSTART;TZID=America/Toronto:20280323T100000
DTEND;TZID=America/Toronto:20280323T103000
DTSTAMP:20260424T122517
CREATED:20250816T170631Z
LAST-MODIFIED:20260122T161515Z
UID:10002358-1837418400-1837420200@www.brightonlibrary.ca
SUMMARY:Busy Bees
DESCRIPTION:Babies and their caregivers are invited to buzz over and explore a variety of sensory activities together each week while making new friends in this relaxed program.
URL:https://www.brightonlibrary.ca/event-calendar/busy-bees/2028-03-23/
LOCATION:Brighton Public Library\, 35 Alice St\, Brighton\, Ontario\, K0K 1H0\, Canada
CATEGORIES:Babies,Drop-In
ATTACH;FMTTYPE=image/png:https://www.brightonlibrary.ca/wp-content/uploads/Busy-Bees.png
END:VEVENT
BEGIN:VEVENT
DTSTART;TZID=America/Toronto:20280323T103000
DTEND;TZID=America/Toronto:20280323T113000
DTSTAMP:20260424T122517
CREATED:20241217T171210Z
LAST-MODIFIED:20260122T161802Z
UID:10000186-1837420200-1837423800@www.brightonlibrary.ca
SUMMARY:Song & Story Hour
DESCRIPTION:Join Terry and Penny for sing-alongs and story books during this one hour program. This program is tailored to preschool children\, but we love to see all ages enjoy the stories and songs. \nOnce a month\, our friend Johanne helps us learn songs in French\, and brings a favourite French story to share! \nNo registration is required.  \n 
URL:https://www.brightonlibrary.ca/event-calendar/song-story-hour/2028-03-23/
LOCATION:Brighton Public Library\, 35 Alice St\, Brighton\, Ontario\, K0K 1H0\, Canada
CATEGORIES:Drop-In,Kids,Recurring Program
ATTACH;FMTTYPE=image/png:https://www.brightonlibrary.ca/wp-content/uploads/Song-and-Story-FB-Banner.png
END:VEVENT
BEGIN:VEVENT
DTSTART;TZID=America/Toronto:20280323T150000
DTEND;TZID=America/Toronto:20280323T160000
DTSTAMP:20260424T122517
CREATED:20250816T170221Z
LAST-MODIFIED:20260217T135711Z
UID:10002099-1837436400-1837440000@www.brightonlibrary.ca
SUMMARY:Tween Scene
DESCRIPTION:Ages 11-14 can drop in for some snacks\, games\, crafts and hang outs. Head to the Program Room to see what’s on offer each week.
URL:https://www.brightonlibrary.ca/event-calendar/tween-scene/2028-03-23/
LOCATION:Brighton Public Library\, 35 Alice St\, Brighton\, Ontario\, K0K 1H0\, Canada
CATEGORIES:Drop-In,Tweens
ATTACH;FMTTYPE=image/png:https://www.brightonlibrary.ca/wp-content/uploads/Tween-Scene.png
END:VEVENT
BEGIN:VEVENT
DTSTART;TZID=America/Toronto:20280325T100000
DTEND;TZID=America/Toronto:20280325T160000
DTSTAMP:20260424T122517
CREATED:20241223T164123Z
LAST-MODIFIED:20251030T162536Z
UID:10000442-1837591200-1837612800@www.brightonlibrary.ca
SUMMARY:Kids' Crafts Kits
DESCRIPTION:New Craft Kits are unveiled every Saturday at the Main Desk. These can be completed with a few items from home (like glue\, scissors and crayons or markers). There’s a new craft every week!
URL:https://www.brightonlibrary.ca/event-calendar/kids-crafts-kits-2/2028-03-25/
LOCATION:Brighton Public Library\, 35 Alice St\, Brighton\, Ontario\, K0K 1H0\, Canada
CATEGORIES:Crafty,Grab and Go,Kids
ATTACH;FMTTYPE=image/png:https://www.brightonlibrary.ca/wp-content/uploads/Craft-Kits-Banner.png
END:VEVENT
BEGIN:VEVENT
DTSTART;TZID=America/Toronto:20280329T123000
DTEND;TZID=America/Toronto:20280329T143000
DTSTAMP:20260424T122517
CREATED:20241223T164321Z
LAST-MODIFIED:20251030T162458Z
UID:10000761-1837945800-1837953000@www.brightonlibrary.ca
SUMMARY:KnitCetera
DESCRIPTION:Drop in with your project to chat and share with other yarn enthusiasts. All fibre arts are welcome\, and those who want to learn how to knit or crochet are welcome to come and join in!  \nNo registration is required for this event.
URL:https://www.brightonlibrary.ca/event-calendar/knitcetera-2/2028-03-29/
LOCATION:Brighton Public Library\, 35 Alice St\, Brighton\, Ontario\, K0K 1H0\, Canada
CATEGORIES:Crafty,Drop-In,Recurring Program
ATTACH;FMTTYPE=image/png:https://www.brightonlibrary.ca/wp-content/uploads/KnitCetera-Banner.png
END:VEVENT
BEGIN:VEVENT
DTSTART;TZID=America/Toronto:20280330T100000
DTEND;TZID=America/Toronto:20280330T103000
DTSTAMP:20260424T122517
CREATED:20250816T170631Z
LAST-MODIFIED:20260122T161515Z
UID:10002359-1838023200-1838025000@www.brightonlibrary.ca
SUMMARY:Busy Bees
DESCRIPTION:Babies and their caregivers are invited to buzz over and explore a variety of sensory activities together each week while making new friends in this relaxed program.
URL:https://www.brightonlibrary.ca/event-calendar/busy-bees/2028-03-30/
LOCATION:Brighton Public Library\, 35 Alice St\, Brighton\, Ontario\, K0K 1H0\, Canada
CATEGORIES:Babies,Drop-In
ATTACH;FMTTYPE=image/png:https://www.brightonlibrary.ca/wp-content/uploads/Busy-Bees.png
END:VEVENT
BEGIN:VEVENT
DTSTART;TZID=America/Toronto:20280330T103000
DTEND;TZID=America/Toronto:20280330T113000
DTSTAMP:20260424T122517
CREATED:20241217T171210Z
LAST-MODIFIED:20260122T161802Z
UID:10000187-1838025000-1838028600@www.brightonlibrary.ca
SUMMARY:Song & Story Hour
DESCRIPTION:Join Terry and Penny for sing-alongs and story books during this one hour program. This program is tailored to preschool children\, but we love to see all ages enjoy the stories and songs. \nOnce a month\, our friend Johanne helps us learn songs in French\, and brings a favourite French story to share! \nNo registration is required.  \n 
URL:https://www.brightonlibrary.ca/event-calendar/song-story-hour/2028-03-30/
LOCATION:Brighton Public Library\, 35 Alice St\, Brighton\, Ontario\, K0K 1H0\, Canada
CATEGORIES:Drop-In,Kids,Recurring Program
ATTACH;FMTTYPE=image/png:https://www.brightonlibrary.ca/wp-content/uploads/Song-and-Story-FB-Banner.png
END:VEVENT
BEGIN:VEVENT
DTSTART;TZID=America/Toronto:20280330T150000
DTEND;TZID=America/Toronto:20280330T160000
DTSTAMP:20260424T122517
CREATED:20250816T170221Z
LAST-MODIFIED:20260217T135711Z
UID:10002100-1838041200-1838044800@www.brightonlibrary.ca
SUMMARY:Tween Scene
DESCRIPTION:Ages 11-14 can drop in for some snacks\, games\, crafts and hang outs. Head to the Program Room to see what’s on offer each week.
URL:https://www.brightonlibrary.ca/event-calendar/tween-scene/2028-03-30/
LOCATION:Brighton Public Library\, 35 Alice St\, Brighton\, Ontario\, K0K 1H0\, Canada
CATEGORIES:Drop-In,Tweens
ATTACH;FMTTYPE=image/png:https://www.brightonlibrary.ca/wp-content/uploads/Tween-Scene.png
END:VEVENT
BEGIN:VEVENT
DTSTART;VALUE=DATE:20280401
DTEND;VALUE=DATE:20280402
DTSTAMP:20260424T122517
CREATED:20250303T190516Z
LAST-MODIFIED:20251117T172413Z
UID:10001654-1838160000-1838246399@www.brightonlibrary.ca
SUMMARY:Teens' Craft Kits
DESCRIPTION:Each month\, a new Grab & Go Craft Kit is available for teens to pick up at the library. Each month features new activities to try in the library or at home. We keep this available for as long as supplies last\, each month!
URL:https://www.brightonlibrary.ca/event-calendar/teens-craft-kits/2028-04-01/
LOCATION:Brighton Public Library\, 35 Alice St\, Brighton\, Ontario\, K0K 1H0\, Canada
CATEGORIES:Crafty,Grab and Go,Teens
ATTACH;FMTTYPE=image/png:https://www.brightonlibrary.ca/wp-content/uploads/Grab-and-Go-Kits.png
END:VEVENT
BEGIN:VEVENT
DTSTART;TZID=America/Toronto:20280401T100000
DTEND;TZID=America/Toronto:20280401T160000
DTSTAMP:20260424T122517
CREATED:20241223T164123Z
LAST-MODIFIED:20251030T162536Z
UID:10000443-1838196000-1838217600@www.brightonlibrary.ca
SUMMARY:Kids' Crafts Kits
DESCRIPTION:New Craft Kits are unveiled every Saturday at the Main Desk. These can be completed with a few items from home (like glue\, scissors and crayons or markers). There’s a new craft every week!
URL:https://www.brightonlibrary.ca/event-calendar/kids-crafts-kits-2/2028-04-01/
LOCATION:Brighton Public Library\, 35 Alice St\, Brighton\, Ontario\, K0K 1H0\, Canada
CATEGORIES:Crafty,Grab and Go,Kids
ATTACH;FMTTYPE=image/png:https://www.brightonlibrary.ca/wp-content/uploads/Craft-Kits-Banner.png
END:VEVENT
BEGIN:VEVENT
DTSTART;TZID=America/Toronto:20280401T103000
DTEND;TZID=America/Toronto:20280401T113000
DTSTAMP:20260424T122517
CREATED:20241223T164854Z
LAST-MODIFIED:20250227T185720Z
UID:10001401-1838197800-1838201400@www.brightonlibrary.ca
SUMMARY:Spanish Circle
DESCRIPTION:Join Sofia to practise your Spanish and make new amigos in a relaxed\, conversational group. All ages and skill levels are welcome.
URL:https://www.brightonlibrary.ca/event-calendar/spanish-circle/2028-04-01/
LOCATION:Brighton Public Library\, 35 Alice St\, Brighton\, Ontario\, K0K 1H0\, Canada
CATEGORIES:All Ages,Recurring Program
ATTACH;FMTTYPE=image/png:https://www.brightonlibrary.ca/wp-content/uploads/Spanish-Circle-FB-Cover.png
END:VEVENT
BEGIN:VEVENT
DTSTART;TZID=America/Toronto:20280405T123000
DTEND;TZID=America/Toronto:20280405T143000
DTSTAMP:20260424T122517
CREATED:20241223T164321Z
LAST-MODIFIED:20251030T162458Z
UID:10000762-1838550600-1838557800@www.brightonlibrary.ca
SUMMARY:KnitCetera
DESCRIPTION:Drop in with your project to chat and share with other yarn enthusiasts. All fibre arts are welcome\, and those who want to learn how to knit or crochet are welcome to come and join in!  \nNo registration is required for this event.
URL:https://www.brightonlibrary.ca/event-calendar/knitcetera-2/2028-04-05/
LOCATION:Brighton Public Library\, 35 Alice St\, Brighton\, Ontario\, K0K 1H0\, Canada
CATEGORIES:Crafty,Drop-In,Recurring Program
ATTACH;FMTTYPE=image/png:https://www.brightonlibrary.ca/wp-content/uploads/KnitCetera-Banner.png
END:VEVENT
BEGIN:VEVENT
DTSTART;TZID=America/Toronto:20280406T100000
DTEND;TZID=America/Toronto:20280406T103000
DTSTAMP:20260424T122517
CREATED:20250816T170631Z
LAST-MODIFIED:20260122T161515Z
UID:10002360-1838628000-1838629800@www.brightonlibrary.ca
SUMMARY:Busy Bees
DESCRIPTION:Babies and their caregivers are invited to buzz over and explore a variety of sensory activities together each week while making new friends in this relaxed program.
URL:https://www.brightonlibrary.ca/event-calendar/busy-bees/2028-04-06/
LOCATION:Brighton Public Library\, 35 Alice St\, Brighton\, Ontario\, K0K 1H0\, Canada
CATEGORIES:Babies,Drop-In
ATTACH;FMTTYPE=image/png:https://www.brightonlibrary.ca/wp-content/uploads/Busy-Bees.png
END:VEVENT
BEGIN:VEVENT
DTSTART;TZID=America/Toronto:20280406T103000
DTEND;TZID=America/Toronto:20280406T113000
DTSTAMP:20260424T122517
CREATED:20241217T171210Z
LAST-MODIFIED:20260122T161802Z
UID:10000188-1838629800-1838633400@www.brightonlibrary.ca
SUMMARY:Song & Story Hour
DESCRIPTION:Join Terry and Penny for sing-alongs and story books during this one hour program. This program is tailored to preschool children\, but we love to see all ages enjoy the stories and songs. \nOnce a month\, our friend Johanne helps us learn songs in French\, and brings a favourite French story to share! \nNo registration is required.  \n 
URL:https://www.brightonlibrary.ca/event-calendar/song-story-hour/2028-04-06/
LOCATION:Brighton Public Library\, 35 Alice St\, Brighton\, Ontario\, K0K 1H0\, Canada
CATEGORIES:Drop-In,Kids,Recurring Program
ATTACH;FMTTYPE=image/png:https://www.brightonlibrary.ca/wp-content/uploads/Song-and-Story-FB-Banner.png
END:VEVENT
BEGIN:VEVENT
DTSTART;TZID=America/Toronto:20280406T150000
DTEND;TZID=America/Toronto:20280406T160000
DTSTAMP:20260424T122517
CREATED:20250816T170221Z
LAST-MODIFIED:20260217T135711Z
UID:10002101-1838646000-1838649600@www.brightonlibrary.ca
SUMMARY:Tween Scene
DESCRIPTION:Ages 11-14 can drop in for some snacks\, games\, crafts and hang outs. Head to the Program Room to see what’s on offer each week.
URL:https://www.brightonlibrary.ca/event-calendar/tween-scene/2028-04-06/
LOCATION:Brighton Public Library\, 35 Alice St\, Brighton\, Ontario\, K0K 1H0\, Canada
CATEGORIES:Drop-In,Tweens
ATTACH;FMTTYPE=image/png:https://www.brightonlibrary.ca/wp-content/uploads/Tween-Scene.png
END:VEVENT
BEGIN:VEVENT
DTSTART;TZID=America/Toronto:20280408T100000
DTEND;TZID=America/Toronto:20280408T160000
DTSTAMP:20260424T122517
CREATED:20241223T164123Z
LAST-MODIFIED:20251030T162536Z
UID:10000444-1838800800-1838822400@www.brightonlibrary.ca
SUMMARY:Kids' Crafts Kits
DESCRIPTION:New Craft Kits are unveiled every Saturday at the Main Desk. These can be completed with a few items from home (like glue\, scissors and crayons or markers). There’s a new craft every week!
URL:https://www.brightonlibrary.ca/event-calendar/kids-crafts-kits-2/2028-04-08/
LOCATION:Brighton Public Library\, 35 Alice St\, Brighton\, Ontario\, K0K 1H0\, Canada
CATEGORIES:Crafty,Grab and Go,Kids
ATTACH;FMTTYPE=image/png:https://www.brightonlibrary.ca/wp-content/uploads/Craft-Kits-Banner.png
END:VEVENT
BEGIN:VEVENT
DTSTART;TZID=America/Toronto:20280412T123000
DTEND;TZID=America/Toronto:20280412T143000
DTSTAMP:20260424T122517
CREATED:20241223T164321Z
LAST-MODIFIED:20251030T162458Z
UID:10000763-1839155400-1839162600@www.brightonlibrary.ca
SUMMARY:KnitCetera
DESCRIPTION:Drop in with your project to chat and share with other yarn enthusiasts. All fibre arts are welcome\, and those who want to learn how to knit or crochet are welcome to come and join in!  \nNo registration is required for this event.
URL:https://www.brightonlibrary.ca/event-calendar/knitcetera-2/2028-04-12/
LOCATION:Brighton Public Library\, 35 Alice St\, Brighton\, Ontario\, K0K 1H0\, Canada
CATEGORIES:Crafty,Drop-In,Recurring Program
ATTACH;FMTTYPE=image/png:https://www.brightonlibrary.ca/wp-content/uploads/KnitCetera-Banner.png
END:VEVENT
BEGIN:VEVENT
DTSTART;TZID=America/Toronto:20280413T100000
DTEND;TZID=America/Toronto:20280413T103000
DTSTAMP:20260424T122517
CREATED:20250816T170631Z
LAST-MODIFIED:20260122T161515Z
UID:10002361-1839232800-1839234600@www.brightonlibrary.ca
SUMMARY:Busy Bees
DESCRIPTION:Babies and their caregivers are invited to buzz over and explore a variety of sensory activities together each week while making new friends in this relaxed program.
URL:https://www.brightonlibrary.ca/event-calendar/busy-bees/2028-04-13/
LOCATION:Brighton Public Library\, 35 Alice St\, Brighton\, Ontario\, K0K 1H0\, Canada
CATEGORIES:Babies,Drop-In
ATTACH;FMTTYPE=image/png:https://www.brightonlibrary.ca/wp-content/uploads/Busy-Bees.png
END:VEVENT
BEGIN:VEVENT
DTSTART;TZID=America/Toronto:20280413T103000
DTEND;TZID=America/Toronto:20280413T113000
DTSTAMP:20260424T122517
CREATED:20241217T171210Z
LAST-MODIFIED:20260122T161802Z
UID:10000189-1839234600-1839238200@www.brightonlibrary.ca
SUMMARY:Song & Story Hour
DESCRIPTION:Join Terry and Penny for sing-alongs and story books during this one hour program. This program is tailored to preschool children\, but we love to see all ages enjoy the stories and songs. \nOnce a month\, our friend Johanne helps us learn songs in French\, and brings a favourite French story to share! \nNo registration is required.  \n 
URL:https://www.brightonlibrary.ca/event-calendar/song-story-hour/2028-04-13/
LOCATION:Brighton Public Library\, 35 Alice St\, Brighton\, Ontario\, K0K 1H0\, Canada
CATEGORIES:Drop-In,Kids,Recurring Program
ATTACH;FMTTYPE=image/png:https://www.brightonlibrary.ca/wp-content/uploads/Song-and-Story-FB-Banner.png
END:VEVENT
BEGIN:VEVENT
DTSTART;TZID=America/Toronto:20280413T150000
DTEND;TZID=America/Toronto:20280413T160000
DTSTAMP:20260424T122517
CREATED:20250816T170221Z
LAST-MODIFIED:20260217T135711Z
UID:10002102-1839250800-1839254400@www.brightonlibrary.ca
SUMMARY:Tween Scene
DESCRIPTION:Ages 11-14 can drop in for some snacks\, games\, crafts and hang outs. Head to the Program Room to see what’s on offer each week.
URL:https://www.brightonlibrary.ca/event-calendar/tween-scene/2028-04-13/
LOCATION:Brighton Public Library\, 35 Alice St\, Brighton\, Ontario\, K0K 1H0\, Canada
CATEGORIES:Drop-In,Tweens
ATTACH;FMTTYPE=image/png:https://www.brightonlibrary.ca/wp-content/uploads/Tween-Scene.png
END:VEVENT
BEGIN:VEVENT
DTSTART;TZID=America/Toronto:20280415T100000
DTEND;TZID=America/Toronto:20280415T160000
DTSTAMP:20260424T122517
CREATED:20241223T164123Z
LAST-MODIFIED:20251030T162536Z
UID:10000445-1839405600-1839427200@www.brightonlibrary.ca
SUMMARY:Kids' Crafts Kits
DESCRIPTION:New Craft Kits are unveiled every Saturday at the Main Desk. These can be completed with a few items from home (like glue\, scissors and crayons or markers). There’s a new craft every week!
URL:https://www.brightonlibrary.ca/event-calendar/kids-crafts-kits-2/2028-04-15/
LOCATION:Brighton Public Library\, 35 Alice St\, Brighton\, Ontario\, K0K 1H0\, Canada
CATEGORIES:Crafty,Grab and Go,Kids
ATTACH;FMTTYPE=image/png:https://www.brightonlibrary.ca/wp-content/uploads/Craft-Kits-Banner.png
END:VEVENT
BEGIN:VEVENT
DTSTART;TZID=America/Toronto:20280419T123000
DTEND;TZID=America/Toronto:20280419T143000
DTSTAMP:20260424T122517
CREATED:20241223T164321Z
LAST-MODIFIED:20251030T162458Z
UID:10000764-1839760200-1839767400@www.brightonlibrary.ca
SUMMARY:KnitCetera
DESCRIPTION:Drop in with your project to chat and share with other yarn enthusiasts. All fibre arts are welcome\, and those who want to learn how to knit or crochet are welcome to come and join in!  \nNo registration is required for this event.
URL:https://www.brightonlibrary.ca/event-calendar/knitcetera-2/2028-04-19/
LOCATION:Brighton Public Library\, 35 Alice St\, Brighton\, Ontario\, K0K 1H0\, Canada
CATEGORIES:Crafty,Drop-In,Recurring Program
ATTACH;FMTTYPE=image/png:https://www.brightonlibrary.ca/wp-content/uploads/KnitCetera-Banner.png
END:VEVENT
BEGIN:VEVENT
DTSTART;TZID=America/Toronto:20280420T100000
DTEND;TZID=America/Toronto:20280420T103000
DTSTAMP:20260424T122517
CREATED:20250816T170631Z
LAST-MODIFIED:20260122T161515Z
UID:10002362-1839837600-1839839400@www.brightonlibrary.ca
SUMMARY:Busy Bees
DESCRIPTION:Babies and their caregivers are invited to buzz over and explore a variety of sensory activities together each week while making new friends in this relaxed program.
URL:https://www.brightonlibrary.ca/event-calendar/busy-bees/2028-04-20/
LOCATION:Brighton Public Library\, 35 Alice St\, Brighton\, Ontario\, K0K 1H0\, Canada
CATEGORIES:Babies,Drop-In
ATTACH;FMTTYPE=image/png:https://www.brightonlibrary.ca/wp-content/uploads/Busy-Bees.png
END:VEVENT
END:VCALENDAR