BEGIN:VCALENDAR
VERSION:2.0
PRODID:-//Brighton Public Library - ECPv6.15.20//NONSGML v1.0//EN
CALSCALE:GREGORIAN
METHOD:PUBLISH
X-ORIGINAL-URL:https://www.brightonlibrary.ca
X-WR-CALDESC:Events for Brighton Public Library
REFRESH-INTERVAL;VALUE=DURATION:PT1H
X-Robots-Tag:noindex
X-PUBLISHED-TTL:PT1H
BEGIN:VTIMEZONE
TZID:America/Toronto
BEGIN:DAYLIGHT
TZOFFSETFROM:-0500
TZOFFSETTO:-0400
TZNAME:EDT
DTSTART:20250309T070000
END:DAYLIGHT
BEGIN:STANDARD
TZOFFSETFROM:-0400
TZOFFSETTO:-0500
TZNAME:EST
DTSTART:20251102T060000
END:STANDARD
BEGIN:DAYLIGHT
TZOFFSETFROM:-0500
TZOFFSETTO:-0400
TZNAME:EDT
DTSTART:20260308T070000
END:DAYLIGHT
BEGIN:STANDARD
TZOFFSETFROM:-0400
TZOFFSETTO:-0500
TZNAME:EST
DTSTART:20261101T060000
END:STANDARD
BEGIN:DAYLIGHT
TZOFFSETFROM:-0500
TZOFFSETTO:-0400
TZNAME:EDT
DTSTART:20270314T070000
END:DAYLIGHT
BEGIN:STANDARD
TZOFFSETFROM:-0400
TZOFFSETTO:-0500
TZNAME:EST
DTSTART:20271107T060000
END:STANDARD
END:VTIMEZONE
BEGIN:VEVENT
DTSTART;TZID=America/Toronto:20260820T103000
DTEND;TZID=America/Toronto:20260820T113000
DTSTAMP:20260421T195228
CREATED:20241217T171210Z
LAST-MODIFIED:20260122T161802Z
UID:10000103-1787221800-1787225400@www.brightonlibrary.ca
SUMMARY:Song & Story Hour
DESCRIPTION:Join Terry and Penny for sing-alongs and story books during this one hour program. This program is tailored to preschool children\, but we love to see all ages enjoy the stories and songs. \nOnce a month\, our friend Johanne helps us learn songs in French\, and brings a favourite French story to share! \nNo registration is required.  \n 
URL:https://www.brightonlibrary.ca/event-calendar/song-story-hour/2026-08-20/
LOCATION:Brighton Public Library\, 35 Alice St\, Brighton\, Ontario\, K0K 1H0\, Canada
CATEGORIES:Drop-In,Kids,Recurring Program
ATTACH;FMTTYPE=image/png:https://www.brightonlibrary.ca/wp-content/uploads/Song-and-Story-FB-Banner.png
END:VEVENT
BEGIN:VEVENT
DTSTART;TZID=America/Toronto:20260820T150000
DTEND;TZID=America/Toronto:20260820T160000
DTSTAMP:20260421T195228
CREATED:20250816T170221Z
LAST-MODIFIED:20260217T135711Z
UID:10002016-1787238000-1787241600@www.brightonlibrary.ca
SUMMARY:Tween Scene
DESCRIPTION:Ages 11-14 can drop in for some snacks\, games\, crafts and hang outs. Head to the Program Room to see what’s on offer each week.
URL:https://www.brightonlibrary.ca/event-calendar/tween-scene/2026-08-20/
LOCATION:Brighton Public Library\, 35 Alice St\, Brighton\, Ontario\, K0K 1H0\, Canada
CATEGORIES:Drop-In,Tweens
ATTACH;FMTTYPE=image/png:https://www.brightonlibrary.ca/wp-content/uploads/Tween-Scene.png
END:VEVENT
BEGIN:VEVENT
DTSTART;TZID=America/Toronto:20260822T100000
DTEND;TZID=America/Toronto:20260822T160000
DTSTAMP:20260421T195228
CREATED:20241223T164123Z
LAST-MODIFIED:20251030T162536Z
UID:10000359-1787392800-1787414400@www.brightonlibrary.ca
SUMMARY:Kids' Crafts Kits
DESCRIPTION:New Craft Kits are unveiled every Saturday at the Main Desk. These can be completed with a few items from home (like glue\, scissors and crayons or markers). There’s a new craft every week!
URL:https://www.brightonlibrary.ca/event-calendar/kids-crafts-kits-2/2026-08-22/
LOCATION:Brighton Public Library\, 35 Alice St\, Brighton\, Ontario\, K0K 1H0\, Canada
CATEGORIES:Crafty,Grab and Go,Kids
ATTACH;FMTTYPE=image/png:https://www.brightonlibrary.ca/wp-content/uploads/Craft-Kits-Banner.png
END:VEVENT
BEGIN:VEVENT
DTSTART;TZID=America/Toronto:20260826T123000
DTEND;TZID=America/Toronto:20260826T143000
DTSTAMP:20260421T195228
CREATED:20241223T164321Z
LAST-MODIFIED:20251030T162458Z
UID:10000678-1787747400-1787754600@www.brightonlibrary.ca
SUMMARY:KnitCetera
DESCRIPTION:Drop in with your project to chat and share with other yarn enthusiasts. All fibre arts are welcome\, and those who want to learn how to knit or crochet are welcome to come and join in!  \nNo registration is required for this event.
URL:https://www.brightonlibrary.ca/event-calendar/knitcetera-2/2026-08-26/
LOCATION:Brighton Public Library\, 35 Alice St\, Brighton\, Ontario\, K0K 1H0\, Canada
CATEGORIES:Crafty,Drop-In,Recurring Program
ATTACH;FMTTYPE=image/png:https://www.brightonlibrary.ca/wp-content/uploads/KnitCetera-Banner.png
END:VEVENT
BEGIN:VEVENT
DTSTART;TZID=America/Toronto:20260827T100000
DTEND;TZID=America/Toronto:20260827T103000
DTSTAMP:20260421T195228
CREATED:20250816T170631Z
LAST-MODIFIED:20260122T161515Z
UID:10002276-1787824800-1787826600@www.brightonlibrary.ca
SUMMARY:Busy Bees
DESCRIPTION:Babies and their caregivers are invited to buzz over and explore a variety of sensory activities together each week while making new friends in this relaxed program.
URL:https://www.brightonlibrary.ca/event-calendar/busy-bees/2026-08-27/
LOCATION:Brighton Public Library\, 35 Alice St\, Brighton\, Ontario\, K0K 1H0\, Canada
CATEGORIES:Babies,Drop-In
ATTACH;FMTTYPE=image/png:https://www.brightonlibrary.ca/wp-content/uploads/Busy-Bees.png
END:VEVENT
BEGIN:VEVENT
DTSTART;TZID=America/Toronto:20260827T103000
DTEND;TZID=America/Toronto:20260827T113000
DTSTAMP:20260421T195228
CREATED:20241217T171210Z
LAST-MODIFIED:20260122T161802Z
UID:10000104-1787826600-1787830200@www.brightonlibrary.ca
SUMMARY:Song & Story Hour
DESCRIPTION:Join Terry and Penny for sing-alongs and story books during this one hour program. This program is tailored to preschool children\, but we love to see all ages enjoy the stories and songs. \nOnce a month\, our friend Johanne helps us learn songs in French\, and brings a favourite French story to share! \nNo registration is required.  \n 
URL:https://www.brightonlibrary.ca/event-calendar/song-story-hour/2026-08-27/
LOCATION:Brighton Public Library\, 35 Alice St\, Brighton\, Ontario\, K0K 1H0\, Canada
CATEGORIES:Drop-In,Kids,Recurring Program
ATTACH;FMTTYPE=image/png:https://www.brightonlibrary.ca/wp-content/uploads/Song-and-Story-FB-Banner.png
END:VEVENT
BEGIN:VEVENT
DTSTART;TZID=America/Toronto:20260827T150000
DTEND;TZID=America/Toronto:20260827T160000
DTSTAMP:20260421T195228
CREATED:20250816T170221Z
LAST-MODIFIED:20260217T135711Z
UID:10002017-1787842800-1787846400@www.brightonlibrary.ca
SUMMARY:Tween Scene
DESCRIPTION:Ages 11-14 can drop in for some snacks\, games\, crafts and hang outs. Head to the Program Room to see what’s on offer each week.
URL:https://www.brightonlibrary.ca/event-calendar/tween-scene/2026-08-27/
LOCATION:Brighton Public Library\, 35 Alice St\, Brighton\, Ontario\, K0K 1H0\, Canada
CATEGORIES:Drop-In,Tweens
ATTACH;FMTTYPE=image/png:https://www.brightonlibrary.ca/wp-content/uploads/Tween-Scene.png
END:VEVENT
BEGIN:VEVENT
DTSTART;TZID=America/Toronto:20260829T100000
DTEND;TZID=America/Toronto:20260829T160000
DTSTAMP:20260421T195228
CREATED:20241223T164123Z
LAST-MODIFIED:20251030T162536Z
UID:10000360-1787997600-1788019200@www.brightonlibrary.ca
SUMMARY:Kids' Crafts Kits
DESCRIPTION:New Craft Kits are unveiled every Saturday at the Main Desk. These can be completed with a few items from home (like glue\, scissors and crayons or markers). There’s a new craft every week!
URL:https://www.brightonlibrary.ca/event-calendar/kids-crafts-kits-2/2026-08-29/
LOCATION:Brighton Public Library\, 35 Alice St\, Brighton\, Ontario\, K0K 1H0\, Canada
CATEGORIES:Crafty,Grab and Go,Kids
ATTACH;FMTTYPE=image/png:https://www.brightonlibrary.ca/wp-content/uploads/Craft-Kits-Banner.png
END:VEVENT
BEGIN:VEVENT
DTSTART;VALUE=DATE:20260901
DTEND;VALUE=DATE:20260902
DTSTAMP:20260421T195228
CREATED:20250303T190516Z
LAST-MODIFIED:20251117T172413Z
UID:10001635-1788220800-1788307199@www.brightonlibrary.ca
SUMMARY:Teens' Craft Kits
DESCRIPTION:Each month\, a new Grab & Go Craft Kit is available for teens to pick up at the library. Each month features new activities to try in the library or at home. We keep this available for as long as supplies last\, each month!
URL:https://www.brightonlibrary.ca/event-calendar/teens-craft-kits/2026-09-01/
LOCATION:Brighton Public Library\, 35 Alice St\, Brighton\, Ontario\, K0K 1H0\, Canada
CATEGORIES:Crafty,Grab and Go,Teens
ATTACH;FMTTYPE=image/png:https://www.brightonlibrary.ca/wp-content/uploads/Grab-and-Go-Kits.png
END:VEVENT
BEGIN:VEVENT
DTSTART;TZID=America/Toronto:20260902T123000
DTEND;TZID=America/Toronto:20260902T143000
DTSTAMP:20260421T195228
CREATED:20241223T164321Z
LAST-MODIFIED:20251030T162458Z
UID:10000679-1788352200-1788359400@www.brightonlibrary.ca
SUMMARY:KnitCetera
DESCRIPTION:Drop in with your project to chat and share with other yarn enthusiasts. All fibre arts are welcome\, and those who want to learn how to knit or crochet are welcome to come and join in!  \nNo registration is required for this event.
URL:https://www.brightonlibrary.ca/event-calendar/knitcetera-2/2026-09-02/
LOCATION:Brighton Public Library\, 35 Alice St\, Brighton\, Ontario\, K0K 1H0\, Canada
CATEGORIES:Crafty,Drop-In,Recurring Program
ATTACH;FMTTYPE=image/png:https://www.brightonlibrary.ca/wp-content/uploads/KnitCetera-Banner.png
END:VEVENT
BEGIN:VEVENT
DTSTART;TZID=America/Toronto:20260903T100000
DTEND;TZID=America/Toronto:20260903T103000
DTSTAMP:20260421T195228
CREATED:20250816T170631Z
LAST-MODIFIED:20260122T161515Z
UID:10002277-1788429600-1788431400@www.brightonlibrary.ca
SUMMARY:Busy Bees
DESCRIPTION:Babies and their caregivers are invited to buzz over and explore a variety of sensory activities together each week while making new friends in this relaxed program.
URL:https://www.brightonlibrary.ca/event-calendar/busy-bees/2026-09-03/
LOCATION:Brighton Public Library\, 35 Alice St\, Brighton\, Ontario\, K0K 1H0\, Canada
CATEGORIES:Babies,Drop-In
ATTACH;FMTTYPE=image/png:https://www.brightonlibrary.ca/wp-content/uploads/Busy-Bees.png
END:VEVENT
BEGIN:VEVENT
DTSTART;TZID=America/Toronto:20260903T103000
DTEND;TZID=America/Toronto:20260903T113000
DTSTAMP:20260421T195228
CREATED:20241217T171210Z
LAST-MODIFIED:20260122T161802Z
UID:10000105-1788431400-1788435000@www.brightonlibrary.ca
SUMMARY:Song & Story Hour
DESCRIPTION:Join Terry and Penny for sing-alongs and story books during this one hour program. This program is tailored to preschool children\, but we love to see all ages enjoy the stories and songs. \nOnce a month\, our friend Johanne helps us learn songs in French\, and brings a favourite French story to share! \nNo registration is required.  \n 
URL:https://www.brightonlibrary.ca/event-calendar/song-story-hour/2026-09-03/
LOCATION:Brighton Public Library\, 35 Alice St\, Brighton\, Ontario\, K0K 1H0\, Canada
CATEGORIES:Drop-In,Kids,Recurring Program
ATTACH;FMTTYPE=image/png:https://www.brightonlibrary.ca/wp-content/uploads/Song-and-Story-FB-Banner.png
END:VEVENT
BEGIN:VEVENT
DTSTART;TZID=America/Toronto:20260903T150000
DTEND;TZID=America/Toronto:20260903T160000
DTSTAMP:20260421T195228
CREATED:20250816T170221Z
LAST-MODIFIED:20260217T135711Z
UID:10002018-1788447600-1788451200@www.brightonlibrary.ca
SUMMARY:Tween Scene
DESCRIPTION:Ages 11-14 can drop in for some snacks\, games\, crafts and hang outs. Head to the Program Room to see what’s on offer each week.
URL:https://www.brightonlibrary.ca/event-calendar/tween-scene/2026-09-03/
LOCATION:Brighton Public Library\, 35 Alice St\, Brighton\, Ontario\, K0K 1H0\, Canada
CATEGORIES:Drop-In,Tweens
ATTACH;FMTTYPE=image/png:https://www.brightonlibrary.ca/wp-content/uploads/Tween-Scene.png
END:VEVENT
BEGIN:VEVENT
DTSTART;TZID=America/Toronto:20260905T100000
DTEND;TZID=America/Toronto:20260905T160000
DTSTAMP:20260421T195228
CREATED:20241223T164123Z
LAST-MODIFIED:20251030T162536Z
UID:10000361-1788602400-1788624000@www.brightonlibrary.ca
SUMMARY:Kids' Crafts Kits
DESCRIPTION:New Craft Kits are unveiled every Saturday at the Main Desk. These can be completed with a few items from home (like glue\, scissors and crayons or markers). There’s a new craft every week!
URL:https://www.brightonlibrary.ca/event-calendar/kids-crafts-kits-2/2026-09-05/
LOCATION:Brighton Public Library\, 35 Alice St\, Brighton\, Ontario\, K0K 1H0\, Canada
CATEGORIES:Crafty,Grab and Go,Kids
ATTACH;FMTTYPE=image/png:https://www.brightonlibrary.ca/wp-content/uploads/Craft-Kits-Banner.png
END:VEVENT
BEGIN:VEVENT
DTSTART;TZID=America/Toronto:20260905T103000
DTEND;TZID=America/Toronto:20260905T113000
DTSTAMP:20260421T195228
CREATED:20241223T164854Z
LAST-MODIFIED:20250227T185720Z
UID:10001382-1788604200-1788607800@www.brightonlibrary.ca
SUMMARY:Spanish Circle
DESCRIPTION:Join Sofia to practise your Spanish and make new amigos in a relaxed\, conversational group. All ages and skill levels are welcome.
URL:https://www.brightonlibrary.ca/event-calendar/spanish-circle/2026-09-05/
LOCATION:Brighton Public Library\, 35 Alice St\, Brighton\, Ontario\, K0K 1H0\, Canada
CATEGORIES:All Ages,Recurring Program
ATTACH;FMTTYPE=image/png:https://www.brightonlibrary.ca/wp-content/uploads/Spanish-Circle-FB-Cover.png
END:VEVENT
BEGIN:VEVENT
DTSTART;TZID=America/Toronto:20260908T180000
DTEND;TZID=America/Toronto:20260908T200000
DTSTAMP:20260421T195228
CREATED:20260210T164145Z
LAST-MODIFIED:20260210T170019Z
UID:10002913-1788890400-1788897600@www.brightonlibrary.ca
SUMMARY:Writers Circle
DESCRIPTION:Bring your writing project and get feedback in this supportive setting with other aspiring writers. Participants are invited to bring up to 1\,000 words or fiction or creative non-fiction\, or 3 pages of poetry\, to share and discuss with one another. Each month’s gathering is hosted by a local published author\, who will also share their process and provide insights. \nThis group will meet on the second Tuesday of each month\, and no registration is required.
URL:https://www.brightonlibrary.ca/event-calendar/writers-circle/2026-09-08/
LOCATION:Brighton Public Library\, 35 Alice St\, Brighton\, Ontario\, K0K 1H0\, Canada
CATEGORIES:Adults,Drop-In,Recurring Program,Writing
ATTACH;FMTTYPE=image/png:https://www.brightonlibrary.ca/wp-content/uploads/Writers-Circle-Feature-Image.png
END:VEVENT
BEGIN:VEVENT
DTSTART;TZID=America/Toronto:20260909T123000
DTEND;TZID=America/Toronto:20260909T143000
DTSTAMP:20260421T195228
CREATED:20241223T164321Z
LAST-MODIFIED:20251030T162458Z
UID:10000680-1788957000-1788964200@www.brightonlibrary.ca
SUMMARY:KnitCetera
DESCRIPTION:Drop in with your project to chat and share with other yarn enthusiasts. All fibre arts are welcome\, and those who want to learn how to knit or crochet are welcome to come and join in!  \nNo registration is required for this event.
URL:https://www.brightonlibrary.ca/event-calendar/knitcetera-2/2026-09-09/
LOCATION:Brighton Public Library\, 35 Alice St\, Brighton\, Ontario\, K0K 1H0\, Canada
CATEGORIES:Crafty,Drop-In,Recurring Program
ATTACH;FMTTYPE=image/png:https://www.brightonlibrary.ca/wp-content/uploads/KnitCetera-Banner.png
END:VEVENT
BEGIN:VEVENT
DTSTART;TZID=America/Toronto:20260910T100000
DTEND;TZID=America/Toronto:20260910T103000
DTSTAMP:20260421T195228
CREATED:20250816T170631Z
LAST-MODIFIED:20260122T161515Z
UID:10002278-1789034400-1789036200@www.brightonlibrary.ca
SUMMARY:Busy Bees
DESCRIPTION:Babies and their caregivers are invited to buzz over and explore a variety of sensory activities together each week while making new friends in this relaxed program.
URL:https://www.brightonlibrary.ca/event-calendar/busy-bees/2026-09-10/
LOCATION:Brighton Public Library\, 35 Alice St\, Brighton\, Ontario\, K0K 1H0\, Canada
CATEGORIES:Babies,Drop-In
ATTACH;FMTTYPE=image/png:https://www.brightonlibrary.ca/wp-content/uploads/Busy-Bees.png
END:VEVENT
BEGIN:VEVENT
DTSTART;TZID=America/Toronto:20260910T103000
DTEND;TZID=America/Toronto:20260910T113000
DTSTAMP:20260421T195228
CREATED:20241217T171210Z
LAST-MODIFIED:20260122T161802Z
UID:10000106-1789036200-1789039800@www.brightonlibrary.ca
SUMMARY:Song & Story Hour
DESCRIPTION:Join Terry and Penny for sing-alongs and story books during this one hour program. This program is tailored to preschool children\, but we love to see all ages enjoy the stories and songs. \nOnce a month\, our friend Johanne helps us learn songs in French\, and brings a favourite French story to share! \nNo registration is required.  \n 
URL:https://www.brightonlibrary.ca/event-calendar/song-story-hour/2026-09-10/
LOCATION:Brighton Public Library\, 35 Alice St\, Brighton\, Ontario\, K0K 1H0\, Canada
CATEGORIES:Drop-In,Kids,Recurring Program
ATTACH;FMTTYPE=image/png:https://www.brightonlibrary.ca/wp-content/uploads/Song-and-Story-FB-Banner.png
END:VEVENT
BEGIN:VEVENT
DTSTART;TZID=America/Toronto:20260910T150000
DTEND;TZID=America/Toronto:20260910T160000
DTSTAMP:20260421T195228
CREATED:20250816T170221Z
LAST-MODIFIED:20260217T135711Z
UID:10002019-1789052400-1789056000@www.brightonlibrary.ca
SUMMARY:Tween Scene
DESCRIPTION:Ages 11-14 can drop in for some snacks\, games\, crafts and hang outs. Head to the Program Room to see what’s on offer each week.
URL:https://www.brightonlibrary.ca/event-calendar/tween-scene/2026-09-10/
LOCATION:Brighton Public Library\, 35 Alice St\, Brighton\, Ontario\, K0K 1H0\, Canada
CATEGORIES:Drop-In,Tweens
ATTACH;FMTTYPE=image/png:https://www.brightonlibrary.ca/wp-content/uploads/Tween-Scene.png
END:VEVENT
BEGIN:VEVENT
DTSTART;TZID=America/Toronto:20260912T100000
DTEND;TZID=America/Toronto:20260912T160000
DTSTAMP:20260421T195228
CREATED:20241223T164123Z
LAST-MODIFIED:20251030T162536Z
UID:10000362-1789207200-1789228800@www.brightonlibrary.ca
SUMMARY:Kids' Crafts Kits
DESCRIPTION:New Craft Kits are unveiled every Saturday at the Main Desk. These can be completed with a few items from home (like glue\, scissors and crayons or markers). There’s a new craft every week!
URL:https://www.brightonlibrary.ca/event-calendar/kids-crafts-kits-2/2026-09-12/
LOCATION:Brighton Public Library\, 35 Alice St\, Brighton\, Ontario\, K0K 1H0\, Canada
CATEGORIES:Crafty,Grab and Go,Kids
ATTACH;FMTTYPE=image/png:https://www.brightonlibrary.ca/wp-content/uploads/Craft-Kits-Banner.png
END:VEVENT
BEGIN:VEVENT
DTSTART;TZID=America/Toronto:20260916T123000
DTEND;TZID=America/Toronto:20260916T143000
DTSTAMP:20260421T195228
CREATED:20241223T164321Z
LAST-MODIFIED:20251030T162458Z
UID:10000681-1789561800-1789569000@www.brightonlibrary.ca
SUMMARY:KnitCetera
DESCRIPTION:Drop in with your project to chat and share with other yarn enthusiasts. All fibre arts are welcome\, and those who want to learn how to knit or crochet are welcome to come and join in!  \nNo registration is required for this event.
URL:https://www.brightonlibrary.ca/event-calendar/knitcetera-2/2026-09-16/
LOCATION:Brighton Public Library\, 35 Alice St\, Brighton\, Ontario\, K0K 1H0\, Canada
CATEGORIES:Crafty,Drop-In,Recurring Program
ATTACH;FMTTYPE=image/png:https://www.brightonlibrary.ca/wp-content/uploads/KnitCetera-Banner.png
END:VEVENT
BEGIN:VEVENT
DTSTART;TZID=America/Toronto:20260917T100000
DTEND;TZID=America/Toronto:20260917T103000
DTSTAMP:20260421T195228
CREATED:20250816T170631Z
LAST-MODIFIED:20260122T161515Z
UID:10002279-1789639200-1789641000@www.brightonlibrary.ca
SUMMARY:Busy Bees
DESCRIPTION:Babies and their caregivers are invited to buzz over and explore a variety of sensory activities together each week while making new friends in this relaxed program.
URL:https://www.brightonlibrary.ca/event-calendar/busy-bees/2026-09-17/
LOCATION:Brighton Public Library\, 35 Alice St\, Brighton\, Ontario\, K0K 1H0\, Canada
CATEGORIES:Babies,Drop-In
ATTACH;FMTTYPE=image/png:https://www.brightonlibrary.ca/wp-content/uploads/Busy-Bees.png
END:VEVENT
BEGIN:VEVENT
DTSTART;TZID=America/Toronto:20260917T103000
DTEND;TZID=America/Toronto:20260917T113000
DTSTAMP:20260421T195228
CREATED:20241217T171210Z
LAST-MODIFIED:20260122T161802Z
UID:10000107-1789641000-1789644600@www.brightonlibrary.ca
SUMMARY:Song & Story Hour
DESCRIPTION:Join Terry and Penny for sing-alongs and story books during this one hour program. This program is tailored to preschool children\, but we love to see all ages enjoy the stories and songs. \nOnce a month\, our friend Johanne helps us learn songs in French\, and brings a favourite French story to share! \nNo registration is required.  \n 
URL:https://www.brightonlibrary.ca/event-calendar/song-story-hour/2026-09-17/
LOCATION:Brighton Public Library\, 35 Alice St\, Brighton\, Ontario\, K0K 1H0\, Canada
CATEGORIES:Drop-In,Kids,Recurring Program
ATTACH;FMTTYPE=image/png:https://www.brightonlibrary.ca/wp-content/uploads/Song-and-Story-FB-Banner.png
END:VEVENT
BEGIN:VEVENT
DTSTART;TZID=America/Toronto:20260917T150000
DTEND;TZID=America/Toronto:20260917T160000
DTSTAMP:20260421T195228
CREATED:20250816T170221Z
LAST-MODIFIED:20260217T135711Z
UID:10002020-1789657200-1789660800@www.brightonlibrary.ca
SUMMARY:Tween Scene
DESCRIPTION:Ages 11-14 can drop in for some snacks\, games\, crafts and hang outs. Head to the Program Room to see what’s on offer each week.
URL:https://www.brightonlibrary.ca/event-calendar/tween-scene/2026-09-17/
LOCATION:Brighton Public Library\, 35 Alice St\, Brighton\, Ontario\, K0K 1H0\, Canada
CATEGORIES:Drop-In,Tweens
ATTACH;FMTTYPE=image/png:https://www.brightonlibrary.ca/wp-content/uploads/Tween-Scene.png
END:VEVENT
BEGIN:VEVENT
DTSTART;TZID=America/Toronto:20260919T100000
DTEND;TZID=America/Toronto:20260919T160000
DTSTAMP:20260421T195228
CREATED:20241223T164123Z
LAST-MODIFIED:20251030T162536Z
UID:10000363-1789812000-1789833600@www.brightonlibrary.ca
SUMMARY:Kids' Crafts Kits
DESCRIPTION:New Craft Kits are unveiled every Saturday at the Main Desk. These can be completed with a few items from home (like glue\, scissors and crayons or markers). There’s a new craft every week!
URL:https://www.brightonlibrary.ca/event-calendar/kids-crafts-kits-2/2026-09-19/
LOCATION:Brighton Public Library\, 35 Alice St\, Brighton\, Ontario\, K0K 1H0\, Canada
CATEGORIES:Crafty,Grab and Go,Kids
ATTACH;FMTTYPE=image/png:https://www.brightonlibrary.ca/wp-content/uploads/Craft-Kits-Banner.png
END:VEVENT
BEGIN:VEVENT
DTSTART;TZID=America/Toronto:20260923T123000
DTEND;TZID=America/Toronto:20260923T143000
DTSTAMP:20260421T195228
CREATED:20241223T164321Z
LAST-MODIFIED:20251030T162458Z
UID:10000682-1790166600-1790173800@www.brightonlibrary.ca
SUMMARY:KnitCetera
DESCRIPTION:Drop in with your project to chat and share with other yarn enthusiasts. All fibre arts are welcome\, and those who want to learn how to knit or crochet are welcome to come and join in!  \nNo registration is required for this event.
URL:https://www.brightonlibrary.ca/event-calendar/knitcetera-2/2026-09-23/
LOCATION:Brighton Public Library\, 35 Alice St\, Brighton\, Ontario\, K0K 1H0\, Canada
CATEGORIES:Crafty,Drop-In,Recurring Program
ATTACH;FMTTYPE=image/png:https://www.brightonlibrary.ca/wp-content/uploads/KnitCetera-Banner.png
END:VEVENT
BEGIN:VEVENT
DTSTART;TZID=America/Toronto:20260923T190000
DTEND;TZID=America/Toronto:20260923T200000
DTSTAMP:20260421T195228
CREATED:20250227T170024Z
LAST-MODIFIED:20251209T175921Z
UID:10001811-1790190000-1790193600@www.brightonlibrary.ca
SUMMARY:BPL Board Meeting
DESCRIPTION:The Brighton Public Library Board will be meeting tonight in the Library’s Program Room at 35 Alice Street. The public is always welcome to attend these Board meetings.
URL:https://www.brightonlibrary.ca/event-calendar/bpl-board-meeting/2026-09-23/
LOCATION:Brighton Public Library\, 35 Alice St\, Brighton\, Ontario\, K0K 1H0\, Canada
ATTACH;FMTTYPE=image/png:https://www.brightonlibrary.ca/wp-content/uploads/Board-Meeting.png
END:VEVENT
BEGIN:VEVENT
DTSTART;TZID=America/Toronto:20260924T100000
DTEND;TZID=America/Toronto:20260924T103000
DTSTAMP:20260421T195228
CREATED:20250816T170631Z
LAST-MODIFIED:20260122T161515Z
UID:10002280-1790244000-1790245800@www.brightonlibrary.ca
SUMMARY:Busy Bees
DESCRIPTION:Babies and their caregivers are invited to buzz over and explore a variety of sensory activities together each week while making new friends in this relaxed program.
URL:https://www.brightonlibrary.ca/event-calendar/busy-bees/2026-09-24/
LOCATION:Brighton Public Library\, 35 Alice St\, Brighton\, Ontario\, K0K 1H0\, Canada
CATEGORIES:Babies,Drop-In
ATTACH;FMTTYPE=image/png:https://www.brightonlibrary.ca/wp-content/uploads/Busy-Bees.png
END:VEVENT
BEGIN:VEVENT
DTSTART;TZID=America/Toronto:20260924T103000
DTEND;TZID=America/Toronto:20260924T113000
DTSTAMP:20260421T195228
CREATED:20241217T171210Z
LAST-MODIFIED:20260122T161802Z
UID:10000108-1790245800-1790249400@www.brightonlibrary.ca
SUMMARY:Song & Story Hour
DESCRIPTION:Join Terry and Penny for sing-alongs and story books during this one hour program. This program is tailored to preschool children\, but we love to see all ages enjoy the stories and songs. \nOnce a month\, our friend Johanne helps us learn songs in French\, and brings a favourite French story to share! \nNo registration is required.  \n 
URL:https://www.brightonlibrary.ca/event-calendar/song-story-hour/2026-09-24/
LOCATION:Brighton Public Library\, 35 Alice St\, Brighton\, Ontario\, K0K 1H0\, Canada
CATEGORIES:Drop-In,Kids,Recurring Program
ATTACH;FMTTYPE=image/png:https://www.brightonlibrary.ca/wp-content/uploads/Song-and-Story-FB-Banner.png
END:VEVENT
END:VCALENDAR