BEGIN:VCALENDAR
VERSION:2.0
PRODID:-//Brighton Public Library - ECPv6.15.20//NONSGML v1.0//EN
CALSCALE:GREGORIAN
METHOD:PUBLISH
X-ORIGINAL-URL:https://www.brightonlibrary.ca
X-WR-CALDESC:Events for Brighton Public Library
REFRESH-INTERVAL;VALUE=DURATION:PT1H
X-Robots-Tag:noindex
X-PUBLISHED-TTL:PT1H
BEGIN:VTIMEZONE
TZID:America/Toronto
BEGIN:DAYLIGHT
TZOFFSETFROM:-0500
TZOFFSETTO:-0400
TZNAME:EDT
DTSTART:20280312T070000
END:DAYLIGHT
BEGIN:STANDARD
TZOFFSETFROM:-0400
TZOFFSETTO:-0500
TZNAME:EST
DTSTART:20281105T060000
END:STANDARD
BEGIN:DAYLIGHT
TZOFFSETFROM:-0500
TZOFFSETTO:-0400
TZNAME:EDT
DTSTART:20290311T070000
END:DAYLIGHT
BEGIN:STANDARD
TZOFFSETFROM:-0400
TZOFFSETTO:-0500
TZNAME:EST
DTSTART:20291104T060000
END:STANDARD
BEGIN:DAYLIGHT
TZOFFSETFROM:-0500
TZOFFSETTO:-0400
TZNAME:EDT
DTSTART:20300310T070000
END:DAYLIGHT
BEGIN:STANDARD
TZOFFSETFROM:-0400
TZOFFSETTO:-0500
TZNAME:EST
DTSTART:20301103T060000
END:STANDARD
END:VTIMEZONE
BEGIN:VEVENT
DTSTART;TZID=America/Toronto:20290505T103000
DTEND;TZID=America/Toronto:20290505T113000
DTSTAMP:20260425T225541
CREATED:20241223T164854Z
LAST-MODIFIED:20250227T185720Z
UID:10001414-1872671400-1872675000@www.brightonlibrary.ca
SUMMARY:Spanish Circle
DESCRIPTION:Join Sofia to practise your Spanish and make new amigos in a relaxed\, conversational group. All ages and skill levels are welcome.
URL:https://www.brightonlibrary.ca/event-calendar/spanish-circle/2029-05-05/
LOCATION:Brighton Public Library\, 35 Alice St\, Brighton\, Ontario\, K0K 1H0\, Canada
CATEGORIES:All Ages,Recurring Program
ATTACH;FMTTYPE=image/png:https://www.brightonlibrary.ca/wp-content/uploads/Spanish-Circle-FB-Cover.png
END:VEVENT
BEGIN:VEVENT
DTSTART;TZID=America/Toronto:20290509T123000
DTEND;TZID=America/Toronto:20290509T143000
DTSTAMP:20260425T225541
CREATED:20241223T164321Z
LAST-MODIFIED:20251030T162458Z
UID:10000819-1873024200-1873031400@www.brightonlibrary.ca
SUMMARY:KnitCetera
DESCRIPTION:Drop in with your project to chat and share with other yarn enthusiasts. All fibre arts are welcome\, and those who want to learn how to knit or crochet are welcome to come and join in!  \nNo registration is required for this event.
URL:https://www.brightonlibrary.ca/event-calendar/knitcetera-2/2029-05-09/
LOCATION:Brighton Public Library\, 35 Alice St\, Brighton\, Ontario\, K0K 1H0\, Canada
CATEGORIES:Crafty,Drop-In,Recurring Program
ATTACH;FMTTYPE=image/png:https://www.brightonlibrary.ca/wp-content/uploads/KnitCetera-Banner.png
END:VEVENT
BEGIN:VEVENT
DTSTART;TZID=America/Toronto:20290510T100000
DTEND;TZID=America/Toronto:20290510T103000
DTSTAMP:20260425T225541
CREATED:20250816T170631Z
LAST-MODIFIED:20260122T161515Z
UID:10002417-1873101600-1873103400@www.brightonlibrary.ca
SUMMARY:Busy Bees
DESCRIPTION:Babies and their caregivers are invited to buzz over and explore a variety of sensory activities together each week while making new friends in this relaxed program.
URL:https://www.brightonlibrary.ca/event-calendar/busy-bees/2029-05-10/
LOCATION:Brighton Public Library\, 35 Alice St\, Brighton\, Ontario\, K0K 1H0\, Canada
CATEGORIES:Babies,Drop-In
ATTACH;FMTTYPE=image/png:https://www.brightonlibrary.ca/wp-content/uploads/Busy-Bees.png
END:VEVENT
BEGIN:VEVENT
DTSTART;TZID=America/Toronto:20290510T103000
DTEND;TZID=America/Toronto:20290510T113000
DTSTAMP:20260425T225541
CREATED:20241217T171210Z
LAST-MODIFIED:20260122T161802Z
UID:10000245-1873103400-1873107000@www.brightonlibrary.ca
SUMMARY:Song & Story Hour
DESCRIPTION:Join Terry and Penny for sing-alongs and story books during this one hour program. This program is tailored to preschool children\, but we love to see all ages enjoy the stories and songs. \nOnce a month\, our friend Johanne helps us learn songs in French\, and brings a favourite French story to share! \nNo registration is required.  \n 
URL:https://www.brightonlibrary.ca/event-calendar/song-story-hour/2029-05-10/
LOCATION:Brighton Public Library\, 35 Alice St\, Brighton\, Ontario\, K0K 1H0\, Canada
CATEGORIES:Drop-In,Kids,Recurring Program
ATTACH;FMTTYPE=image/png:https://www.brightonlibrary.ca/wp-content/uploads/Song-and-Story-FB-Banner.png
END:VEVENT
BEGIN:VEVENT
DTSTART;TZID=America/Toronto:20290510T150000
DTEND;TZID=America/Toronto:20290510T160000
DTSTAMP:20260425T225541
CREATED:20250816T170221Z
LAST-MODIFIED:20260217T135711Z
UID:10002158-1873119600-1873123200@www.brightonlibrary.ca
SUMMARY:Tween Scene
DESCRIPTION:Ages 11-14 can drop in for some snacks\, games\, crafts and hang outs. Head to the Program Room to see what’s on offer each week.
URL:https://www.brightonlibrary.ca/event-calendar/tween-scene/2029-05-10/
LOCATION:Brighton Public Library\, 35 Alice St\, Brighton\, Ontario\, K0K 1H0\, Canada
CATEGORIES:Drop-In,Tweens
ATTACH;FMTTYPE=image/png:https://www.brightonlibrary.ca/wp-content/uploads/Tween-Scene.png
END:VEVENT
BEGIN:VEVENT
DTSTART;TZID=America/Toronto:20290512T100000
DTEND;TZID=America/Toronto:20290512T160000
DTSTAMP:20260425T225541
CREATED:20241223T164123Z
LAST-MODIFIED:20251030T162536Z
UID:10000501-1873274400-1873296000@www.brightonlibrary.ca
SUMMARY:Kids' Crafts Kits
DESCRIPTION:New Craft Kits are unveiled every Saturday at the Main Desk. These can be completed with a few items from home (like glue\, scissors and crayons or markers). There’s a new craft every week!
URL:https://www.brightonlibrary.ca/event-calendar/kids-crafts-kits-2/2029-05-12/
LOCATION:Brighton Public Library\, 35 Alice St\, Brighton\, Ontario\, K0K 1H0\, Canada
CATEGORIES:Crafty,Grab and Go,Kids
ATTACH;FMTTYPE=image/png:https://www.brightonlibrary.ca/wp-content/uploads/Craft-Kits-Banner.png
END:VEVENT
BEGIN:VEVENT
DTSTART;TZID=America/Toronto:20290516T123000
DTEND;TZID=America/Toronto:20290516T143000
DTSTAMP:20260425T225541
CREATED:20241223T164321Z
LAST-MODIFIED:20251030T162458Z
UID:10000820-1873629000-1873636200@www.brightonlibrary.ca
SUMMARY:KnitCetera
DESCRIPTION:Drop in with your project to chat and share with other yarn enthusiasts. All fibre arts are welcome\, and those who want to learn how to knit or crochet are welcome to come and join in!  \nNo registration is required for this event.
URL:https://www.brightonlibrary.ca/event-calendar/knitcetera-2/2029-05-16/
LOCATION:Brighton Public Library\, 35 Alice St\, Brighton\, Ontario\, K0K 1H0\, Canada
CATEGORIES:Crafty,Drop-In,Recurring Program
ATTACH;FMTTYPE=image/png:https://www.brightonlibrary.ca/wp-content/uploads/KnitCetera-Banner.png
END:VEVENT
BEGIN:VEVENT
DTSTART;TZID=America/Toronto:20290517T100000
DTEND;TZID=America/Toronto:20290517T103000
DTSTAMP:20260425T225541
CREATED:20250816T170631Z
LAST-MODIFIED:20260122T161515Z
UID:10002418-1873706400-1873708200@www.brightonlibrary.ca
SUMMARY:Busy Bees
DESCRIPTION:Babies and their caregivers are invited to buzz over and explore a variety of sensory activities together each week while making new friends in this relaxed program.
URL:https://www.brightonlibrary.ca/event-calendar/busy-bees/2029-05-17/
LOCATION:Brighton Public Library\, 35 Alice St\, Brighton\, Ontario\, K0K 1H0\, Canada
CATEGORIES:Babies,Drop-In
ATTACH;FMTTYPE=image/png:https://www.brightonlibrary.ca/wp-content/uploads/Busy-Bees.png
END:VEVENT
BEGIN:VEVENT
DTSTART;TZID=America/Toronto:20290517T103000
DTEND;TZID=America/Toronto:20290517T113000
DTSTAMP:20260425T225541
CREATED:20241217T171210Z
LAST-MODIFIED:20260122T161802Z
UID:10000246-1873708200-1873711800@www.brightonlibrary.ca
SUMMARY:Song & Story Hour
DESCRIPTION:Join Terry and Penny for sing-alongs and story books during this one hour program. This program is tailored to preschool children\, but we love to see all ages enjoy the stories and songs. \nOnce a month\, our friend Johanne helps us learn songs in French\, and brings a favourite French story to share! \nNo registration is required.  \n 
URL:https://www.brightonlibrary.ca/event-calendar/song-story-hour/2029-05-17/
LOCATION:Brighton Public Library\, 35 Alice St\, Brighton\, Ontario\, K0K 1H0\, Canada
CATEGORIES:Drop-In,Kids,Recurring Program
ATTACH;FMTTYPE=image/png:https://www.brightonlibrary.ca/wp-content/uploads/Song-and-Story-FB-Banner.png
END:VEVENT
BEGIN:VEVENT
DTSTART;TZID=America/Toronto:20290517T150000
DTEND;TZID=America/Toronto:20290517T160000
DTSTAMP:20260425T225541
CREATED:20250816T170221Z
LAST-MODIFIED:20260217T135711Z
UID:10002159-1873724400-1873728000@www.brightonlibrary.ca
SUMMARY:Tween Scene
DESCRIPTION:Ages 11-14 can drop in for some snacks\, games\, crafts and hang outs. Head to the Program Room to see what’s on offer each week.
URL:https://www.brightonlibrary.ca/event-calendar/tween-scene/2029-05-17/
LOCATION:Brighton Public Library\, 35 Alice St\, Brighton\, Ontario\, K0K 1H0\, Canada
CATEGORIES:Drop-In,Tweens
ATTACH;FMTTYPE=image/png:https://www.brightonlibrary.ca/wp-content/uploads/Tween-Scene.png
END:VEVENT
BEGIN:VEVENT
DTSTART;TZID=America/Toronto:20290519T100000
DTEND;TZID=America/Toronto:20290519T160000
DTSTAMP:20260425T225541
CREATED:20241223T164123Z
LAST-MODIFIED:20251030T162536Z
UID:10000502-1873879200-1873900800@www.brightonlibrary.ca
SUMMARY:Kids' Crafts Kits
DESCRIPTION:New Craft Kits are unveiled every Saturday at the Main Desk. These can be completed with a few items from home (like glue\, scissors and crayons or markers). There’s a new craft every week!
URL:https://www.brightonlibrary.ca/event-calendar/kids-crafts-kits-2/2029-05-19/
LOCATION:Brighton Public Library\, 35 Alice St\, Brighton\, Ontario\, K0K 1H0\, Canada
CATEGORIES:Crafty,Grab and Go,Kids
ATTACH;FMTTYPE=image/png:https://www.brightonlibrary.ca/wp-content/uploads/Craft-Kits-Banner.png
END:VEVENT
BEGIN:VEVENT
DTSTART;TZID=America/Toronto:20290523T123000
DTEND;TZID=America/Toronto:20290523T143000
DTSTAMP:20260425T225541
CREATED:20241223T164321Z
LAST-MODIFIED:20251030T162458Z
UID:10000821-1874233800-1874241000@www.brightonlibrary.ca
SUMMARY:KnitCetera
DESCRIPTION:Drop in with your project to chat and share with other yarn enthusiasts. All fibre arts are welcome\, and those who want to learn how to knit or crochet are welcome to come and join in!  \nNo registration is required for this event.
URL:https://www.brightonlibrary.ca/event-calendar/knitcetera-2/2029-05-23/
LOCATION:Brighton Public Library\, 35 Alice St\, Brighton\, Ontario\, K0K 1H0\, Canada
CATEGORIES:Crafty,Drop-In,Recurring Program
ATTACH;FMTTYPE=image/png:https://www.brightonlibrary.ca/wp-content/uploads/KnitCetera-Banner.png
END:VEVENT
BEGIN:VEVENT
DTSTART;TZID=America/Toronto:20290523T190000
DTEND;TZID=America/Toronto:20290523T200000
DTSTAMP:20260425T225541
CREATED:20250227T170024Z
LAST-MODIFIED:20251209T175921Z
UID:10001843-1874257200-1874260800@www.brightonlibrary.ca
SUMMARY:BPL Board Meeting
DESCRIPTION:The Brighton Public Library Board will be meeting tonight in the Library’s Program Room at 35 Alice Street. The public is always welcome to attend these Board meetings.
URL:https://www.brightonlibrary.ca/event-calendar/bpl-board-meeting/2029-05-23/
LOCATION:Brighton Public Library\, 35 Alice St\, Brighton\, Ontario\, K0K 1H0\, Canada
ATTACH;FMTTYPE=image/png:https://www.brightonlibrary.ca/wp-content/uploads/Board-Meeting.png
END:VEVENT
BEGIN:VEVENT
DTSTART;TZID=America/Toronto:20290524T100000
DTEND;TZID=America/Toronto:20290524T103000
DTSTAMP:20260425T225541
CREATED:20250816T170631Z
LAST-MODIFIED:20260122T161515Z
UID:10002419-1874311200-1874313000@www.brightonlibrary.ca
SUMMARY:Busy Bees
DESCRIPTION:Babies and their caregivers are invited to buzz over and explore a variety of sensory activities together each week while making new friends in this relaxed program.
URL:https://www.brightonlibrary.ca/event-calendar/busy-bees/2029-05-24/
LOCATION:Brighton Public Library\, 35 Alice St\, Brighton\, Ontario\, K0K 1H0\, Canada
CATEGORIES:Babies,Drop-In
ATTACH;FMTTYPE=image/png:https://www.brightonlibrary.ca/wp-content/uploads/Busy-Bees.png
END:VEVENT
BEGIN:VEVENT
DTSTART;TZID=America/Toronto:20290524T103000
DTEND;TZID=America/Toronto:20290524T113000
DTSTAMP:20260425T225541
CREATED:20241217T171210Z
LAST-MODIFIED:20260122T161802Z
UID:10000247-1874313000-1874316600@www.brightonlibrary.ca
SUMMARY:Song & Story Hour
DESCRIPTION:Join Terry and Penny for sing-alongs and story books during this one hour program. This program is tailored to preschool children\, but we love to see all ages enjoy the stories and songs. \nOnce a month\, our friend Johanne helps us learn songs in French\, and brings a favourite French story to share! \nNo registration is required.  \n 
URL:https://www.brightonlibrary.ca/event-calendar/song-story-hour/2029-05-24/
LOCATION:Brighton Public Library\, 35 Alice St\, Brighton\, Ontario\, K0K 1H0\, Canada
CATEGORIES:Drop-In,Kids,Recurring Program
ATTACH;FMTTYPE=image/png:https://www.brightonlibrary.ca/wp-content/uploads/Song-and-Story-FB-Banner.png
END:VEVENT
BEGIN:VEVENT
DTSTART;TZID=America/Toronto:20290524T150000
DTEND;TZID=America/Toronto:20290524T160000
DTSTAMP:20260425T225541
CREATED:20250816T170221Z
LAST-MODIFIED:20260217T135711Z
UID:10002160-1874329200-1874332800@www.brightonlibrary.ca
SUMMARY:Tween Scene
DESCRIPTION:Ages 11-14 can drop in for some snacks\, games\, crafts and hang outs. Head to the Program Room to see what’s on offer each week.
URL:https://www.brightonlibrary.ca/event-calendar/tween-scene/2029-05-24/
LOCATION:Brighton Public Library\, 35 Alice St\, Brighton\, Ontario\, K0K 1H0\, Canada
CATEGORIES:Drop-In,Tweens
ATTACH;FMTTYPE=image/png:https://www.brightonlibrary.ca/wp-content/uploads/Tween-Scene.png
END:VEVENT
BEGIN:VEVENT
DTSTART;TZID=America/Toronto:20290526T100000
DTEND;TZID=America/Toronto:20290526T160000
DTSTAMP:20260425T225541
CREATED:20241223T164123Z
LAST-MODIFIED:20251030T162536Z
UID:10000503-1874484000-1874505600@www.brightonlibrary.ca
SUMMARY:Kids' Crafts Kits
DESCRIPTION:New Craft Kits are unveiled every Saturday at the Main Desk. These can be completed with a few items from home (like glue\, scissors and crayons or markers). There’s a new craft every week!
URL:https://www.brightonlibrary.ca/event-calendar/kids-crafts-kits-2/2029-05-26/
LOCATION:Brighton Public Library\, 35 Alice St\, Brighton\, Ontario\, K0K 1H0\, Canada
CATEGORIES:Crafty,Grab and Go,Kids
ATTACH;FMTTYPE=image/png:https://www.brightonlibrary.ca/wp-content/uploads/Craft-Kits-Banner.png
END:VEVENT
BEGIN:VEVENT
DTSTART;TZID=America/Toronto:20290530T123000
DTEND;TZID=America/Toronto:20290530T143000
DTSTAMP:20260425T225541
CREATED:20241223T164321Z
LAST-MODIFIED:20251030T162458Z
UID:10000822-1874838600-1874845800@www.brightonlibrary.ca
SUMMARY:KnitCetera
DESCRIPTION:Drop in with your project to chat and share with other yarn enthusiasts. All fibre arts are welcome\, and those who want to learn how to knit or crochet are welcome to come and join in!  \nNo registration is required for this event.
URL:https://www.brightonlibrary.ca/event-calendar/knitcetera-2/2029-05-30/
LOCATION:Brighton Public Library\, 35 Alice St\, Brighton\, Ontario\, K0K 1H0\, Canada
CATEGORIES:Crafty,Drop-In,Recurring Program
ATTACH;FMTTYPE=image/png:https://www.brightonlibrary.ca/wp-content/uploads/KnitCetera-Banner.png
END:VEVENT
BEGIN:VEVENT
DTSTART;TZID=America/Toronto:20290531T100000
DTEND;TZID=America/Toronto:20290531T103000
DTSTAMP:20260425T225541
CREATED:20250816T170631Z
LAST-MODIFIED:20260122T161515Z
UID:10002420-1874916000-1874917800@www.brightonlibrary.ca
SUMMARY:Busy Bees
DESCRIPTION:Babies and their caregivers are invited to buzz over and explore a variety of sensory activities together each week while making new friends in this relaxed program.
URL:https://www.brightonlibrary.ca/event-calendar/busy-bees/2029-05-31/
LOCATION:Brighton Public Library\, 35 Alice St\, Brighton\, Ontario\, K0K 1H0\, Canada
CATEGORIES:Babies,Drop-In
ATTACH;FMTTYPE=image/png:https://www.brightonlibrary.ca/wp-content/uploads/Busy-Bees.png
END:VEVENT
BEGIN:VEVENT
DTSTART;TZID=America/Toronto:20290531T103000
DTEND;TZID=America/Toronto:20290531T113000
DTSTAMP:20260425T225541
CREATED:20241217T171210Z
LAST-MODIFIED:20260122T161802Z
UID:10000248-1874917800-1874921400@www.brightonlibrary.ca
SUMMARY:Song & Story Hour
DESCRIPTION:Join Terry and Penny for sing-alongs and story books during this one hour program. This program is tailored to preschool children\, but we love to see all ages enjoy the stories and songs. \nOnce a month\, our friend Johanne helps us learn songs in French\, and brings a favourite French story to share! \nNo registration is required.  \n 
URL:https://www.brightonlibrary.ca/event-calendar/song-story-hour/2029-05-31/
LOCATION:Brighton Public Library\, 35 Alice St\, Brighton\, Ontario\, K0K 1H0\, Canada
CATEGORIES:Drop-In,Kids,Recurring Program
ATTACH;FMTTYPE=image/png:https://www.brightonlibrary.ca/wp-content/uploads/Song-and-Story-FB-Banner.png
END:VEVENT
BEGIN:VEVENT
DTSTART;TZID=America/Toronto:20290531T150000
DTEND;TZID=America/Toronto:20290531T160000
DTSTAMP:20260425T225541
CREATED:20250816T170221Z
LAST-MODIFIED:20260217T135711Z
UID:10002161-1874934000-1874937600@www.brightonlibrary.ca
SUMMARY:Tween Scene
DESCRIPTION:Ages 11-14 can drop in for some snacks\, games\, crafts and hang outs. Head to the Program Room to see what’s on offer each week.
URL:https://www.brightonlibrary.ca/event-calendar/tween-scene/2029-05-31/
LOCATION:Brighton Public Library\, 35 Alice St\, Brighton\, Ontario\, K0K 1H0\, Canada
CATEGORIES:Drop-In,Tweens
ATTACH;FMTTYPE=image/png:https://www.brightonlibrary.ca/wp-content/uploads/Tween-Scene.png
END:VEVENT
BEGIN:VEVENT
DTSTART;VALUE=DATE:20290601
DTEND;VALUE=DATE:20290602
DTSTAMP:20260425T225541
CREATED:20250303T190516Z
LAST-MODIFIED:20251117T172413Z
UID:10001668-1874966400-1875052799@www.brightonlibrary.ca
SUMMARY:Teens' Craft Kits
DESCRIPTION:Each month\, a new Grab & Go Craft Kit is available for teens to pick up at the library. Each month features new activities to try in the library or at home. We keep this available for as long as supplies last\, each month!
URL:https://www.brightonlibrary.ca/event-calendar/teens-craft-kits/2029-06-01/
LOCATION:Brighton Public Library\, 35 Alice St\, Brighton\, Ontario\, K0K 1H0\, Canada
CATEGORIES:Crafty,Grab and Go,Teens
ATTACH;FMTTYPE=image/png:https://www.brightonlibrary.ca/wp-content/uploads/Grab-and-Go-Kits.png
END:VEVENT
BEGIN:VEVENT
DTSTART;TZID=America/Toronto:20290602T100000
DTEND;TZID=America/Toronto:20290602T160000
DTSTAMP:20260425T225541
CREATED:20241223T164123Z
LAST-MODIFIED:20251030T162536Z
UID:10000504-1875088800-1875110400@www.brightonlibrary.ca
SUMMARY:Kids' Crafts Kits
DESCRIPTION:New Craft Kits are unveiled every Saturday at the Main Desk. These can be completed with a few items from home (like glue\, scissors and crayons or markers). There’s a new craft every week!
URL:https://www.brightonlibrary.ca/event-calendar/kids-crafts-kits-2/2029-06-02/
LOCATION:Brighton Public Library\, 35 Alice St\, Brighton\, Ontario\, K0K 1H0\, Canada
CATEGORIES:Crafty,Grab and Go,Kids
ATTACH;FMTTYPE=image/png:https://www.brightonlibrary.ca/wp-content/uploads/Craft-Kits-Banner.png
END:VEVENT
BEGIN:VEVENT
DTSTART;TZID=America/Toronto:20290602T103000
DTEND;TZID=America/Toronto:20290602T113000
DTSTAMP:20260425T225541
CREATED:20241223T164854Z
LAST-MODIFIED:20250227T185720Z
UID:10001415-1875090600-1875094200@www.brightonlibrary.ca
SUMMARY:Spanish Circle
DESCRIPTION:Join Sofia to practise your Spanish and make new amigos in a relaxed\, conversational group. All ages and skill levels are welcome.
URL:https://www.brightonlibrary.ca/event-calendar/spanish-circle/2029-06-02/
LOCATION:Brighton Public Library\, 35 Alice St\, Brighton\, Ontario\, K0K 1H0\, Canada
CATEGORIES:All Ages,Recurring Program
ATTACH;FMTTYPE=image/png:https://www.brightonlibrary.ca/wp-content/uploads/Spanish-Circle-FB-Cover.png
END:VEVENT
BEGIN:VEVENT
DTSTART;TZID=America/Toronto:20290606T123000
DTEND;TZID=America/Toronto:20290606T143000
DTSTAMP:20260425T225541
CREATED:20241223T164321Z
LAST-MODIFIED:20251030T162458Z
UID:10000823-1875443400-1875450600@www.brightonlibrary.ca
SUMMARY:KnitCetera
DESCRIPTION:Drop in with your project to chat and share with other yarn enthusiasts. All fibre arts are welcome\, and those who want to learn how to knit or crochet are welcome to come and join in!  \nNo registration is required for this event.
URL:https://www.brightonlibrary.ca/event-calendar/knitcetera-2/2029-06-06/
LOCATION:Brighton Public Library\, 35 Alice St\, Brighton\, Ontario\, K0K 1H0\, Canada
CATEGORIES:Crafty,Drop-In,Recurring Program
ATTACH;FMTTYPE=image/png:https://www.brightonlibrary.ca/wp-content/uploads/KnitCetera-Banner.png
END:VEVENT
BEGIN:VEVENT
DTSTART;TZID=America/Toronto:20290607T100000
DTEND;TZID=America/Toronto:20290607T103000
DTSTAMP:20260425T225541
CREATED:20250816T170631Z
LAST-MODIFIED:20260122T161515Z
UID:10002421-1875520800-1875522600@www.brightonlibrary.ca
SUMMARY:Busy Bees
DESCRIPTION:Babies and their caregivers are invited to buzz over and explore a variety of sensory activities together each week while making new friends in this relaxed program.
URL:https://www.brightonlibrary.ca/event-calendar/busy-bees/2029-06-07/
LOCATION:Brighton Public Library\, 35 Alice St\, Brighton\, Ontario\, K0K 1H0\, Canada
CATEGORIES:Babies,Drop-In
ATTACH;FMTTYPE=image/png:https://www.brightonlibrary.ca/wp-content/uploads/Busy-Bees.png
END:VEVENT
BEGIN:VEVENT
DTSTART;TZID=America/Toronto:20290607T103000
DTEND;TZID=America/Toronto:20290607T113000
DTSTAMP:20260425T225541
CREATED:20241217T171210Z
LAST-MODIFIED:20260122T161802Z
UID:10000249-1875522600-1875526200@www.brightonlibrary.ca
SUMMARY:Song & Story Hour
DESCRIPTION:Join Terry and Penny for sing-alongs and story books during this one hour program. This program is tailored to preschool children\, but we love to see all ages enjoy the stories and songs. \nOnce a month\, our friend Johanne helps us learn songs in French\, and brings a favourite French story to share! \nNo registration is required.  \n 
URL:https://www.brightonlibrary.ca/event-calendar/song-story-hour/2029-06-07/
LOCATION:Brighton Public Library\, 35 Alice St\, Brighton\, Ontario\, K0K 1H0\, Canada
CATEGORIES:Drop-In,Kids,Recurring Program
ATTACH;FMTTYPE=image/png:https://www.brightonlibrary.ca/wp-content/uploads/Song-and-Story-FB-Banner.png
END:VEVENT
BEGIN:VEVENT
DTSTART;TZID=America/Toronto:20290607T150000
DTEND;TZID=America/Toronto:20290607T160000
DTSTAMP:20260425T225541
CREATED:20250816T170221Z
LAST-MODIFIED:20260217T135711Z
UID:10002162-1875538800-1875542400@www.brightonlibrary.ca
SUMMARY:Tween Scene
DESCRIPTION:Ages 11-14 can drop in for some snacks\, games\, crafts and hang outs. Head to the Program Room to see what’s on offer each week.
URL:https://www.brightonlibrary.ca/event-calendar/tween-scene/2029-06-07/
LOCATION:Brighton Public Library\, 35 Alice St\, Brighton\, Ontario\, K0K 1H0\, Canada
CATEGORIES:Drop-In,Tweens
ATTACH;FMTTYPE=image/png:https://www.brightonlibrary.ca/wp-content/uploads/Tween-Scene.png
END:VEVENT
BEGIN:VEVENT
DTSTART;TZID=America/Toronto:20290609T100000
DTEND;TZID=America/Toronto:20290609T160000
DTSTAMP:20260425T225541
CREATED:20241223T164123Z
LAST-MODIFIED:20251030T162536Z
UID:10000505-1875693600-1875715200@www.brightonlibrary.ca
SUMMARY:Kids' Crafts Kits
DESCRIPTION:New Craft Kits are unveiled every Saturday at the Main Desk. These can be completed with a few items from home (like glue\, scissors and crayons or markers). There’s a new craft every week!
URL:https://www.brightonlibrary.ca/event-calendar/kids-crafts-kits-2/2029-06-09/
LOCATION:Brighton Public Library\, 35 Alice St\, Brighton\, Ontario\, K0K 1H0\, Canada
CATEGORIES:Crafty,Grab and Go,Kids
ATTACH;FMTTYPE=image/png:https://www.brightonlibrary.ca/wp-content/uploads/Craft-Kits-Banner.png
END:VEVENT
BEGIN:VEVENT
DTSTART;TZID=America/Toronto:20290613T123000
DTEND;TZID=America/Toronto:20290613T143000
DTSTAMP:20260425T225541
CREATED:20241223T164321Z
LAST-MODIFIED:20251030T162458Z
UID:10000824-1876048200-1876055400@www.brightonlibrary.ca
SUMMARY:KnitCetera
DESCRIPTION:Drop in with your project to chat and share with other yarn enthusiasts. All fibre arts are welcome\, and those who want to learn how to knit or crochet are welcome to come and join in!  \nNo registration is required for this event.
URL:https://www.brightonlibrary.ca/event-calendar/knitcetera-2/2029-06-13/
LOCATION:Brighton Public Library\, 35 Alice St\, Brighton\, Ontario\, K0K 1H0\, Canada
CATEGORIES:Crafty,Drop-In,Recurring Program
ATTACH;FMTTYPE=image/png:https://www.brightonlibrary.ca/wp-content/uploads/KnitCetera-Banner.png
END:VEVENT
END:VCALENDAR