BEGIN:VCALENDAR
VERSION:2.0
PRODID:-//Brighton Public Library - ECPv6.15.20//NONSGML v1.0//EN
CALSCALE:GREGORIAN
METHOD:PUBLISH
X-WR-CALNAME:Brighton Public Library
X-ORIGINAL-URL:https://www.brightonlibrary.ca
X-WR-CALDESC:Events for Brighton Public Library
REFRESH-INTERVAL;VALUE=DURATION:PT1H
X-Robots-Tag:noindex
X-PUBLISHED-TTL:PT1H
BEGIN:VTIMEZONE
TZID:America/Toronto
BEGIN:DAYLIGHT
TZOFFSETFROM:-0500
TZOFFSETTO:-0400
TZNAME:EDT
DTSTART:20240310T070000
END:DAYLIGHT
BEGIN:STANDARD
TZOFFSETFROM:-0400
TZOFFSETTO:-0500
TZNAME:EST
DTSTART:20241103T060000
END:STANDARD
BEGIN:DAYLIGHT
TZOFFSETFROM:-0500
TZOFFSETTO:-0400
TZNAME:EDT
DTSTART:20250309T070000
END:DAYLIGHT
BEGIN:STANDARD
TZOFFSETFROM:-0400
TZOFFSETTO:-0500
TZNAME:EST
DTSTART:20251102T060000
END:STANDARD
BEGIN:DAYLIGHT
TZOFFSETFROM:-0500
TZOFFSETTO:-0400
TZNAME:EDT
DTSTART:20260308T070000
END:DAYLIGHT
BEGIN:STANDARD
TZOFFSETFROM:-0400
TZOFFSETTO:-0500
TZNAME:EST
DTSTART:20261101T060000
END:STANDARD
BEGIN:DAYLIGHT
TZOFFSETFROM:-0500
TZOFFSETTO:-0400
TZNAME:EDT
DTSTART:20270314T070000
END:DAYLIGHT
BEGIN:STANDARD
TZOFFSETFROM:-0400
TZOFFSETTO:-0500
TZNAME:EST
DTSTART:20271107T060000
END:STANDARD
END:VTIMEZONE
BEGIN:VEVENT
DTSTART;TZID=America/Toronto:20251122T103000
DTEND;TZID=America/Toronto:20251122T120000
DTSTAMP:20260421T134417
CREATED:20250828T175926Z
LAST-MODIFIED:20260326T235434Z
UID:10002508-1763807400-1763812800@www.brightonlibrary.ca
SUMMARY:EarlyOn at the Library
DESCRIPTION:Join Sam from EarlyOn for a fun morning of open-ended play at the library! \nNo registration is required.
URL:https://www.brightonlibrary.ca/event-calendar/earlyon-at-the-library-3/2025-11-22/
LOCATION:Brighton Public Library\, 35 Alice St\, Brighton\, Ontario\, K0K 1H0\, Canada
CATEGORIES:Drop-In,Kids,Recurring Program
ATTACH;FMTTYPE=image/png:https://www.brightonlibrary.ca/wp-content/uploads/EarlyOn-at-the-Library-FB-Cover-2.png
END:VEVENT
BEGIN:VEVENT
DTSTART;TZID=America/Toronto:20251125T130000
DTEND;TZID=America/Toronto:20251125T190000
DTSTAMP:20260421T134417
CREATED:20250303T162536Z
LAST-MODIFIED:20260205T185936Z
UID:10002519-1764075600-1764097200@www.brightonlibrary.ca
SUMMARY:Tech Tuesdays
DESCRIPTION:Bring in your device or get help navigating the digital library\, by booking a 30-minute session with our staff. This one-on-one help is offered twice a month\, and is a very popular service. \nBecause we need to discuss your tech issue and select an appropriate time slot there is no online registration available for this program. Please visit the Main Desk or call the library during open hours to register: 613-475-2511.
URL:https://www.brightonlibrary.ca/event-calendar/tech-tuesdays-4/2025-11-25/
LOCATION:Brighton Public Library\, 35 Alice St\, Brighton\, Ontario\, K0K 1H0\, Canada
CATEGORIES:Adults,Recurring Program,Registration Required
ATTACH;FMTTYPE=image/png:https://www.brightonlibrary.ca/wp-content/uploads/Tech-Tuesdays-FB-Banner-1.png
END:VEVENT
BEGIN:VEVENT
DTSTART;TZID=America/Toronto:20251126T123000
DTEND;TZID=America/Toronto:20251126T143000
DTSTAMP:20260421T134417
CREATED:20241223T164321Z
LAST-MODIFIED:20251030T162458Z
UID:10000639-1764160200-1764167400@www.brightonlibrary.ca
SUMMARY:KnitCetera
DESCRIPTION:Drop in with your project to chat and share with other yarn enthusiasts. All fibre arts are welcome\, and those who want to learn how to knit or crochet are welcome to come and join in!  \nNo registration is required for this event.
URL:https://www.brightonlibrary.ca/event-calendar/knitcetera-2/2025-11-26/
LOCATION:Brighton Public Library\, 35 Alice St\, Brighton\, Ontario\, K0K 1H0\, Canada
CATEGORIES:Crafty,Drop-In,Recurring Program
ATTACH;FMTTYPE=image/png:https://www.brightonlibrary.ca/wp-content/uploads/KnitCetera-Banner.png
END:VEVENT
BEGIN:VEVENT
DTSTART;TZID=America/Toronto:20251127T103000
DTEND;TZID=America/Toronto:20251127T113000
DTSTAMP:20260421T134417
CREATED:20241217T171210Z
LAST-MODIFIED:20260122T161802Z
UID:10000065-1764239400-1764243000@www.brightonlibrary.ca
SUMMARY:Song & Story Hour
DESCRIPTION:Join Terry and Penny for sing-alongs and story books during this one hour program. This program is tailored to preschool children\, but we love to see all ages enjoy the stories and songs. \nOnce a month\, our friend Johanne helps us learn songs in French\, and brings a favourite French story to share! \nNo registration is required.  \n 
URL:https://www.brightonlibrary.ca/event-calendar/song-story-hour/2025-11-27/
LOCATION:Brighton Public Library\, 35 Alice St\, Brighton\, Ontario\, K0K 1H0\, Canada
CATEGORIES:Drop-In,Kids,Recurring Program
ATTACH;FMTTYPE=image/png:https://www.brightonlibrary.ca/wp-content/uploads/Song-and-Story-FB-Banner.png
END:VEVENT
BEGIN:VEVENT
DTSTART;TZID=America/Toronto:20251202T100000
DTEND;TZID=America/Toronto:20251202T160000
DTSTAMP:20260421T134417
CREATED:20250303T162536Z
LAST-MODIFIED:20260205T185936Z
UID:10002681-1764669600-1764691200@www.brightonlibrary.ca
SUMMARY:Tech Tuesdays
DESCRIPTION:Bring in your device or get help navigating the digital library\, by booking a 30-minute session with our staff. This one-on-one help is offered twice a month\, and is a very popular service. \nBecause we need to discuss your tech issue and select an appropriate time slot there is no online registration available for this program. Please visit the Main Desk or call the library during open hours to register: 613-475-2511.
URL:https://www.brightonlibrary.ca/event-calendar/tech-tuesdays-4/2025-12-02/
LOCATION:Brighton Public Library\, 35 Alice St\, Brighton\, Ontario\, K0K 1H0\, Canada
CATEGORIES:Adults,Recurring Program,Registration Required
ATTACH;FMTTYPE=image/png:https://www.brightonlibrary.ca/wp-content/uploads/Tech-Tuesdays-FB-Banner-1.png
END:VEVENT
BEGIN:VEVENT
DTSTART;TZID=America/Toronto:20251203T123000
DTEND;TZID=America/Toronto:20251203T143000
DTSTAMP:20260421T134417
CREATED:20241223T164321Z
LAST-MODIFIED:20251030T162458Z
UID:10000640-1764765000-1764772200@www.brightonlibrary.ca
SUMMARY:KnitCetera
DESCRIPTION:Drop in with your project to chat and share with other yarn enthusiasts. All fibre arts are welcome\, and those who want to learn how to knit or crochet are welcome to come and join in!  \nNo registration is required for this event.
URL:https://www.brightonlibrary.ca/event-calendar/knitcetera-2/2025-12-03/
LOCATION:Brighton Public Library\, 35 Alice St\, Brighton\, Ontario\, K0K 1H0\, Canada
CATEGORIES:Crafty,Drop-In,Recurring Program
ATTACH;FMTTYPE=image/png:https://www.brightonlibrary.ca/wp-content/uploads/KnitCetera-Banner.png
END:VEVENT
BEGIN:VEVENT
DTSTART;TZID=America/Toronto:20251204T103000
DTEND;TZID=America/Toronto:20251204T113000
DTSTAMP:20260421T134417
CREATED:20241217T171210Z
LAST-MODIFIED:20260122T161802Z
UID:10000066-1764844200-1764847800@www.brightonlibrary.ca
SUMMARY:Song & Story Hour
DESCRIPTION:Join Terry and Penny for sing-alongs and story books during this one hour program. This program is tailored to preschool children\, but we love to see all ages enjoy the stories and songs. \nOnce a month\, our friend Johanne helps us learn songs in French\, and brings a favourite French story to share! \nNo registration is required.  \n 
URL:https://www.brightonlibrary.ca/event-calendar/song-story-hour/2025-12-04/
LOCATION:Brighton Public Library\, 35 Alice St\, Brighton\, Ontario\, K0K 1H0\, Canada
CATEGORIES:Drop-In,Kids,Recurring Program
ATTACH;FMTTYPE=image/png:https://www.brightonlibrary.ca/wp-content/uploads/Song-and-Story-FB-Banner.png
END:VEVENT
BEGIN:VEVENT
DTSTART;TZID=America/Toronto:20251206T103000
DTEND;TZID=America/Toronto:20251206T113000
DTSTAMP:20260421T134417
CREATED:20241223T164854Z
LAST-MODIFIED:20250227T185720Z
UID:10001373-1765017000-1765020600@www.brightonlibrary.ca
SUMMARY:Spanish Circle
DESCRIPTION:Join Sofia to practise your Spanish and make new amigos in a relaxed\, conversational group. All ages and skill levels are welcome.
URL:https://www.brightonlibrary.ca/event-calendar/spanish-circle/2025-12-06/
LOCATION:Brighton Public Library\, 35 Alice St\, Brighton\, Ontario\, K0K 1H0\, Canada
CATEGORIES:All Ages,Recurring Program
ATTACH;FMTTYPE=image/png:https://www.brightonlibrary.ca/wp-content/uploads/Spanish-Circle-FB-Cover.png
END:VEVENT
BEGIN:VEVENT
DTSTART;TZID=America/Toronto:20251208T160000
DTEND;TZID=America/Toronto:20251208T170000
DTSTAMP:20260421T134417
CREATED:20250513T144125Z
LAST-MODIFIED:20251117T165331Z
UID:10001939-1765209600-1765213200@www.brightonlibrary.ca
SUMMARY:Adult Craft Hour
DESCRIPTION:Join Alyssa to try a different craft every month\, with all materials provided. December will be the last month when this program is being offered. Look for new crafty opportunities in 2026! \nRegistration is required for this event\, because spaces are limited.
URL:https://www.brightonlibrary.ca/event-calendar/adult-craft-hour-4/
LOCATION:Brighton Public Library\, 35 Alice St\, Brighton\, Ontario\, K0K 1H0\, Canada
CATEGORIES:Adult Workshop,Adults,Crafty,Recurring Program,Registration Required
ATTACH;FMTTYPE=image/png:https://www.brightonlibrary.ca/wp-content/uploads/Craft-Hour-FB-Cover-1.png
END:VEVENT
BEGIN:VEVENT
DTSTART;TZID=America/Toronto:20251210T123000
DTEND;TZID=America/Toronto:20251210T143000
DTSTAMP:20260421T134417
CREATED:20241223T164321Z
LAST-MODIFIED:20251030T162458Z
UID:10000641-1765369800-1765377000@www.brightonlibrary.ca
SUMMARY:KnitCetera
DESCRIPTION:Drop in with your project to chat and share with other yarn enthusiasts. All fibre arts are welcome\, and those who want to learn how to knit or crochet are welcome to come and join in!  \nNo registration is required for this event.
URL:https://www.brightonlibrary.ca/event-calendar/knitcetera-2/2025-12-10/
LOCATION:Brighton Public Library\, 35 Alice St\, Brighton\, Ontario\, K0K 1H0\, Canada
CATEGORIES:Crafty,Drop-In,Recurring Program
ATTACH;FMTTYPE=image/png:https://www.brightonlibrary.ca/wp-content/uploads/KnitCetera-Banner.png
END:VEVENT
BEGIN:VEVENT
DTSTART;TZID=America/Toronto:20251211T103000
DTEND;TZID=America/Toronto:20251211T113000
DTSTAMP:20260421T134417
CREATED:20241217T171210Z
LAST-MODIFIED:20260122T161802Z
UID:10000067-1765449000-1765452600@www.brightonlibrary.ca
SUMMARY:Song & Story Hour
DESCRIPTION:Join Terry and Penny for sing-alongs and story books during this one hour program. This program is tailored to preschool children\, but we love to see all ages enjoy the stories and songs. \nOnce a month\, our friend Johanne helps us learn songs in French\, and brings a favourite French story to share! \nNo registration is required.  \n 
URL:https://www.brightonlibrary.ca/event-calendar/song-story-hour/2025-12-11/
LOCATION:Brighton Public Library\, 35 Alice St\, Brighton\, Ontario\, K0K 1H0\, Canada
CATEGORIES:Drop-In,Kids,Recurring Program
ATTACH;FMTTYPE=image/png:https://www.brightonlibrary.ca/wp-content/uploads/Song-and-Story-FB-Banner.png
END:VEVENT
BEGIN:VEVENT
DTSTART;TZID=America/Toronto:20251213T103000
DTEND;TZID=America/Toronto:20251213T120000
DTSTAMP:20260421T134417
CREATED:20250828T175926Z
LAST-MODIFIED:20260326T235434Z
UID:10002678-1765621800-1765627200@www.brightonlibrary.ca
SUMMARY:EarlyOn at the Library
DESCRIPTION:Join Sam from EarlyOn for a fun morning of open-ended play at the library! \nNo registration is required.
URL:https://www.brightonlibrary.ca/event-calendar/earlyon-at-the-library-3/2025-12-13/
LOCATION:Brighton Public Library\, 35 Alice St\, Brighton\, Ontario\, K0K 1H0\, Canada
CATEGORIES:Drop-In,Kids,Recurring Program
ATTACH;FMTTYPE=image/png:https://www.brightonlibrary.ca/wp-content/uploads/EarlyOn-at-the-Library-FB-Cover-2.png
END:VEVENT
BEGIN:VEVENT
DTSTART;TZID=America/Toronto:20251216T130000
DTEND;TZID=America/Toronto:20251216T190000
DTSTAMP:20260421T134417
CREATED:20250303T162536Z
LAST-MODIFIED:20260205T185936Z
UID:10002682-1765890000-1765911600@www.brightonlibrary.ca
SUMMARY:Tech Tuesdays
DESCRIPTION:Bring in your device or get help navigating the digital library\, by booking a 30-minute session with our staff. This one-on-one help is offered twice a month\, and is a very popular service. \nBecause we need to discuss your tech issue and select an appropriate time slot there is no online registration available for this program. Please visit the Main Desk or call the library during open hours to register: 613-475-2511.
URL:https://www.brightonlibrary.ca/event-calendar/tech-tuesdays-4/2025-12-16/
LOCATION:Brighton Public Library\, 35 Alice St\, Brighton\, Ontario\, K0K 1H0\, Canada
CATEGORIES:Adults,Recurring Program,Registration Required
ATTACH;FMTTYPE=image/png:https://www.brightonlibrary.ca/wp-content/uploads/Tech-Tuesdays-FB-Banner-1.png
END:VEVENT
BEGIN:VEVENT
DTSTART;TZID=America/Toronto:20251217T123000
DTEND;TZID=America/Toronto:20251217T143000
DTSTAMP:20260421T134417
CREATED:20241223T164321Z
LAST-MODIFIED:20251030T162458Z
UID:10000642-1765974600-1765981800@www.brightonlibrary.ca
SUMMARY:KnitCetera
DESCRIPTION:Drop in with your project to chat and share with other yarn enthusiasts. All fibre arts are welcome\, and those who want to learn how to knit or crochet are welcome to come and join in!  \nNo registration is required for this event.
URL:https://www.brightonlibrary.ca/event-calendar/knitcetera-2/2025-12-17/
LOCATION:Brighton Public Library\, 35 Alice St\, Brighton\, Ontario\, K0K 1H0\, Canada
CATEGORIES:Crafty,Drop-In,Recurring Program
ATTACH;FMTTYPE=image/png:https://www.brightonlibrary.ca/wp-content/uploads/KnitCetera-Banner.png
END:VEVENT
BEGIN:VEVENT
DTSTART;TZID=America/Toronto:20260103T103000
DTEND;TZID=America/Toronto:20260103T113000
DTSTAMP:20260421T134417
CREATED:20241223T164854Z
LAST-MODIFIED:20250227T185720Z
UID:10001374-1767436200-1767439800@www.brightonlibrary.ca
SUMMARY:Spanish Circle
DESCRIPTION:Join Sofia to practise your Spanish and make new amigos in a relaxed\, conversational group. All ages and skill levels are welcome.
URL:https://www.brightonlibrary.ca/event-calendar/spanish-circle/2026-01-03/
LOCATION:Brighton Public Library\, 35 Alice St\, Brighton\, Ontario\, K0K 1H0\, Canada
CATEGORIES:All Ages,Recurring Program
ATTACH;FMTTYPE=image/png:https://www.brightonlibrary.ca/wp-content/uploads/Spanish-Circle-FB-Cover.png
END:VEVENT
BEGIN:VEVENT
DTSTART;TZID=America/Toronto:20260106T100000
DTEND;TZID=America/Toronto:20260106T160000
DTSTAMP:20260421T134417
CREATED:20250303T162536Z
LAST-MODIFIED:20260205T185936Z
UID:10002683-1767693600-1767715200@www.brightonlibrary.ca
SUMMARY:Tech Tuesdays
DESCRIPTION:Bring in your device or get help navigating the digital library\, by booking a 30-minute session with our staff. This one-on-one help is offered twice a month\, and is a very popular service. \nBecause we need to discuss your tech issue and select an appropriate time slot there is no online registration available for this program. Please visit the Main Desk or call the library during open hours to register: 613-475-2511.
URL:https://www.brightonlibrary.ca/event-calendar/tech-tuesdays-4/2026-01-06/
LOCATION:Brighton Public Library\, 35 Alice St\, Brighton\, Ontario\, K0K 1H0\, Canada
CATEGORIES:Adults,Recurring Program,Registration Required
ATTACH;FMTTYPE=image/png:https://www.brightonlibrary.ca/wp-content/uploads/Tech-Tuesdays-FB-Banner-1.png
END:VEVENT
BEGIN:VEVENT
DTSTART;TZID=America/Toronto:20260107T123000
DTEND;TZID=America/Toronto:20260107T143000
DTSTAMP:20260421T134417
CREATED:20241223T164321Z
LAST-MODIFIED:20251030T162458Z
UID:10000645-1767789000-1767796200@www.brightonlibrary.ca
SUMMARY:KnitCetera
DESCRIPTION:Drop in with your project to chat and share with other yarn enthusiasts. All fibre arts are welcome\, and those who want to learn how to knit or crochet are welcome to come and join in!  \nNo registration is required for this event.
URL:https://www.brightonlibrary.ca/event-calendar/knitcetera-2/2026-01-07/
LOCATION:Brighton Public Library\, 35 Alice St\, Brighton\, Ontario\, K0K 1H0\, Canada
CATEGORIES:Crafty,Drop-In,Recurring Program
ATTACH;FMTTYPE=image/png:https://www.brightonlibrary.ca/wp-content/uploads/KnitCetera-Banner.png
END:VEVENT
BEGIN:VEVENT
DTSTART;TZID=America/Toronto:20260108T103000
DTEND;TZID=America/Toronto:20260108T113000
DTSTAMP:20260421T134417
CREATED:20241217T171210Z
LAST-MODIFIED:20260122T161802Z
UID:10000071-1767868200-1767871800@www.brightonlibrary.ca
SUMMARY:Song & Story Hour
DESCRIPTION:Join Terry and Penny for sing-alongs and story books during this one hour program. This program is tailored to preschool children\, but we love to see all ages enjoy the stories and songs. \nOnce a month\, our friend Johanne helps us learn songs in French\, and brings a favourite French story to share! \nNo registration is required.  \n 
URL:https://www.brightonlibrary.ca/event-calendar/song-story-hour/2026-01-08/
LOCATION:Brighton Public Library\, 35 Alice St\, Brighton\, Ontario\, K0K 1H0\, Canada
CATEGORIES:Drop-In,Kids,Recurring Program
ATTACH;FMTTYPE=image/png:https://www.brightonlibrary.ca/wp-content/uploads/Song-and-Story-FB-Banner.png
END:VEVENT
BEGIN:VEVENT
DTSTART;TZID=America/Toronto:20260114T123000
DTEND;TZID=America/Toronto:20260114T143000
DTSTAMP:20260421T134417
CREATED:20241223T164321Z
LAST-MODIFIED:20251030T162458Z
UID:10000646-1768393800-1768401000@www.brightonlibrary.ca
SUMMARY:KnitCetera
DESCRIPTION:Drop in with your project to chat and share with other yarn enthusiasts. All fibre arts are welcome\, and those who want to learn how to knit or crochet are welcome to come and join in!  \nNo registration is required for this event.
URL:https://www.brightonlibrary.ca/event-calendar/knitcetera-2/2026-01-14/
LOCATION:Brighton Public Library\, 35 Alice St\, Brighton\, Ontario\, K0K 1H0\, Canada
CATEGORIES:Crafty,Drop-In,Recurring Program
ATTACH;FMTTYPE=image/png:https://www.brightonlibrary.ca/wp-content/uploads/KnitCetera-Banner.png
END:VEVENT
BEGIN:VEVENT
DTSTART;TZID=America/Toronto:20260115T103000
DTEND;TZID=America/Toronto:20260115T113000
DTSTAMP:20260421T134417
CREATED:20241217T171210Z
LAST-MODIFIED:20260122T161802Z
UID:10000072-1768473000-1768476600@www.brightonlibrary.ca
SUMMARY:Song & Story Hour
DESCRIPTION:Join Terry and Penny for sing-alongs and story books during this one hour program. This program is tailored to preschool children\, but we love to see all ages enjoy the stories and songs. \nOnce a month\, our friend Johanne helps us learn songs in French\, and brings a favourite French story to share! \nNo registration is required.  \n 
URL:https://www.brightonlibrary.ca/event-calendar/song-story-hour/2026-01-15/
LOCATION:Brighton Public Library\, 35 Alice St\, Brighton\, Ontario\, K0K 1H0\, Canada
CATEGORIES:Drop-In,Kids,Recurring Program
ATTACH;FMTTYPE=image/png:https://www.brightonlibrary.ca/wp-content/uploads/Song-and-Story-FB-Banner.png
END:VEVENT
BEGIN:VEVENT
DTSTART;TZID=America/Toronto:20260120T130000
DTEND;TZID=America/Toronto:20260120T190000
DTSTAMP:20260421T134417
CREATED:20250303T162536Z
LAST-MODIFIED:20260205T185936Z
UID:10002684-1768914000-1768935600@www.brightonlibrary.ca
SUMMARY:Tech Tuesdays
DESCRIPTION:Bring in your device or get help navigating the digital library\, by booking a 30-minute session with our staff. This one-on-one help is offered twice a month\, and is a very popular service. \nBecause we need to discuss your tech issue and select an appropriate time slot there is no online registration available for this program. Please visit the Main Desk or call the library during open hours to register: 613-475-2511.
URL:https://www.brightonlibrary.ca/event-calendar/tech-tuesdays-4/2026-01-20/
LOCATION:Brighton Public Library\, 35 Alice St\, Brighton\, Ontario\, K0K 1H0\, Canada
CATEGORIES:Adults,Recurring Program,Registration Required
ATTACH;FMTTYPE=image/png:https://www.brightonlibrary.ca/wp-content/uploads/Tech-Tuesdays-FB-Banner-1.png
END:VEVENT
BEGIN:VEVENT
DTSTART;TZID=America/Toronto:20260121T123000
DTEND;TZID=America/Toronto:20260121T143000
DTSTAMP:20260421T134417
CREATED:20241223T164321Z
LAST-MODIFIED:20251030T162458Z
UID:10000647-1768998600-1769005800@www.brightonlibrary.ca
SUMMARY:KnitCetera
DESCRIPTION:Drop in with your project to chat and share with other yarn enthusiasts. All fibre arts are welcome\, and those who want to learn how to knit or crochet are welcome to come and join in!  \nNo registration is required for this event.
URL:https://www.brightonlibrary.ca/event-calendar/knitcetera-2/2026-01-21/
LOCATION:Brighton Public Library\, 35 Alice St\, Brighton\, Ontario\, K0K 1H0\, Canada
CATEGORIES:Crafty,Drop-In,Recurring Program
ATTACH;FMTTYPE=image/png:https://www.brightonlibrary.ca/wp-content/uploads/KnitCetera-Banner.png
END:VEVENT
BEGIN:VEVENT
DTSTART;TZID=America/Toronto:20260122T103000
DTEND;TZID=America/Toronto:20260122T113000
DTSTAMP:20260421T134417
CREATED:20241217T171210Z
LAST-MODIFIED:20260122T161802Z
UID:10000073-1769077800-1769081400@www.brightonlibrary.ca
SUMMARY:Song & Story Hour
DESCRIPTION:Join Terry and Penny for sing-alongs and story books during this one hour program. This program is tailored to preschool children\, but we love to see all ages enjoy the stories and songs. \nOnce a month\, our friend Johanne helps us learn songs in French\, and brings a favourite French story to share! \nNo registration is required.  \n 
URL:https://www.brightonlibrary.ca/event-calendar/song-story-hour/2026-01-22/
LOCATION:Brighton Public Library\, 35 Alice St\, Brighton\, Ontario\, K0K 1H0\, Canada
CATEGORIES:Drop-In,Kids,Recurring Program
ATTACH;FMTTYPE=image/png:https://www.brightonlibrary.ca/wp-content/uploads/Song-and-Story-FB-Banner.png
END:VEVENT
BEGIN:VEVENT
DTSTART;TZID=America/Toronto:20260124T103000
DTEND;TZID=America/Toronto:20260124T120000
DTSTAMP:20260421T134417
CREATED:20250828T175926Z
LAST-MODIFIED:20260326T235434Z
UID:10002679-1769250600-1769256000@www.brightonlibrary.ca
SUMMARY:EarlyOn at the Library
DESCRIPTION:Join Sam from EarlyOn for a fun morning of open-ended play at the library! \nNo registration is required.
URL:https://www.brightonlibrary.ca/event-calendar/earlyon-at-the-library-3/2026-01-24/
LOCATION:Brighton Public Library\, 35 Alice St\, Brighton\, Ontario\, K0K 1H0\, Canada
CATEGORIES:Drop-In,Kids,Recurring Program
ATTACH;FMTTYPE=image/png:https://www.brightonlibrary.ca/wp-content/uploads/EarlyOn-at-the-Library-FB-Cover-2.png
END:VEVENT
BEGIN:VEVENT
DTSTART;TZID=America/Toronto:20260128T123000
DTEND;TZID=America/Toronto:20260128T143000
DTSTAMP:20260421T134417
CREATED:20241223T164321Z
LAST-MODIFIED:20251030T162458Z
UID:10000648-1769603400-1769610600@www.brightonlibrary.ca
SUMMARY:KnitCetera
DESCRIPTION:Drop in with your project to chat and share with other yarn enthusiasts. All fibre arts are welcome\, and those who want to learn how to knit or crochet are welcome to come and join in!  \nNo registration is required for this event.
URL:https://www.brightonlibrary.ca/event-calendar/knitcetera-2/2026-01-28/
LOCATION:Brighton Public Library\, 35 Alice St\, Brighton\, Ontario\, K0K 1H0\, Canada
CATEGORIES:Crafty,Drop-In,Recurring Program
ATTACH;FMTTYPE=image/png:https://www.brightonlibrary.ca/wp-content/uploads/KnitCetera-Banner.png
END:VEVENT
BEGIN:VEVENT
DTSTART;TZID=America/Toronto:20260129T103000
DTEND;TZID=America/Toronto:20260129T113000
DTSTAMP:20260421T134417
CREATED:20241217T171210Z
LAST-MODIFIED:20260122T161802Z
UID:10000074-1769682600-1769686200@www.brightonlibrary.ca
SUMMARY:Song & Story Hour
DESCRIPTION:Join Terry and Penny for sing-alongs and story books during this one hour program. This program is tailored to preschool children\, but we love to see all ages enjoy the stories and songs. \nOnce a month\, our friend Johanne helps us learn songs in French\, and brings a favourite French story to share! \nNo registration is required.  \n 
URL:https://www.brightonlibrary.ca/event-calendar/song-story-hour/2026-01-29/
LOCATION:Brighton Public Library\, 35 Alice St\, Brighton\, Ontario\, K0K 1H0\, Canada
CATEGORIES:Drop-In,Kids,Recurring Program
ATTACH;FMTTYPE=image/png:https://www.brightonlibrary.ca/wp-content/uploads/Song-and-Story-FB-Banner.png
END:VEVENT
BEGIN:VEVENT
DTSTART;TZID=America/Toronto:20260203T100000
DTEND;TZID=America/Toronto:20260203T160000
DTSTAMP:20260421T134417
CREATED:20250303T162536Z
LAST-MODIFIED:20260205T185936Z
UID:10002685-1770112800-1770134400@www.brightonlibrary.ca
SUMMARY:Tech Tuesdays
DESCRIPTION:Bring in your device or get help navigating the digital library\, by booking a 30-minute session with our staff. This one-on-one help is offered twice a month\, and is a very popular service. \nBecause we need to discuss your tech issue and select an appropriate time slot there is no online registration available for this program. Please visit the Main Desk or call the library during open hours to register: 613-475-2511.
URL:https://www.brightonlibrary.ca/event-calendar/tech-tuesdays-4/2026-02-03/
LOCATION:Brighton Public Library\, 35 Alice St\, Brighton\, Ontario\, K0K 1H0\, Canada
CATEGORIES:Adults,Recurring Program,Registration Required
ATTACH;FMTTYPE=image/png:https://www.brightonlibrary.ca/wp-content/uploads/Tech-Tuesdays-FB-Banner-1.png
END:VEVENT
BEGIN:VEVENT
DTSTART;TZID=America/Toronto:20260204T123000
DTEND;TZID=America/Toronto:20260204T143000
DTSTAMP:20260421T134417
CREATED:20241223T164321Z
LAST-MODIFIED:20251030T162458Z
UID:10000649-1770208200-1770215400@www.brightonlibrary.ca
SUMMARY:KnitCetera
DESCRIPTION:Drop in with your project to chat and share with other yarn enthusiasts. All fibre arts are welcome\, and those who want to learn how to knit or crochet are welcome to come and join in!  \nNo registration is required for this event.
URL:https://www.brightonlibrary.ca/event-calendar/knitcetera-2/2026-02-04/
LOCATION:Brighton Public Library\, 35 Alice St\, Brighton\, Ontario\, K0K 1H0\, Canada
CATEGORIES:Crafty,Drop-In,Recurring Program
ATTACH;FMTTYPE=image/png:https://www.brightonlibrary.ca/wp-content/uploads/KnitCetera-Banner.png
END:VEVENT
BEGIN:VEVENT
DTSTART;TZID=America/Toronto:20260205T103000
DTEND;TZID=America/Toronto:20260205T113000
DTSTAMP:20260421T134417
CREATED:20241217T171210Z
LAST-MODIFIED:20260122T161802Z
UID:10000075-1770287400-1770291000@www.brightonlibrary.ca
SUMMARY:Song & Story Hour
DESCRIPTION:Join Terry and Penny for sing-alongs and story books during this one hour program. This program is tailored to preschool children\, but we love to see all ages enjoy the stories and songs. \nOnce a month\, our friend Johanne helps us learn songs in French\, and brings a favourite French story to share! \nNo registration is required.  \n 
URL:https://www.brightonlibrary.ca/event-calendar/song-story-hour/2026-02-05/
LOCATION:Brighton Public Library\, 35 Alice St\, Brighton\, Ontario\, K0K 1H0\, Canada
CATEGORIES:Drop-In,Kids,Recurring Program
ATTACH;FMTTYPE=image/png:https://www.brightonlibrary.ca/wp-content/uploads/Song-and-Story-FB-Banner.png
END:VEVENT
BEGIN:VEVENT
DTSTART;TZID=America/Toronto:20260207T103000
DTEND;TZID=America/Toronto:20260207T113000
DTSTAMP:20260421T134417
CREATED:20241223T164854Z
LAST-MODIFIED:20250227T185720Z
UID:10001375-1770460200-1770463800@www.brightonlibrary.ca
SUMMARY:Spanish Circle
DESCRIPTION:Join Sofia to practise your Spanish and make new amigos in a relaxed\, conversational group. All ages and skill levels are welcome.
URL:https://www.brightonlibrary.ca/event-calendar/spanish-circle/2026-02-07/
LOCATION:Brighton Public Library\, 35 Alice St\, Brighton\, Ontario\, K0K 1H0\, Canada
CATEGORIES:All Ages,Recurring Program
ATTACH;FMTTYPE=image/png:https://www.brightonlibrary.ca/wp-content/uploads/Spanish-Circle-FB-Cover.png
END:VEVENT
END:VCALENDAR