BEGIN:VCALENDAR
VERSION:2.0
PRODID:-//Brighton Public Library - ECPv6.15.20//NONSGML v1.0//EN
CALSCALE:GREGORIAN
METHOD:PUBLISH
X-WR-CALNAME:Brighton Public Library
X-ORIGINAL-URL:https://www.brightonlibrary.ca
X-WR-CALDESC:Events for Brighton Public Library
REFRESH-INTERVAL;VALUE=DURATION:PT1H
X-Robots-Tag:noindex
X-PUBLISHED-TTL:PT1H
BEGIN:VTIMEZONE
TZID:America/Toronto
BEGIN:DAYLIGHT
TZOFFSETFROM:-0500
TZOFFSETTO:-0400
TZNAME:EDT
DTSTART:20240310T070000
END:DAYLIGHT
BEGIN:STANDARD
TZOFFSETFROM:-0400
TZOFFSETTO:-0500
TZNAME:EST
DTSTART:20241103T060000
END:STANDARD
BEGIN:DAYLIGHT
TZOFFSETFROM:-0500
TZOFFSETTO:-0400
TZNAME:EDT
DTSTART:20250309T070000
END:DAYLIGHT
BEGIN:STANDARD
TZOFFSETFROM:-0400
TZOFFSETTO:-0500
TZNAME:EST
DTSTART:20251102T060000
END:STANDARD
BEGIN:DAYLIGHT
TZOFFSETFROM:-0500
TZOFFSETTO:-0400
TZNAME:EDT
DTSTART:20260308T070000
END:DAYLIGHT
BEGIN:STANDARD
TZOFFSETFROM:-0400
TZOFFSETTO:-0500
TZNAME:EST
DTSTART:20261101T060000
END:STANDARD
END:VTIMEZONE
BEGIN:VEVENT
DTSTART;TZID=America/Toronto:20250705T100000
DTEND;TZID=America/Toronto:20250705T160000
DTSTAMP:20260421T223245
CREATED:20241223T164123Z
LAST-MODIFIED:20251030T162536Z
UID:10000300-1751709600-1751731200@www.brightonlibrary.ca
SUMMARY:Kids' Crafts Kits
DESCRIPTION:New Craft Kits are unveiled every Saturday at the Main Desk. These can be completed with a few items from home (like glue\, scissors and crayons or markers). There’s a new craft every week!
URL:https://www.brightonlibrary.ca/event-calendar/kids-crafts-kits-2/2025-07-05/
LOCATION:Brighton Public Library\, 35 Alice St\, Brighton\, Ontario\, K0K 1H0\, Canada
CATEGORIES:Crafty,Grab and Go,Kids
ATTACH;FMTTYPE=image/png:https://www.brightonlibrary.ca/wp-content/uploads/Craft-Kits-Banner.png
END:VEVENT
BEGIN:VEVENT
DTSTART;TZID=America/Toronto:20250709T123000
DTEND;TZID=America/Toronto:20250709T143000
DTSTAMP:20260421T223245
CREATED:20241223T164321Z
LAST-MODIFIED:20251030T162458Z
UID:10000619-1752064200-1752071400@www.brightonlibrary.ca
SUMMARY:KnitCetera
DESCRIPTION:Drop in with your project to chat and share with other yarn enthusiasts. All fibre arts are welcome\, and those who want to learn how to knit or crochet are welcome to come and join in!  \nNo registration is required for this event.
URL:https://www.brightonlibrary.ca/event-calendar/knitcetera-2/2025-07-09/
LOCATION:Brighton Public Library\, 35 Alice St\, Brighton\, Ontario\, K0K 1H0\, Canada
CATEGORIES:Crafty,Drop-In,Recurring Program
ATTACH;FMTTYPE=image/png:https://www.brightonlibrary.ca/wp-content/uploads/KnitCetera-Banner.png
END:VEVENT
BEGIN:VEVENT
DTSTART;TZID=America/Toronto:20250712T100000
DTEND;TZID=America/Toronto:20250712T160000
DTSTAMP:20260421T223245
CREATED:20241223T164123Z
LAST-MODIFIED:20251030T162536Z
UID:10000301-1752314400-1752336000@www.brightonlibrary.ca
SUMMARY:Kids' Crafts Kits
DESCRIPTION:New Craft Kits are unveiled every Saturday at the Main Desk. These can be completed with a few items from home (like glue\, scissors and crayons or markers). There’s a new craft every week!
URL:https://www.brightonlibrary.ca/event-calendar/kids-crafts-kits-2/2025-07-12/
LOCATION:Brighton Public Library\, 35 Alice St\, Brighton\, Ontario\, K0K 1H0\, Canada
CATEGORIES:Crafty,Grab and Go,Kids
ATTACH;FMTTYPE=image/png:https://www.brightonlibrary.ca/wp-content/uploads/Craft-Kits-Banner.png
END:VEVENT
BEGIN:VEVENT
DTSTART;TZID=America/Toronto:20250716T123000
DTEND;TZID=America/Toronto:20250716T143000
DTSTAMP:20260421T223245
CREATED:20241223T164321Z
LAST-MODIFIED:20251030T162458Z
UID:10000620-1752669000-1752676200@www.brightonlibrary.ca
SUMMARY:KnitCetera
DESCRIPTION:Drop in with your project to chat and share with other yarn enthusiasts. All fibre arts are welcome\, and those who want to learn how to knit or crochet are welcome to come and join in!  \nNo registration is required for this event.
URL:https://www.brightonlibrary.ca/event-calendar/knitcetera-2/2025-07-16/
LOCATION:Brighton Public Library\, 35 Alice St\, Brighton\, Ontario\, K0K 1H0\, Canada
CATEGORIES:Crafty,Drop-In,Recurring Program
ATTACH;FMTTYPE=image/png:https://www.brightonlibrary.ca/wp-content/uploads/KnitCetera-Banner.png
END:VEVENT
BEGIN:VEVENT
DTSTART;TZID=America/Toronto:20250717T103000
DTEND;TZID=America/Toronto:20250717T113000
DTSTAMP:20260421T223245
CREATED:20241217T171210Z
LAST-MODIFIED:20260122T161802Z
UID:10000046-1752748200-1752751800@www.brightonlibrary.ca
SUMMARY:Song & Story Hour
DESCRIPTION:Join Terry and Penny for sing-alongs and story books during this one hour program. This program is tailored to preschool children\, but we love to see all ages enjoy the stories and songs. \nOnce a month\, our friend Johanne helps us learn songs in French\, and brings a favourite French story to share! \nNo registration is required.  \n 
URL:https://www.brightonlibrary.ca/event-calendar/song-story-hour/2025-07-17/
LOCATION:Brighton Public Library\, 35 Alice St\, Brighton\, Ontario\, K0K 1H0\, Canada
CATEGORIES:Drop-In,Kids,Recurring Program
ATTACH;FMTTYPE=image/png:https://www.brightonlibrary.ca/wp-content/uploads/Song-and-Story-FB-Banner.png
END:VEVENT
BEGIN:VEVENT
DTSTART;TZID=America/Toronto:20250719T100000
DTEND;TZID=America/Toronto:20250719T160000
DTSTAMP:20260421T223245
CREATED:20241223T164123Z
LAST-MODIFIED:20251030T162536Z
UID:10000302-1752919200-1752940800@www.brightonlibrary.ca
SUMMARY:Kids' Crafts Kits
DESCRIPTION:New Craft Kits are unveiled every Saturday at the Main Desk. These can be completed with a few items from home (like glue\, scissors and crayons or markers). There’s a new craft every week!
URL:https://www.brightonlibrary.ca/event-calendar/kids-crafts-kits-2/2025-07-19/
LOCATION:Brighton Public Library\, 35 Alice St\, Brighton\, Ontario\, K0K 1H0\, Canada
CATEGORIES:Crafty,Grab and Go,Kids
ATTACH;FMTTYPE=image/png:https://www.brightonlibrary.ca/wp-content/uploads/Craft-Kits-Banner.png
END:VEVENT
BEGIN:VEVENT
DTSTART;TZID=America/Toronto:20250723T123000
DTEND;TZID=America/Toronto:20250723T143000
DTSTAMP:20260421T223245
CREATED:20241223T164321Z
LAST-MODIFIED:20251030T162458Z
UID:10000621-1753273800-1753281000@www.brightonlibrary.ca
SUMMARY:KnitCetera
DESCRIPTION:Drop in with your project to chat and share with other yarn enthusiasts. All fibre arts are welcome\, and those who want to learn how to knit or crochet are welcome to come and join in!  \nNo registration is required for this event.
URL:https://www.brightonlibrary.ca/event-calendar/knitcetera-2/2025-07-23/
LOCATION:Brighton Public Library\, 35 Alice St\, Brighton\, Ontario\, K0K 1H0\, Canada
CATEGORIES:Crafty,Drop-In,Recurring Program
ATTACH;FMTTYPE=image/png:https://www.brightonlibrary.ca/wp-content/uploads/KnitCetera-Banner.png
END:VEVENT
BEGIN:VEVENT
DTSTART;TZID=America/Toronto:20250724T103000
DTEND;TZID=America/Toronto:20250724T113000
DTSTAMP:20260421T223245
CREATED:20241217T171210Z
LAST-MODIFIED:20260122T161802Z
UID:10000047-1753353000-1753356600@www.brightonlibrary.ca
SUMMARY:Song & Story Hour
DESCRIPTION:Join Terry and Penny for sing-alongs and story books during this one hour program. This program is tailored to preschool children\, but we love to see all ages enjoy the stories and songs. \nOnce a month\, our friend Johanne helps us learn songs in French\, and brings a favourite French story to share! \nNo registration is required.  \n 
URL:https://www.brightonlibrary.ca/event-calendar/song-story-hour/2025-07-24/
LOCATION:Brighton Public Library\, 35 Alice St\, Brighton\, Ontario\, K0K 1H0\, Canada
CATEGORIES:Drop-In,Kids,Recurring Program
ATTACH;FMTTYPE=image/png:https://www.brightonlibrary.ca/wp-content/uploads/Song-and-Story-FB-Banner.png
END:VEVENT
BEGIN:VEVENT
DTSTART;TZID=America/Toronto:20250726T100000
DTEND;TZID=America/Toronto:20250726T160000
DTSTAMP:20260421T223245
CREATED:20241223T164123Z
LAST-MODIFIED:20251030T162536Z
UID:10000303-1753524000-1753545600@www.brightonlibrary.ca
SUMMARY:Kids' Crafts Kits
DESCRIPTION:New Craft Kits are unveiled every Saturday at the Main Desk. These can be completed with a few items from home (like glue\, scissors and crayons or markers). There’s a new craft every week!
URL:https://www.brightonlibrary.ca/event-calendar/kids-crafts-kits-2/2025-07-26/
LOCATION:Brighton Public Library\, 35 Alice St\, Brighton\, Ontario\, K0K 1H0\, Canada
CATEGORIES:Crafty,Grab and Go,Kids
ATTACH;FMTTYPE=image/png:https://www.brightonlibrary.ca/wp-content/uploads/Craft-Kits-Banner.png
END:VEVENT
BEGIN:VEVENT
DTSTART;TZID=America/Toronto:20250730T123000
DTEND;TZID=America/Toronto:20250730T143000
DTSTAMP:20260421T223245
CREATED:20241223T164321Z
LAST-MODIFIED:20251030T162458Z
UID:10000622-1753878600-1753885800@www.brightonlibrary.ca
SUMMARY:KnitCetera
DESCRIPTION:Drop in with your project to chat and share with other yarn enthusiasts. All fibre arts are welcome\, and those who want to learn how to knit or crochet are welcome to come and join in!  \nNo registration is required for this event.
URL:https://www.brightonlibrary.ca/event-calendar/knitcetera-2/2025-07-30/
LOCATION:Brighton Public Library\, 35 Alice St\, Brighton\, Ontario\, K0K 1H0\, Canada
CATEGORIES:Crafty,Drop-In,Recurring Program
ATTACH;FMTTYPE=image/png:https://www.brightonlibrary.ca/wp-content/uploads/KnitCetera-Banner.png
END:VEVENT
BEGIN:VEVENT
DTSTART;TZID=America/Toronto:20250731T103000
DTEND;TZID=America/Toronto:20250731T113000
DTSTAMP:20260421T223245
CREATED:20241217T171210Z
LAST-MODIFIED:20260122T161802Z
UID:10000048-1753957800-1753961400@www.brightonlibrary.ca
SUMMARY:Song & Story Hour
DESCRIPTION:Join Terry and Penny for sing-alongs and story books during this one hour program. This program is tailored to preschool children\, but we love to see all ages enjoy the stories and songs. \nOnce a month\, our friend Johanne helps us learn songs in French\, and brings a favourite French story to share! \nNo registration is required.  \n 
URL:https://www.brightonlibrary.ca/event-calendar/song-story-hour/2025-07-31/
LOCATION:Brighton Public Library\, 35 Alice St\, Brighton\, Ontario\, K0K 1H0\, Canada
CATEGORIES:Drop-In,Kids,Recurring Program
ATTACH;FMTTYPE=image/png:https://www.brightonlibrary.ca/wp-content/uploads/Song-and-Story-FB-Banner.png
END:VEVENT
BEGIN:VEVENT
DTSTART;VALUE=DATE:20250801
DTEND;VALUE=DATE:20250802
DTSTAMP:20260421T223245
CREATED:20250303T190516Z
LAST-MODIFIED:20251117T172413Z
UID:10001622-1754006400-1754092799@www.brightonlibrary.ca
SUMMARY:Teens' Craft Kits
DESCRIPTION:Each month\, a new Grab & Go Craft Kit is available for teens to pick up at the library. Each month features new activities to try in the library or at home. We keep this available for as long as supplies last\, each month!
URL:https://www.brightonlibrary.ca/event-calendar/teens-craft-kits/2025-08-01/
LOCATION:Brighton Public Library\, 35 Alice St\, Brighton\, Ontario\, K0K 1H0\, Canada
CATEGORIES:Crafty,Grab and Go,Teens
ATTACH;FMTTYPE=image/png:https://www.brightonlibrary.ca/wp-content/uploads/Grab-and-Go-Kits.png
END:VEVENT
BEGIN:VEVENT
DTSTART;TZID=America/Toronto:20250802T100000
DTEND;TZID=America/Toronto:20250802T160000
DTSTAMP:20260421T223245
CREATED:20241223T164123Z
LAST-MODIFIED:20251030T162536Z
UID:10000304-1754128800-1754150400@www.brightonlibrary.ca
SUMMARY:Kids' Crafts Kits
DESCRIPTION:New Craft Kits are unveiled every Saturday at the Main Desk. These can be completed with a few items from home (like glue\, scissors and crayons or markers). There’s a new craft every week!
URL:https://www.brightonlibrary.ca/event-calendar/kids-crafts-kits-2/2025-08-02/
LOCATION:Brighton Public Library\, 35 Alice St\, Brighton\, Ontario\, K0K 1H0\, Canada
CATEGORIES:Crafty,Grab and Go,Kids
ATTACH;FMTTYPE=image/png:https://www.brightonlibrary.ca/wp-content/uploads/Craft-Kits-Banner.png
END:VEVENT
BEGIN:VEVENT
DTSTART;TZID=America/Toronto:20250806T123000
DTEND;TZID=America/Toronto:20250806T143000
DTSTAMP:20260421T223245
CREATED:20241223T164321Z
LAST-MODIFIED:20251030T162458Z
UID:10000623-1754483400-1754490600@www.brightonlibrary.ca
SUMMARY:KnitCetera
DESCRIPTION:Drop in with your project to chat and share with other yarn enthusiasts. All fibre arts are welcome\, and those who want to learn how to knit or crochet are welcome to come and join in!  \nNo registration is required for this event.
URL:https://www.brightonlibrary.ca/event-calendar/knitcetera-2/2025-08-06/
LOCATION:Brighton Public Library\, 35 Alice St\, Brighton\, Ontario\, K0K 1H0\, Canada
CATEGORIES:Crafty,Drop-In,Recurring Program
ATTACH;FMTTYPE=image/png:https://www.brightonlibrary.ca/wp-content/uploads/KnitCetera-Banner.png
END:VEVENT
BEGIN:VEVENT
DTSTART;TZID=America/Toronto:20250809T100000
DTEND;TZID=America/Toronto:20250809T160000
DTSTAMP:20260421T223245
CREATED:20241223T164123Z
LAST-MODIFIED:20251030T162536Z
UID:10000305-1754733600-1754755200@www.brightonlibrary.ca
SUMMARY:Kids' Crafts Kits
DESCRIPTION:New Craft Kits are unveiled every Saturday at the Main Desk. These can be completed with a few items from home (like glue\, scissors and crayons or markers). There’s a new craft every week!
URL:https://www.brightonlibrary.ca/event-calendar/kids-crafts-kits-2/2025-08-09/
LOCATION:Brighton Public Library\, 35 Alice St\, Brighton\, Ontario\, K0K 1H0\, Canada
CATEGORIES:Crafty,Grab and Go,Kids
ATTACH;FMTTYPE=image/png:https://www.brightonlibrary.ca/wp-content/uploads/Craft-Kits-Banner.png
END:VEVENT
BEGIN:VEVENT
DTSTART;TZID=America/Toronto:20250813T123000
DTEND;TZID=America/Toronto:20250813T143000
DTSTAMP:20260421T223245
CREATED:20241223T164321Z
LAST-MODIFIED:20251030T162458Z
UID:10000624-1755088200-1755095400@www.brightonlibrary.ca
SUMMARY:KnitCetera
DESCRIPTION:Drop in with your project to chat and share with other yarn enthusiasts. All fibre arts are welcome\, and those who want to learn how to knit or crochet are welcome to come and join in!  \nNo registration is required for this event.
URL:https://www.brightonlibrary.ca/event-calendar/knitcetera-2/2025-08-13/
LOCATION:Brighton Public Library\, 35 Alice St\, Brighton\, Ontario\, K0K 1H0\, Canada
CATEGORIES:Crafty,Drop-In,Recurring Program
ATTACH;FMTTYPE=image/png:https://www.brightonlibrary.ca/wp-content/uploads/KnitCetera-Banner.png
END:VEVENT
BEGIN:VEVENT
DTSTART;TZID=America/Toronto:20250814T103000
DTEND;TZID=America/Toronto:20250814T113000
DTSTAMP:20260421T223245
CREATED:20241217T171210Z
LAST-MODIFIED:20260122T161802Z
UID:10000050-1755167400-1755171000@www.brightonlibrary.ca
SUMMARY:Song & Story Hour
DESCRIPTION:Join Terry and Penny for sing-alongs and story books during this one hour program. This program is tailored to preschool children\, but we love to see all ages enjoy the stories and songs. \nOnce a month\, our friend Johanne helps us learn songs in French\, and brings a favourite French story to share! \nNo registration is required.  \n 
URL:https://www.brightonlibrary.ca/event-calendar/song-story-hour/2025-08-14/
LOCATION:Brighton Public Library\, 35 Alice St\, Brighton\, Ontario\, K0K 1H0\, Canada
CATEGORIES:Drop-In,Kids,Recurring Program
ATTACH;FMTTYPE=image/png:https://www.brightonlibrary.ca/wp-content/uploads/Song-and-Story-FB-Banner.png
END:VEVENT
BEGIN:VEVENT
DTSTART;TZID=America/Toronto:20250816T100000
DTEND;TZID=America/Toronto:20250816T160000
DTSTAMP:20260421T223245
CREATED:20241223T164123Z
LAST-MODIFIED:20251030T162536Z
UID:10000306-1755338400-1755360000@www.brightonlibrary.ca
SUMMARY:Kids' Crafts Kits
DESCRIPTION:New Craft Kits are unveiled every Saturday at the Main Desk. These can be completed with a few items from home (like glue\, scissors and crayons or markers). There’s a new craft every week!
URL:https://www.brightonlibrary.ca/event-calendar/kids-crafts-kits-2/2025-08-16/
LOCATION:Brighton Public Library\, 35 Alice St\, Brighton\, Ontario\, K0K 1H0\, Canada
CATEGORIES:Crafty,Grab and Go,Kids
ATTACH;FMTTYPE=image/png:https://www.brightonlibrary.ca/wp-content/uploads/Craft-Kits-Banner.png
END:VEVENT
BEGIN:VEVENT
DTSTART;TZID=America/Toronto:20250820T123000
DTEND;TZID=America/Toronto:20250820T143000
DTSTAMP:20260421T223245
CREATED:20241223T164321Z
LAST-MODIFIED:20251030T162458Z
UID:10000625-1755693000-1755700200@www.brightonlibrary.ca
SUMMARY:KnitCetera
DESCRIPTION:Drop in with your project to chat and share with other yarn enthusiasts. All fibre arts are welcome\, and those who want to learn how to knit or crochet are welcome to come and join in!  \nNo registration is required for this event.
URL:https://www.brightonlibrary.ca/event-calendar/knitcetera-2/2025-08-20/
LOCATION:Brighton Public Library\, 35 Alice St\, Brighton\, Ontario\, K0K 1H0\, Canada
CATEGORIES:Crafty,Drop-In,Recurring Program
ATTACH;FMTTYPE=image/png:https://www.brightonlibrary.ca/wp-content/uploads/KnitCetera-Banner.png
END:VEVENT
BEGIN:VEVENT
DTSTART;TZID=America/Toronto:20250821T103000
DTEND;TZID=America/Toronto:20250821T113000
DTSTAMP:20260421T223245
CREATED:20241217T171210Z
LAST-MODIFIED:20260122T161802Z
UID:10000051-1755772200-1755775800@www.brightonlibrary.ca
SUMMARY:Song & Story Hour
DESCRIPTION:Join Terry and Penny for sing-alongs and story books during this one hour program. This program is tailored to preschool children\, but we love to see all ages enjoy the stories and songs. \nOnce a month\, our friend Johanne helps us learn songs in French\, and brings a favourite French story to share! \nNo registration is required.  \n 
URL:https://www.brightonlibrary.ca/event-calendar/song-story-hour/2025-08-21/
LOCATION:Brighton Public Library\, 35 Alice St\, Brighton\, Ontario\, K0K 1H0\, Canada
CATEGORIES:Drop-In,Kids,Recurring Program
ATTACH;FMTTYPE=image/png:https://www.brightonlibrary.ca/wp-content/uploads/Song-and-Story-FB-Banner.png
END:VEVENT
BEGIN:VEVENT
DTSTART;TZID=America/Toronto:20250823T100000
DTEND;TZID=America/Toronto:20250823T160000
DTSTAMP:20260421T223245
CREATED:20241223T164123Z
LAST-MODIFIED:20251030T162536Z
UID:10000307-1755943200-1755964800@www.brightonlibrary.ca
SUMMARY:Kids' Crafts Kits
DESCRIPTION:New Craft Kits are unveiled every Saturday at the Main Desk. These can be completed with a few items from home (like glue\, scissors and crayons or markers). There’s a new craft every week!
URL:https://www.brightonlibrary.ca/event-calendar/kids-crafts-kits-2/2025-08-23/
LOCATION:Brighton Public Library\, 35 Alice St\, Brighton\, Ontario\, K0K 1H0\, Canada
CATEGORIES:Crafty,Grab and Go,Kids
ATTACH;FMTTYPE=image/png:https://www.brightonlibrary.ca/wp-content/uploads/Craft-Kits-Banner.png
END:VEVENT
BEGIN:VEVENT
DTSTART;TZID=America/Toronto:20250827T123000
DTEND;TZID=America/Toronto:20250827T143000
DTSTAMP:20260421T223245
CREATED:20241223T164321Z
LAST-MODIFIED:20251030T162458Z
UID:10000626-1756297800-1756305000@www.brightonlibrary.ca
SUMMARY:KnitCetera
DESCRIPTION:Drop in with your project to chat and share with other yarn enthusiasts. All fibre arts are welcome\, and those who want to learn how to knit or crochet are welcome to come and join in!  \nNo registration is required for this event.
URL:https://www.brightonlibrary.ca/event-calendar/knitcetera-2/2025-08-27/
LOCATION:Brighton Public Library\, 35 Alice St\, Brighton\, Ontario\, K0K 1H0\, Canada
CATEGORIES:Crafty,Drop-In,Recurring Program
ATTACH;FMTTYPE=image/png:https://www.brightonlibrary.ca/wp-content/uploads/KnitCetera-Banner.png
END:VEVENT
BEGIN:VEVENT
DTSTART;TZID=America/Toronto:20250828T103000
DTEND;TZID=America/Toronto:20250828T113000
DTSTAMP:20260421T223245
CREATED:20241217T171210Z
LAST-MODIFIED:20260122T161802Z
UID:10000052-1756377000-1756380600@www.brightonlibrary.ca
SUMMARY:Song & Story Hour
DESCRIPTION:Join Terry and Penny for sing-alongs and story books during this one hour program. This program is tailored to preschool children\, but we love to see all ages enjoy the stories and songs. \nOnce a month\, our friend Johanne helps us learn songs in French\, and brings a favourite French story to share! \nNo registration is required.  \n 
URL:https://www.brightonlibrary.ca/event-calendar/song-story-hour/2025-08-28/
LOCATION:Brighton Public Library\, 35 Alice St\, Brighton\, Ontario\, K0K 1H0\, Canada
CATEGORIES:Drop-In,Kids,Recurring Program
ATTACH;FMTTYPE=image/png:https://www.brightonlibrary.ca/wp-content/uploads/Song-and-Story-FB-Banner.png
END:VEVENT
BEGIN:VEVENT
DTSTART;TZID=America/Toronto:20250830T100000
DTEND;TZID=America/Toronto:20250830T160000
DTSTAMP:20260421T223245
CREATED:20241223T164123Z
LAST-MODIFIED:20251030T162536Z
UID:10000308-1756548000-1756569600@www.brightonlibrary.ca
SUMMARY:Kids' Crafts Kits
DESCRIPTION:New Craft Kits are unveiled every Saturday at the Main Desk. These can be completed with a few items from home (like glue\, scissors and crayons or markers). There’s a new craft every week!
URL:https://www.brightonlibrary.ca/event-calendar/kids-crafts-kits-2/2025-08-30/
LOCATION:Brighton Public Library\, 35 Alice St\, Brighton\, Ontario\, K0K 1H0\, Canada
CATEGORIES:Crafty,Grab and Go,Kids
ATTACH;FMTTYPE=image/png:https://www.brightonlibrary.ca/wp-content/uploads/Craft-Kits-Banner.png
END:VEVENT
BEGIN:VEVENT
DTSTART;VALUE=DATE:20250901
DTEND;VALUE=DATE:20250902
DTSTAMP:20260421T223245
CREATED:20250303T190516Z
LAST-MODIFIED:20251117T172413Z
UID:10001623-1756684800-1756771199@www.brightonlibrary.ca
SUMMARY:Teens' Craft Kits
DESCRIPTION:Each month\, a new Grab & Go Craft Kit is available for teens to pick up at the library. Each month features new activities to try in the library or at home. We keep this available for as long as supplies last\, each month!
URL:https://www.brightonlibrary.ca/event-calendar/teens-craft-kits/2025-09-01/
LOCATION:Brighton Public Library\, 35 Alice St\, Brighton\, Ontario\, K0K 1H0\, Canada
CATEGORIES:Crafty,Grab and Go,Teens
ATTACH;FMTTYPE=image/png:https://www.brightonlibrary.ca/wp-content/uploads/Grab-and-Go-Kits.png
END:VEVENT
BEGIN:VEVENT
DTSTART;TZID=America/Toronto:20250903T123000
DTEND;TZID=America/Toronto:20250903T143000
DTSTAMP:20260421T223245
CREATED:20241223T164321Z
LAST-MODIFIED:20251030T162458Z
UID:10000627-1756902600-1756909800@www.brightonlibrary.ca
SUMMARY:KnitCetera
DESCRIPTION:Drop in with your project to chat and share with other yarn enthusiasts. All fibre arts are welcome\, and those who want to learn how to knit or crochet are welcome to come and join in!  \nNo registration is required for this event.
URL:https://www.brightonlibrary.ca/event-calendar/knitcetera-2/2025-09-03/
LOCATION:Brighton Public Library\, 35 Alice St\, Brighton\, Ontario\, K0K 1H0\, Canada
CATEGORIES:Crafty,Drop-In,Recurring Program
ATTACH;FMTTYPE=image/png:https://www.brightonlibrary.ca/wp-content/uploads/KnitCetera-Banner.png
END:VEVENT
BEGIN:VEVENT
DTSTART;TZID=America/Toronto:20250904T100000
DTEND;TZID=America/Toronto:20250904T103000
DTSTAMP:20260421T223245
CREATED:20250816T170631Z
LAST-MODIFIED:20260122T161515Z
UID:10002225-1756980000-1756981800@www.brightonlibrary.ca
SUMMARY:Busy Bees
DESCRIPTION:Babies and their caregivers are invited to buzz over and explore a variety of sensory activities together each week while making new friends in this relaxed program.
URL:https://www.brightonlibrary.ca/event-calendar/busy-bees/2025-09-04/
LOCATION:Brighton Public Library\, 35 Alice St\, Brighton\, Ontario\, K0K 1H0\, Canada
CATEGORIES:Babies,Drop-In
ATTACH;FMTTYPE=image/png:https://www.brightonlibrary.ca/wp-content/uploads/Busy-Bees.png
END:VEVENT
BEGIN:VEVENT
DTSTART;TZID=America/Toronto:20250904T103000
DTEND;TZID=America/Toronto:20250904T113000
DTSTAMP:20260421T223245
CREATED:20241217T171210Z
LAST-MODIFIED:20260122T161802Z
UID:10000053-1756981800-1756985400@www.brightonlibrary.ca
SUMMARY:Song & Story Hour
DESCRIPTION:Join Terry and Penny for sing-alongs and story books during this one hour program. This program is tailored to preschool children\, but we love to see all ages enjoy the stories and songs. \nOnce a month\, our friend Johanne helps us learn songs in French\, and brings a favourite French story to share! \nNo registration is required.  \n 
URL:https://www.brightonlibrary.ca/event-calendar/song-story-hour/2025-09-04/
LOCATION:Brighton Public Library\, 35 Alice St\, Brighton\, Ontario\, K0K 1H0\, Canada
CATEGORIES:Drop-In,Kids,Recurring Program
ATTACH;FMTTYPE=image/png:https://www.brightonlibrary.ca/wp-content/uploads/Song-and-Story-FB-Banner.png
END:VEVENT
BEGIN:VEVENT
DTSTART;TZID=America/Toronto:20250904T150000
DTEND;TZID=America/Toronto:20250904T160000
DTSTAMP:20260421T223245
CREATED:20250816T170221Z
LAST-MODIFIED:20260217T135711Z
UID:10001966-1756998000-1757001600@www.brightonlibrary.ca
SUMMARY:Tween Scene
DESCRIPTION:Ages 11-14 can drop in for some snacks\, games\, crafts and hang outs. Head to the Program Room to see what’s on offer each week.
URL:https://www.brightonlibrary.ca/event-calendar/tween-scene/2025-09-04/
LOCATION:Brighton Public Library\, 35 Alice St\, Brighton\, Ontario\, K0K 1H0\, Canada
CATEGORIES:Drop-In,Tweens
ATTACH;FMTTYPE=image/png:https://www.brightonlibrary.ca/wp-content/uploads/Tween-Scene.png
END:VEVENT
BEGIN:VEVENT
DTSTART;TZID=America/Toronto:20250906T100000
DTEND;TZID=America/Toronto:20250906T160000
DTSTAMP:20260421T223245
CREATED:20241223T164123Z
LAST-MODIFIED:20251030T162536Z
UID:10000309-1757152800-1757174400@www.brightonlibrary.ca
SUMMARY:Kids' Crafts Kits
DESCRIPTION:New Craft Kits are unveiled every Saturday at the Main Desk. These can be completed with a few items from home (like glue\, scissors and crayons or markers). There’s a new craft every week!
URL:https://www.brightonlibrary.ca/event-calendar/kids-crafts-kits-2/2025-09-06/
LOCATION:Brighton Public Library\, 35 Alice St\, Brighton\, Ontario\, K0K 1H0\, Canada
CATEGORIES:Crafty,Grab and Go,Kids
ATTACH;FMTTYPE=image/png:https://www.brightonlibrary.ca/wp-content/uploads/Craft-Kits-Banner.png
END:VEVENT
END:VCALENDAR