BEGIN:VCALENDAR
VERSION:2.0
PRODID:-//Brighton Public Library - ECPv6.15.20//NONSGML v1.0//EN
CALSCALE:GREGORIAN
METHOD:PUBLISH
X-ORIGINAL-URL:https://www.brightonlibrary.ca
X-WR-CALDESC:Events for Brighton Public Library
REFRESH-INTERVAL;VALUE=DURATION:PT1H
X-Robots-Tag:noindex
X-PUBLISHED-TTL:PT1H
BEGIN:VTIMEZONE
TZID:America/Toronto
BEGIN:DAYLIGHT
TZOFFSETFROM:-0500
TZOFFSETTO:-0400
TZNAME:EDT
DTSTART:20270314T070000
END:DAYLIGHT
BEGIN:STANDARD
TZOFFSETFROM:-0400
TZOFFSETTO:-0500
TZNAME:EST
DTSTART:20271107T060000
END:STANDARD
BEGIN:DAYLIGHT
TZOFFSETFROM:-0500
TZOFFSETTO:-0400
TZNAME:EDT
DTSTART:20280312T070000
END:DAYLIGHT
BEGIN:STANDARD
TZOFFSETFROM:-0400
TZOFFSETTO:-0500
TZNAME:EST
DTSTART:20281105T060000
END:STANDARD
BEGIN:DAYLIGHT
TZOFFSETFROM:-0500
TZOFFSETTO:-0400
TZNAME:EDT
DTSTART:20290311T070000
END:DAYLIGHT
BEGIN:STANDARD
TZOFFSETFROM:-0400
TZOFFSETTO:-0500
TZNAME:EST
DTSTART:20291104T060000
END:STANDARD
BEGIN:DAYLIGHT
TZOFFSETFROM:-0500
TZOFFSETTO:-0400
TZNAME:EDT
DTSTART:20300310T070000
END:DAYLIGHT
BEGIN:STANDARD
TZOFFSETFROM:-0400
TZOFFSETTO:-0500
TZNAME:EST
DTSTART:20301103T060000
END:STANDARD
END:VTIMEZONE
BEGIN:VEVENT
DTSTART;TZID=America/Toronto:20281130T150000
DTEND;TZID=America/Toronto:20281130T160000
DTSTAMP:20260422T175204
CREATED:20250816T170221Z
LAST-MODIFIED:20260217T135711Z
UID:10002135-1859209200-1859212800@www.brightonlibrary.ca
SUMMARY:Tween Scene
DESCRIPTION:Ages 11-14 can drop in for some snacks\, games\, crafts and hang outs. Head to the Program Room to see what’s on offer each week.
URL:https://www.brightonlibrary.ca/event-calendar/tween-scene/2028-11-30/
LOCATION:Brighton Public Library\, 35 Alice St\, Brighton\, Ontario\, K0K 1H0\, Canada
CATEGORIES:Drop-In,Tweens
ATTACH;FMTTYPE=image/png:https://www.brightonlibrary.ca/wp-content/uploads/Tween-Scene.png
END:VEVENT
BEGIN:VEVENT
DTSTART;TZID=America/Toronto:20281207T150000
DTEND;TZID=America/Toronto:20281207T160000
DTSTAMP:20260422T175204
CREATED:20250816T170221Z
LAST-MODIFIED:20260217T135711Z
UID:10002136-1859814000-1859817600@www.brightonlibrary.ca
SUMMARY:Tween Scene
DESCRIPTION:Ages 11-14 can drop in for some snacks\, games\, crafts and hang outs. Head to the Program Room to see what’s on offer each week.
URL:https://www.brightonlibrary.ca/event-calendar/tween-scene/2028-12-07/
LOCATION:Brighton Public Library\, 35 Alice St\, Brighton\, Ontario\, K0K 1H0\, Canada
CATEGORIES:Drop-In,Tweens
ATTACH;FMTTYPE=image/png:https://www.brightonlibrary.ca/wp-content/uploads/Tween-Scene.png
END:VEVENT
BEGIN:VEVENT
DTSTART;TZID=America/Toronto:20281214T150000
DTEND;TZID=America/Toronto:20281214T160000
DTSTAMP:20260422T175204
CREATED:20250816T170221Z
LAST-MODIFIED:20260217T135711Z
UID:10002137-1860418800-1860422400@www.brightonlibrary.ca
SUMMARY:Tween Scene
DESCRIPTION:Ages 11-14 can drop in for some snacks\, games\, crafts and hang outs. Head to the Program Room to see what’s on offer each week.
URL:https://www.brightonlibrary.ca/event-calendar/tween-scene/2028-12-14/
LOCATION:Brighton Public Library\, 35 Alice St\, Brighton\, Ontario\, K0K 1H0\, Canada
CATEGORIES:Drop-In,Tweens
ATTACH;FMTTYPE=image/png:https://www.brightonlibrary.ca/wp-content/uploads/Tween-Scene.png
END:VEVENT
BEGIN:VEVENT
DTSTART;TZID=America/Toronto:20281221T150000
DTEND;TZID=America/Toronto:20281221T160000
DTSTAMP:20260422T175204
CREATED:20250816T170221Z
LAST-MODIFIED:20260217T135711Z
UID:10002138-1861023600-1861027200@www.brightonlibrary.ca
SUMMARY:Tween Scene
DESCRIPTION:Ages 11-14 can drop in for some snacks\, games\, crafts and hang outs. Head to the Program Room to see what’s on offer each week.
URL:https://www.brightonlibrary.ca/event-calendar/tween-scene/2028-12-21/
LOCATION:Brighton Public Library\, 35 Alice St\, Brighton\, Ontario\, K0K 1H0\, Canada
CATEGORIES:Drop-In,Tweens
ATTACH;FMTTYPE=image/png:https://www.brightonlibrary.ca/wp-content/uploads/Tween-Scene.png
END:VEVENT
BEGIN:VEVENT
DTSTART;TZID=America/Toronto:20281228T150000
DTEND;TZID=America/Toronto:20281228T160000
DTSTAMP:20260422T175204
CREATED:20250816T170221Z
LAST-MODIFIED:20260217T135711Z
UID:10002139-1861628400-1861632000@www.brightonlibrary.ca
SUMMARY:Tween Scene
DESCRIPTION:Ages 11-14 can drop in for some snacks\, games\, crafts and hang outs. Head to the Program Room to see what’s on offer each week.
URL:https://www.brightonlibrary.ca/event-calendar/tween-scene/2028-12-28/
LOCATION:Brighton Public Library\, 35 Alice St\, Brighton\, Ontario\, K0K 1H0\, Canada
CATEGORIES:Drop-In,Tweens
ATTACH;FMTTYPE=image/png:https://www.brightonlibrary.ca/wp-content/uploads/Tween-Scene.png
END:VEVENT
BEGIN:VEVENT
DTSTART;TZID=America/Toronto:20290104T150000
DTEND;TZID=America/Toronto:20290104T160000
DTSTAMP:20260422T175204
CREATED:20250816T170221Z
LAST-MODIFIED:20260217T135711Z
UID:10002140-1862233200-1862236800@www.brightonlibrary.ca
SUMMARY:Tween Scene
DESCRIPTION:Ages 11-14 can drop in for some snacks\, games\, crafts and hang outs. Head to the Program Room to see what’s on offer each week.
URL:https://www.brightonlibrary.ca/event-calendar/tween-scene/2029-01-04/
LOCATION:Brighton Public Library\, 35 Alice St\, Brighton\, Ontario\, K0K 1H0\, Canada
CATEGORIES:Drop-In,Tweens
ATTACH;FMTTYPE=image/png:https://www.brightonlibrary.ca/wp-content/uploads/Tween-Scene.png
END:VEVENT
BEGIN:VEVENT
DTSTART;TZID=America/Toronto:20290111T150000
DTEND;TZID=America/Toronto:20290111T160000
DTSTAMP:20260422T175204
CREATED:20250816T170221Z
LAST-MODIFIED:20260217T135711Z
UID:10002141-1862838000-1862841600@www.brightonlibrary.ca
SUMMARY:Tween Scene
DESCRIPTION:Ages 11-14 can drop in for some snacks\, games\, crafts and hang outs. Head to the Program Room to see what’s on offer each week.
URL:https://www.brightonlibrary.ca/event-calendar/tween-scene/2029-01-11/
LOCATION:Brighton Public Library\, 35 Alice St\, Brighton\, Ontario\, K0K 1H0\, Canada
CATEGORIES:Drop-In,Tweens
ATTACH;FMTTYPE=image/png:https://www.brightonlibrary.ca/wp-content/uploads/Tween-Scene.png
END:VEVENT
BEGIN:VEVENT
DTSTART;TZID=America/Toronto:20290118T150000
DTEND;TZID=America/Toronto:20290118T160000
DTSTAMP:20260422T175204
CREATED:20250816T170221Z
LAST-MODIFIED:20260217T135711Z
UID:10002142-1863442800-1863446400@www.brightonlibrary.ca
SUMMARY:Tween Scene
DESCRIPTION:Ages 11-14 can drop in for some snacks\, games\, crafts and hang outs. Head to the Program Room to see what’s on offer each week.
URL:https://www.brightonlibrary.ca/event-calendar/tween-scene/2029-01-18/
LOCATION:Brighton Public Library\, 35 Alice St\, Brighton\, Ontario\, K0K 1H0\, Canada
CATEGORIES:Drop-In,Tweens
ATTACH;FMTTYPE=image/png:https://www.brightonlibrary.ca/wp-content/uploads/Tween-Scene.png
END:VEVENT
BEGIN:VEVENT
DTSTART;TZID=America/Toronto:20290125T150000
DTEND;TZID=America/Toronto:20290125T160000
DTSTAMP:20260422T175204
CREATED:20250816T170221Z
LAST-MODIFIED:20260217T135711Z
UID:10002143-1864047600-1864051200@www.brightonlibrary.ca
SUMMARY:Tween Scene
DESCRIPTION:Ages 11-14 can drop in for some snacks\, games\, crafts and hang outs. Head to the Program Room to see what’s on offer each week.
URL:https://www.brightonlibrary.ca/event-calendar/tween-scene/2029-01-25/
LOCATION:Brighton Public Library\, 35 Alice St\, Brighton\, Ontario\, K0K 1H0\, Canada
CATEGORIES:Drop-In,Tweens
ATTACH;FMTTYPE=image/png:https://www.brightonlibrary.ca/wp-content/uploads/Tween-Scene.png
END:VEVENT
BEGIN:VEVENT
DTSTART;TZID=America/Toronto:20290201T150000
DTEND;TZID=America/Toronto:20290201T160000
DTSTAMP:20260422T175204
CREATED:20250816T170221Z
LAST-MODIFIED:20260217T135711Z
UID:10002144-1864652400-1864656000@www.brightonlibrary.ca
SUMMARY:Tween Scene
DESCRIPTION:Ages 11-14 can drop in for some snacks\, games\, crafts and hang outs. Head to the Program Room to see what’s on offer each week.
URL:https://www.brightonlibrary.ca/event-calendar/tween-scene/2029-02-01/
LOCATION:Brighton Public Library\, 35 Alice St\, Brighton\, Ontario\, K0K 1H0\, Canada
CATEGORIES:Drop-In,Tweens
ATTACH;FMTTYPE=image/png:https://www.brightonlibrary.ca/wp-content/uploads/Tween-Scene.png
END:VEVENT
BEGIN:VEVENT
DTSTART;TZID=America/Toronto:20290208T150000
DTEND;TZID=America/Toronto:20290208T160000
DTSTAMP:20260422T175204
CREATED:20250816T170221Z
LAST-MODIFIED:20260217T135711Z
UID:10002145-1865257200-1865260800@www.brightonlibrary.ca
SUMMARY:Tween Scene
DESCRIPTION:Ages 11-14 can drop in for some snacks\, games\, crafts and hang outs. Head to the Program Room to see what’s on offer each week.
URL:https://www.brightonlibrary.ca/event-calendar/tween-scene/2029-02-08/
LOCATION:Brighton Public Library\, 35 Alice St\, Brighton\, Ontario\, K0K 1H0\, Canada
CATEGORIES:Drop-In,Tweens
ATTACH;FMTTYPE=image/png:https://www.brightonlibrary.ca/wp-content/uploads/Tween-Scene.png
END:VEVENT
BEGIN:VEVENT
DTSTART;TZID=America/Toronto:20290215T150000
DTEND;TZID=America/Toronto:20290215T160000
DTSTAMP:20260422T175204
CREATED:20250816T170221Z
LAST-MODIFIED:20260217T135711Z
UID:10002146-1865862000-1865865600@www.brightonlibrary.ca
SUMMARY:Tween Scene
DESCRIPTION:Ages 11-14 can drop in for some snacks\, games\, crafts and hang outs. Head to the Program Room to see what’s on offer each week.
URL:https://www.brightonlibrary.ca/event-calendar/tween-scene/2029-02-15/
LOCATION:Brighton Public Library\, 35 Alice St\, Brighton\, Ontario\, K0K 1H0\, Canada
CATEGORIES:Drop-In,Tweens
ATTACH;FMTTYPE=image/png:https://www.brightonlibrary.ca/wp-content/uploads/Tween-Scene.png
END:VEVENT
BEGIN:VEVENT
DTSTART;TZID=America/Toronto:20290222T150000
DTEND;TZID=America/Toronto:20290222T160000
DTSTAMP:20260422T175204
CREATED:20250816T170221Z
LAST-MODIFIED:20260217T135711Z
UID:10002147-1866466800-1866470400@www.brightonlibrary.ca
SUMMARY:Tween Scene
DESCRIPTION:Ages 11-14 can drop in for some snacks\, games\, crafts and hang outs. Head to the Program Room to see what’s on offer each week.
URL:https://www.brightonlibrary.ca/event-calendar/tween-scene/2029-02-22/
LOCATION:Brighton Public Library\, 35 Alice St\, Brighton\, Ontario\, K0K 1H0\, Canada
CATEGORIES:Drop-In,Tweens
ATTACH;FMTTYPE=image/png:https://www.brightonlibrary.ca/wp-content/uploads/Tween-Scene.png
END:VEVENT
BEGIN:VEVENT
DTSTART;TZID=America/Toronto:20290301T150000
DTEND;TZID=America/Toronto:20290301T160000
DTSTAMP:20260422T175204
CREATED:20250816T170221Z
LAST-MODIFIED:20260217T135711Z
UID:10002148-1867071600-1867075200@www.brightonlibrary.ca
SUMMARY:Tween Scene
DESCRIPTION:Ages 11-14 can drop in for some snacks\, games\, crafts and hang outs. Head to the Program Room to see what’s on offer each week.
URL:https://www.brightonlibrary.ca/event-calendar/tween-scene/2029-03-01/
LOCATION:Brighton Public Library\, 35 Alice St\, Brighton\, Ontario\, K0K 1H0\, Canada
CATEGORIES:Drop-In,Tweens
ATTACH;FMTTYPE=image/png:https://www.brightonlibrary.ca/wp-content/uploads/Tween-Scene.png
END:VEVENT
BEGIN:VEVENT
DTSTART;TZID=America/Toronto:20290308T150000
DTEND;TZID=America/Toronto:20290308T160000
DTSTAMP:20260422T175204
CREATED:20250816T170221Z
LAST-MODIFIED:20260217T135711Z
UID:10002149-1867676400-1867680000@www.brightonlibrary.ca
SUMMARY:Tween Scene
DESCRIPTION:Ages 11-14 can drop in for some snacks\, games\, crafts and hang outs. Head to the Program Room to see what’s on offer each week.
URL:https://www.brightonlibrary.ca/event-calendar/tween-scene/2029-03-08/
LOCATION:Brighton Public Library\, 35 Alice St\, Brighton\, Ontario\, K0K 1H0\, Canada
CATEGORIES:Drop-In,Tweens
ATTACH;FMTTYPE=image/png:https://www.brightonlibrary.ca/wp-content/uploads/Tween-Scene.png
END:VEVENT
BEGIN:VEVENT
DTSTART;TZID=America/Toronto:20290315T150000
DTEND;TZID=America/Toronto:20290315T160000
DTSTAMP:20260422T175204
CREATED:20250816T170221Z
LAST-MODIFIED:20260217T135711Z
UID:10002150-1868281200-1868284800@www.brightonlibrary.ca
SUMMARY:Tween Scene
DESCRIPTION:Ages 11-14 can drop in for some snacks\, games\, crafts and hang outs. Head to the Program Room to see what’s on offer each week.
URL:https://www.brightonlibrary.ca/event-calendar/tween-scene/2029-03-15/
LOCATION:Brighton Public Library\, 35 Alice St\, Brighton\, Ontario\, K0K 1H0\, Canada
CATEGORIES:Drop-In,Tweens
ATTACH;FMTTYPE=image/png:https://www.brightonlibrary.ca/wp-content/uploads/Tween-Scene.png
END:VEVENT
BEGIN:VEVENT
DTSTART;TZID=America/Toronto:20290322T150000
DTEND;TZID=America/Toronto:20290322T160000
DTSTAMP:20260422T175204
CREATED:20250816T170221Z
LAST-MODIFIED:20260217T135711Z
UID:10002151-1868886000-1868889600@www.brightonlibrary.ca
SUMMARY:Tween Scene
DESCRIPTION:Ages 11-14 can drop in for some snacks\, games\, crafts and hang outs. Head to the Program Room to see what’s on offer each week.
URL:https://www.brightonlibrary.ca/event-calendar/tween-scene/2029-03-22/
LOCATION:Brighton Public Library\, 35 Alice St\, Brighton\, Ontario\, K0K 1H0\, Canada
CATEGORIES:Drop-In,Tweens
ATTACH;FMTTYPE=image/png:https://www.brightonlibrary.ca/wp-content/uploads/Tween-Scene.png
END:VEVENT
BEGIN:VEVENT
DTSTART;TZID=America/Toronto:20290329T150000
DTEND;TZID=America/Toronto:20290329T160000
DTSTAMP:20260422T175204
CREATED:20250816T170221Z
LAST-MODIFIED:20260217T135711Z
UID:10002152-1869490800-1869494400@www.brightonlibrary.ca
SUMMARY:Tween Scene
DESCRIPTION:Ages 11-14 can drop in for some snacks\, games\, crafts and hang outs. Head to the Program Room to see what’s on offer each week.
URL:https://www.brightonlibrary.ca/event-calendar/tween-scene/2029-03-29/
LOCATION:Brighton Public Library\, 35 Alice St\, Brighton\, Ontario\, K0K 1H0\, Canada
CATEGORIES:Drop-In,Tweens
ATTACH;FMTTYPE=image/png:https://www.brightonlibrary.ca/wp-content/uploads/Tween-Scene.png
END:VEVENT
BEGIN:VEVENT
DTSTART;TZID=America/Toronto:20290405T150000
DTEND;TZID=America/Toronto:20290405T160000
DTSTAMP:20260422T175204
CREATED:20250816T170221Z
LAST-MODIFIED:20260217T135711Z
UID:10002153-1870095600-1870099200@www.brightonlibrary.ca
SUMMARY:Tween Scene
DESCRIPTION:Ages 11-14 can drop in for some snacks\, games\, crafts and hang outs. Head to the Program Room to see what’s on offer each week.
URL:https://www.brightonlibrary.ca/event-calendar/tween-scene/2029-04-05/
LOCATION:Brighton Public Library\, 35 Alice St\, Brighton\, Ontario\, K0K 1H0\, Canada
CATEGORIES:Drop-In,Tweens
ATTACH;FMTTYPE=image/png:https://www.brightonlibrary.ca/wp-content/uploads/Tween-Scene.png
END:VEVENT
BEGIN:VEVENT
DTSTART;TZID=America/Toronto:20290412T150000
DTEND;TZID=America/Toronto:20290412T160000
DTSTAMP:20260422T175204
CREATED:20250816T170221Z
LAST-MODIFIED:20260217T135711Z
UID:10002154-1870700400-1870704000@www.brightonlibrary.ca
SUMMARY:Tween Scene
DESCRIPTION:Ages 11-14 can drop in for some snacks\, games\, crafts and hang outs. Head to the Program Room to see what’s on offer each week.
URL:https://www.brightonlibrary.ca/event-calendar/tween-scene/2029-04-12/
LOCATION:Brighton Public Library\, 35 Alice St\, Brighton\, Ontario\, K0K 1H0\, Canada
CATEGORIES:Drop-In,Tweens
ATTACH;FMTTYPE=image/png:https://www.brightonlibrary.ca/wp-content/uploads/Tween-Scene.png
END:VEVENT
BEGIN:VEVENT
DTSTART;TZID=America/Toronto:20290419T150000
DTEND;TZID=America/Toronto:20290419T160000
DTSTAMP:20260422T175204
CREATED:20250816T170221Z
LAST-MODIFIED:20260217T135711Z
UID:10002155-1871305200-1871308800@www.brightonlibrary.ca
SUMMARY:Tween Scene
DESCRIPTION:Ages 11-14 can drop in for some snacks\, games\, crafts and hang outs. Head to the Program Room to see what’s on offer each week.
URL:https://www.brightonlibrary.ca/event-calendar/tween-scene/2029-04-19/
LOCATION:Brighton Public Library\, 35 Alice St\, Brighton\, Ontario\, K0K 1H0\, Canada
CATEGORIES:Drop-In,Tweens
ATTACH;FMTTYPE=image/png:https://www.brightonlibrary.ca/wp-content/uploads/Tween-Scene.png
END:VEVENT
BEGIN:VEVENT
DTSTART;TZID=America/Toronto:20290426T150000
DTEND;TZID=America/Toronto:20290426T160000
DTSTAMP:20260422T175204
CREATED:20250816T170221Z
LAST-MODIFIED:20260217T135711Z
UID:10002156-1871910000-1871913600@www.brightonlibrary.ca
SUMMARY:Tween Scene
DESCRIPTION:Ages 11-14 can drop in for some snacks\, games\, crafts and hang outs. Head to the Program Room to see what’s on offer each week.
URL:https://www.brightonlibrary.ca/event-calendar/tween-scene/2029-04-26/
LOCATION:Brighton Public Library\, 35 Alice St\, Brighton\, Ontario\, K0K 1H0\, Canada
CATEGORIES:Drop-In,Tweens
ATTACH;FMTTYPE=image/png:https://www.brightonlibrary.ca/wp-content/uploads/Tween-Scene.png
END:VEVENT
BEGIN:VEVENT
DTSTART;TZID=America/Toronto:20290503T150000
DTEND;TZID=America/Toronto:20290503T160000
DTSTAMP:20260422T175204
CREATED:20250816T170221Z
LAST-MODIFIED:20260217T135711Z
UID:10002157-1872514800-1872518400@www.brightonlibrary.ca
SUMMARY:Tween Scene
DESCRIPTION:Ages 11-14 can drop in for some snacks\, games\, crafts and hang outs. Head to the Program Room to see what’s on offer each week.
URL:https://www.brightonlibrary.ca/event-calendar/tween-scene/2029-05-03/
LOCATION:Brighton Public Library\, 35 Alice St\, Brighton\, Ontario\, K0K 1H0\, Canada
CATEGORIES:Drop-In,Tweens
ATTACH;FMTTYPE=image/png:https://www.brightonlibrary.ca/wp-content/uploads/Tween-Scene.png
END:VEVENT
BEGIN:VEVENT
DTSTART;TZID=America/Toronto:20290510T150000
DTEND;TZID=America/Toronto:20290510T160000
DTSTAMP:20260422T175204
CREATED:20250816T170221Z
LAST-MODIFIED:20260217T135711Z
UID:10002158-1873119600-1873123200@www.brightonlibrary.ca
SUMMARY:Tween Scene
DESCRIPTION:Ages 11-14 can drop in for some snacks\, games\, crafts and hang outs. Head to the Program Room to see what’s on offer each week.
URL:https://www.brightonlibrary.ca/event-calendar/tween-scene/2029-05-10/
LOCATION:Brighton Public Library\, 35 Alice St\, Brighton\, Ontario\, K0K 1H0\, Canada
CATEGORIES:Drop-In,Tweens
ATTACH;FMTTYPE=image/png:https://www.brightonlibrary.ca/wp-content/uploads/Tween-Scene.png
END:VEVENT
BEGIN:VEVENT
DTSTART;TZID=America/Toronto:20290517T150000
DTEND;TZID=America/Toronto:20290517T160000
DTSTAMP:20260422T175204
CREATED:20250816T170221Z
LAST-MODIFIED:20260217T135711Z
UID:10002159-1873724400-1873728000@www.brightonlibrary.ca
SUMMARY:Tween Scene
DESCRIPTION:Ages 11-14 can drop in for some snacks\, games\, crafts and hang outs. Head to the Program Room to see what’s on offer each week.
URL:https://www.brightonlibrary.ca/event-calendar/tween-scene/2029-05-17/
LOCATION:Brighton Public Library\, 35 Alice St\, Brighton\, Ontario\, K0K 1H0\, Canada
CATEGORIES:Drop-In,Tweens
ATTACH;FMTTYPE=image/png:https://www.brightonlibrary.ca/wp-content/uploads/Tween-Scene.png
END:VEVENT
BEGIN:VEVENT
DTSTART;TZID=America/Toronto:20290524T150000
DTEND;TZID=America/Toronto:20290524T160000
DTSTAMP:20260422T175204
CREATED:20250816T170221Z
LAST-MODIFIED:20260217T135711Z
UID:10002160-1874329200-1874332800@www.brightonlibrary.ca
SUMMARY:Tween Scene
DESCRIPTION:Ages 11-14 can drop in for some snacks\, games\, crafts and hang outs. Head to the Program Room to see what’s on offer each week.
URL:https://www.brightonlibrary.ca/event-calendar/tween-scene/2029-05-24/
LOCATION:Brighton Public Library\, 35 Alice St\, Brighton\, Ontario\, K0K 1H0\, Canada
CATEGORIES:Drop-In,Tweens
ATTACH;FMTTYPE=image/png:https://www.brightonlibrary.ca/wp-content/uploads/Tween-Scene.png
END:VEVENT
BEGIN:VEVENT
DTSTART;TZID=America/Toronto:20290531T150000
DTEND;TZID=America/Toronto:20290531T160000
DTSTAMP:20260422T175204
CREATED:20250816T170221Z
LAST-MODIFIED:20260217T135711Z
UID:10002161-1874934000-1874937600@www.brightonlibrary.ca
SUMMARY:Tween Scene
DESCRIPTION:Ages 11-14 can drop in for some snacks\, games\, crafts and hang outs. Head to the Program Room to see what’s on offer each week.
URL:https://www.brightonlibrary.ca/event-calendar/tween-scene/2029-05-31/
LOCATION:Brighton Public Library\, 35 Alice St\, Brighton\, Ontario\, K0K 1H0\, Canada
CATEGORIES:Drop-In,Tweens
ATTACH;FMTTYPE=image/png:https://www.brightonlibrary.ca/wp-content/uploads/Tween-Scene.png
END:VEVENT
BEGIN:VEVENT
DTSTART;TZID=America/Toronto:20290607T150000
DTEND;TZID=America/Toronto:20290607T160000
DTSTAMP:20260422T175204
CREATED:20250816T170221Z
LAST-MODIFIED:20260217T135711Z
UID:10002162-1875538800-1875542400@www.brightonlibrary.ca
SUMMARY:Tween Scene
DESCRIPTION:Ages 11-14 can drop in for some snacks\, games\, crafts and hang outs. Head to the Program Room to see what’s on offer each week.
URL:https://www.brightonlibrary.ca/event-calendar/tween-scene/2029-06-07/
LOCATION:Brighton Public Library\, 35 Alice St\, Brighton\, Ontario\, K0K 1H0\, Canada
CATEGORIES:Drop-In,Tweens
ATTACH;FMTTYPE=image/png:https://www.brightonlibrary.ca/wp-content/uploads/Tween-Scene.png
END:VEVENT
BEGIN:VEVENT
DTSTART;TZID=America/Toronto:20290614T150000
DTEND;TZID=America/Toronto:20290614T160000
DTSTAMP:20260422T175204
CREATED:20250816T170221Z
LAST-MODIFIED:20260217T135711Z
UID:10002163-1876143600-1876147200@www.brightonlibrary.ca
SUMMARY:Tween Scene
DESCRIPTION:Ages 11-14 can drop in for some snacks\, games\, crafts and hang outs. Head to the Program Room to see what’s on offer each week.
URL:https://www.brightonlibrary.ca/event-calendar/tween-scene/2029-06-14/
LOCATION:Brighton Public Library\, 35 Alice St\, Brighton\, Ontario\, K0K 1H0\, Canada
CATEGORIES:Drop-In,Tweens
ATTACH;FMTTYPE=image/png:https://www.brightonlibrary.ca/wp-content/uploads/Tween-Scene.png
END:VEVENT
BEGIN:VEVENT
DTSTART;TZID=America/Toronto:20290621T150000
DTEND;TZID=America/Toronto:20290621T160000
DTSTAMP:20260422T175204
CREATED:20250816T170221Z
LAST-MODIFIED:20260217T135711Z
UID:10002164-1876748400-1876752000@www.brightonlibrary.ca
SUMMARY:Tween Scene
DESCRIPTION:Ages 11-14 can drop in for some snacks\, games\, crafts and hang outs. Head to the Program Room to see what’s on offer each week.
URL:https://www.brightonlibrary.ca/event-calendar/tween-scene/2029-06-21/
LOCATION:Brighton Public Library\, 35 Alice St\, Brighton\, Ontario\, K0K 1H0\, Canada
CATEGORIES:Drop-In,Tweens
ATTACH;FMTTYPE=image/png:https://www.brightonlibrary.ca/wp-content/uploads/Tween-Scene.png
END:VEVENT
END:VCALENDAR