BEGIN:VCALENDAR
VERSION:2.0
PRODID:-//Brighton Public Library - ECPv6.15.20//NONSGML v1.0//EN
CALSCALE:GREGORIAN
METHOD:PUBLISH
X-WR-CALNAME:Brighton Public Library
X-ORIGINAL-URL:https://www.brightonlibrary.ca
X-WR-CALDESC:Events for Brighton Public Library
REFRESH-INTERVAL;VALUE=DURATION:PT1H
X-Robots-Tag:noindex
X-PUBLISHED-TTL:PT1H
BEGIN:VTIMEZONE
TZID:America/Toronto
BEGIN:DAYLIGHT
TZOFFSETFROM:-0500
TZOFFSETTO:-0400
TZNAME:EDT
DTSTART:20240310T070000
END:DAYLIGHT
BEGIN:STANDARD
TZOFFSETFROM:-0400
TZOFFSETTO:-0500
TZNAME:EST
DTSTART:20241103T060000
END:STANDARD
BEGIN:DAYLIGHT
TZOFFSETFROM:-0500
TZOFFSETTO:-0400
TZNAME:EDT
DTSTART:20250309T070000
END:DAYLIGHT
BEGIN:STANDARD
TZOFFSETFROM:-0400
TZOFFSETTO:-0500
TZNAME:EST
DTSTART:20251102T060000
END:STANDARD
BEGIN:DAYLIGHT
TZOFFSETFROM:-0500
TZOFFSETTO:-0400
TZNAME:EDT
DTSTART:20260308T070000
END:DAYLIGHT
BEGIN:STANDARD
TZOFFSETFROM:-0400
TZOFFSETTO:-0500
TZNAME:EST
DTSTART:20261101T060000
END:STANDARD
BEGIN:DAYLIGHT
TZOFFSETFROM:-0500
TZOFFSETTO:-0400
TZNAME:EDT
DTSTART:20270314T070000
END:DAYLIGHT
BEGIN:STANDARD
TZOFFSETFROM:-0400
TZOFFSETTO:-0500
TZNAME:EST
DTSTART:20271107T060000
END:STANDARD
END:VTIMEZONE
BEGIN:VEVENT
DTSTART;TZID=America/Toronto:20260326T183000
DTEND;TZID=America/Toronto:20260326T200000
DTSTAMP:20260421T063544
CREATED:20260224T173459Z
LAST-MODIFIED:20260224T174145Z
UID:10002935-1774549800-1774555200@www.brightonlibrary.ca
SUMMARY:Music in the Library: String Mashup
DESCRIPTION:This fun\, local trio performs with a variety of stringed instruments. String Mashup blends music styles from 60s pop\, folk-rock\, contemporary indie and even original songs. \nNo registration is required.
URL:https://www.brightonlibrary.ca/event-calendar/music-in-the-library-string-mashup/
LOCATION:Brighton Public Library\, 35 Alice St\, Brighton\, Ontario\, K0K 1H0\, Canada
CATEGORIES:Adults,Drop-In,Music
ATTACH;FMTTYPE=image/png:https://www.brightonlibrary.ca/wp-content/uploads/String-Mashup-Feature-Image-1.png
END:VEVENT
BEGIN:VEVENT
DTSTART;TZID=America/Toronto:20260219T183000
DTEND;TZID=America/Toronto:20260219T200000
DTSTAMP:20260421T063544
CREATED:20260122T170403Z
LAST-MODIFIED:20260122T170403Z
UID:10002878-1771525800-1771531200@www.brightonlibrary.ca
SUMMARY:Music in the Library: Kindred Spirits
DESCRIPTION:Enjoy a selection of jazz\, blues and love songs from this accomplished duo! \nNo registration is required.
URL:https://www.brightonlibrary.ca/event-calendar/music-in-the-library-kindred-spirits/
LOCATION:Ontario
CATEGORIES:Adults,Drop-In,Music
ATTACH;FMTTYPE=image/png:https://www.brightonlibrary.ca/wp-content/uploads/Kindred-Spirits-Poster-Feature-Image.png
END:VEVENT
BEGIN:VEVENT
DTSTART;TZID=America/Toronto:20251211T183000
DTEND;TZID=America/Toronto:20251211T200000
DTSTAMP:20260421T063544
CREATED:20251106T160252Z
LAST-MODIFIED:20251107T152456Z
UID:10002673-1765477800-1765483200@www.brightonlibrary.ca
SUMMARY:Holiday Sing-Along with Terry and Ralph
DESCRIPTION:This holiday event is back by popular demand! \nAll ages are welcome to join in and enjoy holiday tunes led by Terry Brooks and Ralph de Jonge. Song sheets will be provided! \nNo registration is required.
URL:https://www.brightonlibrary.ca/event-calendar/holiday-sing-along-with-terry-and-ralph/
LOCATION:Brighton Public Library\, 35 Alice St\, Brighton\, Ontario\, K0K 1H0\, Canada
CATEGORIES:All Ages,Drop-In,Music
ATTACH;FMTTYPE=image/png:https://www.brightonlibrary.ca/wp-content/uploads/Sing-Along-Feature-Image-1.png
END:VEVENT
BEGIN:VEVENT
DTSTART;TZID=America/Toronto:20251206T120000
DTEND;TZID=America/Toronto:20251206T160000
DTSTAMP:20260421T063544
CREATED:20251014T181552Z
LAST-MODIFIED:20251021T140034Z
UID:10002537-1765022400-1765036800@www.brightonlibrary.ca
SUMMARY:Pop Up Recording Studio
DESCRIPTION:Join David to record your own song at the Library\, and celebrate Record a Song Day! David will then mix and prepare your recording to be shared via email. \nPlease use the ticketing feature below to register this event. David will email you to set up a specific time for that day. \nHow to make this a great recording session: \n1.Do not plan to use any prerecorded elements\, e.g. background music or karaoke-style singing. \n2. Bring your own instrument. \n3. Solo musicians only\, please no duos or groups.
URL:https://www.brightonlibrary.ca/event-calendar/pop-up-recording-studio/
LOCATION:Brighton Public Library\, 35 Alice St\, Brighton\, Ontario\, K0K 1H0\, Canada
CATEGORIES:Adults,Music,Registration Required,Teens
ATTACH;FMTTYPE=image/png:https://www.brightonlibrary.ca/wp-content/uploads/Pop-up-Recording-Studio.png
END:VEVENT
BEGIN:VEVENT
DTSTART;TZID=America/Toronto:20251106T183000
DTEND;TZID=America/Toronto:20251106T200000
DTSTAMP:20260421T063544
CREATED:20250828T182358Z
LAST-MODIFIED:20250911T161624Z
UID:10002511-1762453800-1762459200@www.brightonlibrary.ca
SUMMARY:Music in the Library: Ray Herbert
DESCRIPTION:This month we welcome local musician Ray Herbert to the Music in the Library stage! Ray will be delighting us with an eclectic musical mix of styles and genres.
URL:https://www.brightonlibrary.ca/event-calendar/music-in-the-library-ray-herbert/
LOCATION:Brighton Public Library\, 35 Alice St\, Brighton\, Ontario\, K0K 1H0\, Canada
CATEGORIES:Adults,Drop-In,Music
END:VEVENT
END:VCALENDAR