BEGIN:VCALENDAR
VERSION:2.0
PRODID:-//Brighton Public Library - ECPv6.15.20//NONSGML v1.0//EN
CALSCALE:GREGORIAN
METHOD:PUBLISH
X-ORIGINAL-URL:https://www.brightonlibrary.ca
X-WR-CALDESC:Events for Brighton Public Library
REFRESH-INTERVAL;VALUE=DURATION:PT1H
X-Robots-Tag:noindex
X-PUBLISHED-TTL:PT1H
BEGIN:VTIMEZONE
TZID:America/Toronto
BEGIN:DAYLIGHT
TZOFFSETFROM:-0500
TZOFFSETTO:-0400
TZNAME:EDT
DTSTART:20240310T070000
END:DAYLIGHT
BEGIN:STANDARD
TZOFFSETFROM:-0400
TZOFFSETTO:-0500
TZNAME:EST
DTSTART:20241103T060000
END:STANDARD
BEGIN:DAYLIGHT
TZOFFSETFROM:-0500
TZOFFSETTO:-0400
TZNAME:EDT
DTSTART:20250309T070000
END:DAYLIGHT
BEGIN:STANDARD
TZOFFSETFROM:-0400
TZOFFSETTO:-0500
TZNAME:EST
DTSTART:20251102T060000
END:STANDARD
BEGIN:DAYLIGHT
TZOFFSETFROM:-0500
TZOFFSETTO:-0400
TZNAME:EDT
DTSTART:20260308T070000
END:DAYLIGHT
BEGIN:STANDARD
TZOFFSETFROM:-0400
TZOFFSETTO:-0500
TZNAME:EST
DTSTART:20261101T060000
END:STANDARD
BEGIN:DAYLIGHT
TZOFFSETFROM:-0500
TZOFFSETTO:-0400
TZNAME:EDT
DTSTART:20270314T070000
END:DAYLIGHT
BEGIN:STANDARD
TZOFFSETFROM:-0400
TZOFFSETTO:-0500
TZNAME:EST
DTSTART:20271107T060000
END:STANDARD
END:VTIMEZONE
BEGIN:VEVENT
DTSTART;TZID=America/Toronto:20260417T140000
DTEND;TZID=America/Toronto:20260417T153000
DTSTAMP:20260421T081418
CREATED:20260209T181800Z
LAST-MODIFIED:20260209T181952Z
UID:10002903-1776434400-1776439800@www.brightonlibrary.ca
SUMMARY:Building Your Family Tree
DESCRIPTION:Interest in family history research (genealogy) has exploded over the past decades as more and more source records have been digitized and made available online. Learn how to find and use those records to build a tree that you can share with your family and the world! \nNo registration is required.
URL:https://www.brightonlibrary.ca/event-calendar/building-your-family-tree/
LOCATION:Brighton Public Library\, 35 Alice St\, Brighton\, Ontario\, K0K 1H0\, Canada
CATEGORIES:Adult Workshop,Adults,Drop-In,Local History
ATTACH;FMTTYPE=image/png:https://www.brightonlibrary.ca/wp-content/uploads/Family-Tree-Feature-image.png
END:VEVENT
BEGIN:VEVENT
DTSTART;TZID=America/Toronto:20260416T183000
DTEND;TZID=America/Toronto:20260416T200000
DTSTAMP:20260421T081418
CREATED:20260209T181512Z
LAST-MODIFIED:20260209T181512Z
UID:10002902-1776364200-1776369600@www.brightonlibrary.ca
SUMMARY:Historical Fiction Book Club
DESCRIPTION:Join Andrea for three weeks of historical fiction fun at this genre-based book club. There is no assigned reading\, only enthusiasm required: we will discuss our favourite authors\, titles\, eras and themes in historical fiction\, plus enjoy snacks and crafts together. In our final week\, we will welcome the Brighton Digital Archives to share some local lore. \nThis is a three-week series\, running on Thursday nights on April 16th\, 23rd and 30th. Participants should plan to attend all three weeks to get the most out of this program. \nRegistration is required so we know how much tea to brew!
URL:https://www.brightonlibrary.ca/event-calendar/historical-fiction-book-club/
LOCATION:Brighton Public Library\, 35 Alice St\, Brighton\, Ontario\, K0K 1H0\, Canada
CATEGORIES:Adults,Crafty,Local History,Registration Required
ATTACH;FMTTYPE=image/png:https://www.brightonlibrary.ca/wp-content/uploads/HistFic-Feature-Image-2.png
END:VEVENT
BEGIN:VEVENT
DTSTART;TZID=America/Toronto:20260210T183000
DTEND;TZID=America/Toronto:20260210T200000
DTSTAMP:20260421T081418
CREATED:20251127T170924Z
LAST-MODIFIED:20251127T170924Z
UID:10002698-1770748200-1770753600@www.brightonlibrary.ca
SUMMARY:The Story of George Gibson's Schooner
DESCRIPTION:We welcome The History Guy Dan Buchanan to separate fact from fiction in the case of George Gibson’s Schooner. Secretly built for the War of 1812\, burned by a pirate\, attacked by American spies?! Dan will set the record straight for this piece of local lore from Presqu’ile Bay\, using recent research and his gift for storytelling. He assures us that the truth is always more interesting than the legends! \nNo registration is required\, but local history is a hot topic in Brighton! We recommend arriving early to grab a seat.
URL:https://www.brightonlibrary.ca/event-calendar/the-story-of-george-gibsons-schooner/
LOCATION:Brighton Public Library\, 35 Alice St\, Brighton\, Ontario\, K0K 1H0\, Canada
CATEGORIES:Adults,Drop-In,Local History
ATTACH;FMTTYPE=image/png:https://www.brightonlibrary.ca/wp-content/uploads/Gibson-Feature-Image.png
END:VEVENT
BEGIN:VEVENT
DTSTART;TZID=America/Toronto:20251202T183000
DTEND;TZID=America/Toronto:20251202T200000
DTSTAMP:20260421T081418
CREATED:20251106T155845Z
LAST-MODIFIED:20251107T153233Z
UID:10002672-1764700200-1764705600@www.brightonlibrary.ca
SUMMARY:Brighton's Hops Barn
DESCRIPTION:Learn about the once-thriving hops industry in Brighton\, what caused its downfall and the journey this remaining artefact has taken to be restored. \nWe welcome Bruce Davis\, director of the Brian Todd Memorial Community Fund\, to share his slideshow on this 145 year old building. \nNo registration is required.
URL:https://www.brightonlibrary.ca/event-calendar/brightons-hops-barn/
LOCATION:Brighton Public Library\, 35 Alice St\, Brighton\, Ontario\, K0K 1H0\, Canada
CATEGORIES:Adults,Drop-In,Local History
ATTACH;FMTTYPE=image/png:https://www.brightonlibrary.ca/wp-content/uploads/Hops-Barn-Feature-Image-1.png
END:VEVENT
BEGIN:VEVENT
DTSTART;TZID=America/Toronto:20251104T183000
DTEND;TZID=America/Toronto:20251104T200000
DTSTAMP:20260421T081418
CREATED:20251024T111942Z
LAST-MODIFIED:20251024T115828Z
UID:10002547-1762281000-1762286400@www.brightonlibrary.ca
SUMMARY:Brighton: One Town\, Two Wars
DESCRIPTION:Join us for a video presentation from the Brighton Digital Archives\, sharing the stories of young people from Brighton who served in the Great War and the Second World War. \nNo registration is required. \nMore from the BDA’s Facebook Page: \n\n“When we found an old family album from the family of Gerald Thompson Mutton in the Bangay Collection\, we were intrigued. The album\, lovingly populated\, chronicled the story of Gerald’s loss as an aircrew member during the Second World War. This inspired us to dig deeper\, as so many members of our community have\, to learn more about the young men and women who were willing to sacrifice everything for their hometown\, for their country\, for freedom around the world. We learned there were so many; we learned we couldn’t tell every story\, but we could share vignettes and hopefully share a sense of that time and those feelings.\n\n\n\n“We will present a 25-minute video and have displays throughout the Brighton Public Library\, honouring those who stepped up to protect their friends\, neighbours\, family\, and people they would never meet in places they had never heard of. We are grateful for the cooperation and support of the Royal Canadian Legion Brighton Branch 100.”
URL:https://www.brightonlibrary.ca/event-calendar/brighton-one-town-two-wars/
LOCATION:Brighton Public Library\, 35 Alice St\, Brighton\, Ontario\, K0K 1H0\, Canada
CATEGORIES:Adults,Drop-In,Local History
END:VEVENT
END:VCALENDAR