BEGIN:VCALENDAR
VERSION:2.0
PRODID:-//Brighton Public Library - ECPv6.15.20//NONSGML v1.0//EN
CALSCALE:GREGORIAN
METHOD:PUBLISH
X-WR-CALNAME:Brighton Public Library
X-ORIGINAL-URL:https://www.brightonlibrary.ca
X-WR-CALDESC:Events for Brighton Public Library
REFRESH-INTERVAL;VALUE=DURATION:PT1H
X-Robots-Tag:noindex
X-PUBLISHED-TTL:PT1H
BEGIN:VTIMEZONE
TZID:America/Toronto
BEGIN:DAYLIGHT
TZOFFSETFROM:-0500
TZOFFSETTO:-0400
TZNAME:EDT
DTSTART:20250309T070000
END:DAYLIGHT
BEGIN:STANDARD
TZOFFSETFROM:-0400
TZOFFSETTO:-0500
TZNAME:EST
DTSTART:20251102T060000
END:STANDARD
BEGIN:DAYLIGHT
TZOFFSETFROM:-0500
TZOFFSETTO:-0400
TZNAME:EDT
DTSTART:20260308T070000
END:DAYLIGHT
BEGIN:STANDARD
TZOFFSETFROM:-0400
TZOFFSETTO:-0500
TZNAME:EST
DTSTART:20261101T060000
END:STANDARD
BEGIN:DAYLIGHT
TZOFFSETFROM:-0500
TZOFFSETTO:-0400
TZNAME:EDT
DTSTART:20270314T070000
END:DAYLIGHT
BEGIN:STANDARD
TZOFFSETFROM:-0400
TZOFFSETTO:-0500
TZNAME:EST
DTSTART:20271107T060000
END:STANDARD
END:VTIMEZONE
BEGIN:VEVENT
DTSTART;TZID=America/Toronto:20260420T100000
DTEND;TZID=America/Toronto:20260420T120000
DTSTAMP:20260421T081251
CREATED:20260209T183311Z
LAST-MODIFIED:20260209T183311Z
UID:10002905-1776679200-1776686400@www.brightonlibrary.ca
SUMMARY:Spring Fling with Robbie Burns
DESCRIPTION:We welcome a special pop-up exhibit from the WD Jordan Rare Books & Special Collections of Queen’s University Library. This exhibit will feature the poetry of Robbie Burns\, perfect for Poetry Month!
URL:https://www.brightonlibrary.ca/event-calendar/spring-fling-with-robbie-burns/
LOCATION:Brighton Public Library\, 35 Alice St\, Brighton\, Ontario\, K0K 1H0\, Canada
CATEGORIES:Adults,Drop-In,Exhibit
ATTACH;FMTTYPE=image/png:https://www.brightonlibrary.ca/wp-content/uploads/Robbie-Burns-Feature-Image-1.png
END:VEVENT
BEGIN:VEVENT
DTSTART;TZID=America/Toronto:20260126T100000
DTEND;TZID=America/Toronto:20260126T120000
DTSTAMP:20260421T081251
CREATED:20251120T163705Z
LAST-MODIFIED:20260126T140816Z
UID:10002696-1769421600-1769428800@www.brightonlibrary.ca
SUMMARY:Cancelled: A Wee Bit o' Burns
DESCRIPTION:This event has been cancelled due to the weather! Watch for future exhibits from Queen’s University in our lobby. *Updated Jan 26th \n  \nDrop in to the lobby today to enjoy a special pop-up exhibit from Queen’s University’s W.D. Jordan Rare Books and Special Collections library. \nThey’ll be bringing unique items that feature the Scottish poet Robert Burns\, in celebration of Robbie Burns Day. \n  \n 
URL:https://www.brightonlibrary.ca/event-calendar/a-wee-bit-o-burns/
LOCATION:Brighton Public Library\, 35 Alice St\, Brighton\, Ontario\, K0K 1H0\, Canada
CATEGORIES:Drop-In,Exhibit
ATTACH;FMTTYPE=image/png:https://www.brightonlibrary.ca/wp-content/uploads/Robbie-Burns-Feature-Image.png
END:VEVENT
END:VCALENDAR