BEGIN:VCALENDAR
VERSION:2.0
PRODID:-//Brighton Public Library - ECPv6.15.20//NONSGML v1.0//EN
CALSCALE:GREGORIAN
METHOD:PUBLISH
X-WR-CALNAME:Brighton Public Library
X-ORIGINAL-URL:https://www.brightonlibrary.ca
X-WR-CALDESC:Events for Brighton Public Library
REFRESH-INTERVAL;VALUE=DURATION:PT1H
X-Robots-Tag:noindex
X-PUBLISHED-TTL:PT1H
BEGIN:VTIMEZONE
TZID:America/Toronto
BEGIN:DAYLIGHT
TZOFFSETFROM:-0500
TZOFFSETTO:-0400
TZNAME:EDT
DTSTART:20290311T070000
END:DAYLIGHT
BEGIN:STANDARD
TZOFFSETFROM:-0400
TZOFFSETTO:-0500
TZNAME:EST
DTSTART:20291104T060000
END:STANDARD
BEGIN:DAYLIGHT
TZOFFSETFROM:-0500
TZOFFSETTO:-0400
TZNAME:EDT
DTSTART:20300310T070000
END:DAYLIGHT
BEGIN:STANDARD
TZOFFSETFROM:-0400
TZOFFSETTO:-0500
TZNAME:EST
DTSTART:20301103T060000
END:STANDARD
BEGIN:DAYLIGHT
TZOFFSETFROM:-0500
TZOFFSETTO:-0400
TZNAME:EDT
DTSTART:20310309T070000
END:DAYLIGHT
BEGIN:STANDARD
TZOFFSETFROM:-0400
TZOFFSETTO:-0500
TZNAME:EST
DTSTART:20311102T060000
END:STANDARD
BEGIN:DAYLIGHT
TZOFFSETFROM:-0500
TZOFFSETTO:-0400
TZNAME:EDT
DTSTART:20320314T070000
END:DAYLIGHT
BEGIN:STANDARD
TZOFFSETFROM:-0400
TZOFFSETTO:-0500
TZNAME:EST
DTSTART:20321107T060000
END:STANDARD
END:VTIMEZONE
BEGIN:VEVENT
DTSTART;TZID=America/Toronto:20300905T100000
DTEND;TZID=America/Toronto:20300905T103000
DTSTAMP:20260423T011749
CREATED:20250816T170631Z
LAST-MODIFIED:20260122T161515Z
UID:10002560-1914832800-1914834600@www.brightonlibrary.ca
SUMMARY:Busy Bees
DESCRIPTION:Babies and their caregivers are invited to buzz over and explore a variety of sensory activities together each week while making new friends in this relaxed program.
URL:https://www.brightonlibrary.ca/event-calendar/busy-bees/2030-09-05/
LOCATION:Brighton Public Library\, 35 Alice St\, Brighton\, Ontario\, K0K 1H0\, Canada
CATEGORIES:Babies,Drop-In
ATTACH;FMTTYPE=image/png:https://www.brightonlibrary.ca/wp-content/uploads/Busy-Bees.png
END:VEVENT
BEGIN:VEVENT
DTSTART;TZID=America/Toronto:20300912T100000
DTEND;TZID=America/Toronto:20300912T103000
DTSTAMP:20260423T011749
CREATED:20250816T170631Z
LAST-MODIFIED:20260122T161515Z
UID:10002561-1915437600-1915439400@www.brightonlibrary.ca
SUMMARY:Busy Bees
DESCRIPTION:Babies and their caregivers are invited to buzz over and explore a variety of sensory activities together each week while making new friends in this relaxed program.
URL:https://www.brightonlibrary.ca/event-calendar/busy-bees/2030-09-12/
LOCATION:Brighton Public Library\, 35 Alice St\, Brighton\, Ontario\, K0K 1H0\, Canada
CATEGORIES:Babies,Drop-In
ATTACH;FMTTYPE=image/png:https://www.brightonlibrary.ca/wp-content/uploads/Busy-Bees.png
END:VEVENT
BEGIN:VEVENT
DTSTART;TZID=America/Toronto:20300919T100000
DTEND;TZID=America/Toronto:20300919T103000
DTSTAMP:20260423T011749
CREATED:20250816T170631Z
LAST-MODIFIED:20260122T161515Z
UID:10002562-1916042400-1916044200@www.brightonlibrary.ca
SUMMARY:Busy Bees
DESCRIPTION:Babies and their caregivers are invited to buzz over and explore a variety of sensory activities together each week while making new friends in this relaxed program.
URL:https://www.brightonlibrary.ca/event-calendar/busy-bees/2030-09-19/
LOCATION:Brighton Public Library\, 35 Alice St\, Brighton\, Ontario\, K0K 1H0\, Canada
CATEGORIES:Babies,Drop-In
ATTACH;FMTTYPE=image/png:https://www.brightonlibrary.ca/wp-content/uploads/Busy-Bees.png
END:VEVENT
BEGIN:VEVENT
DTSTART;TZID=America/Toronto:20300926T100000
DTEND;TZID=America/Toronto:20300926T103000
DTSTAMP:20260423T011749
CREATED:20250816T170631Z
LAST-MODIFIED:20260122T161515Z
UID:10002563-1916647200-1916649000@www.brightonlibrary.ca
SUMMARY:Busy Bees
DESCRIPTION:Babies and their caregivers are invited to buzz over and explore a variety of sensory activities together each week while making new friends in this relaxed program.
URL:https://www.brightonlibrary.ca/event-calendar/busy-bees/2030-09-26/
LOCATION:Brighton Public Library\, 35 Alice St\, Brighton\, Ontario\, K0K 1H0\, Canada
CATEGORIES:Babies,Drop-In
ATTACH;FMTTYPE=image/png:https://www.brightonlibrary.ca/wp-content/uploads/Busy-Bees.png
END:VEVENT
BEGIN:VEVENT
DTSTART;TZID=America/Toronto:20301003T100000
DTEND;TZID=America/Toronto:20301003T103000
DTSTAMP:20260423T011749
CREATED:20250816T170631Z
LAST-MODIFIED:20260122T161515Z
UID:10002564-1917252000-1917253800@www.brightonlibrary.ca
SUMMARY:Busy Bees
DESCRIPTION:Babies and their caregivers are invited to buzz over and explore a variety of sensory activities together each week while making new friends in this relaxed program.
URL:https://www.brightonlibrary.ca/event-calendar/busy-bees/2030-10-03/
LOCATION:Brighton Public Library\, 35 Alice St\, Brighton\, Ontario\, K0K 1H0\, Canada
CATEGORIES:Babies,Drop-In
ATTACH;FMTTYPE=image/png:https://www.brightonlibrary.ca/wp-content/uploads/Busy-Bees.png
END:VEVENT
BEGIN:VEVENT
DTSTART;TZID=America/Toronto:20301010T100000
DTEND;TZID=America/Toronto:20301010T103000
DTSTAMP:20260423T011749
CREATED:20250816T170631Z
LAST-MODIFIED:20260122T161515Z
UID:10002565-1917856800-1917858600@www.brightonlibrary.ca
SUMMARY:Busy Bees
DESCRIPTION:Babies and their caregivers are invited to buzz over and explore a variety of sensory activities together each week while making new friends in this relaxed program.
URL:https://www.brightonlibrary.ca/event-calendar/busy-bees/2030-10-10/
LOCATION:Brighton Public Library\, 35 Alice St\, Brighton\, Ontario\, K0K 1H0\, Canada
CATEGORIES:Babies,Drop-In
ATTACH;FMTTYPE=image/png:https://www.brightonlibrary.ca/wp-content/uploads/Busy-Bees.png
END:VEVENT
BEGIN:VEVENT
DTSTART;TZID=America/Toronto:20301017T100000
DTEND;TZID=America/Toronto:20301017T103000
DTSTAMP:20260423T011749
CREATED:20250816T170631Z
LAST-MODIFIED:20260122T161515Z
UID:10002566-1918461600-1918463400@www.brightonlibrary.ca
SUMMARY:Busy Bees
DESCRIPTION:Babies and their caregivers are invited to buzz over and explore a variety of sensory activities together each week while making new friends in this relaxed program.
URL:https://www.brightonlibrary.ca/event-calendar/busy-bees/2030-10-17/
LOCATION:Brighton Public Library\, 35 Alice St\, Brighton\, Ontario\, K0K 1H0\, Canada
CATEGORIES:Babies,Drop-In
ATTACH;FMTTYPE=image/png:https://www.brightonlibrary.ca/wp-content/uploads/Busy-Bees.png
END:VEVENT
BEGIN:VEVENT
DTSTART;TZID=America/Toronto:20301024T100000
DTEND;TZID=America/Toronto:20301024T103000
DTSTAMP:20260423T011749
CREATED:20250816T170631Z
LAST-MODIFIED:20260122T161515Z
UID:10002567-1919066400-1919068200@www.brightonlibrary.ca
SUMMARY:Busy Bees
DESCRIPTION:Babies and their caregivers are invited to buzz over and explore a variety of sensory activities together each week while making new friends in this relaxed program.
URL:https://www.brightonlibrary.ca/event-calendar/busy-bees/2030-10-24/
LOCATION:Brighton Public Library\, 35 Alice St\, Brighton\, Ontario\, K0K 1H0\, Canada
CATEGORIES:Babies,Drop-In
ATTACH;FMTTYPE=image/png:https://www.brightonlibrary.ca/wp-content/uploads/Busy-Bees.png
END:VEVENT
BEGIN:VEVENT
DTSTART;TZID=America/Toronto:20301031T100000
DTEND;TZID=America/Toronto:20301031T103000
DTSTAMP:20260423T011749
CREATED:20250816T170631Z
LAST-MODIFIED:20260122T161515Z
UID:10002848-1919671200-1919673000@www.brightonlibrary.ca
SUMMARY:Busy Bees
DESCRIPTION:Babies and their caregivers are invited to buzz over and explore a variety of sensory activities together each week while making new friends in this relaxed program.
URL:https://www.brightonlibrary.ca/event-calendar/busy-bees/2030-10-31/
LOCATION:Brighton Public Library\, 35 Alice St\, Brighton\, Ontario\, K0K 1H0\, Canada
CATEGORIES:Babies,Drop-In
ATTACH;FMTTYPE=image/png:https://www.brightonlibrary.ca/wp-content/uploads/Busy-Bees.png
END:VEVENT
BEGIN:VEVENT
DTSTART;TZID=America/Toronto:20301107T100000
DTEND;TZID=America/Toronto:20301107T103000
DTSTAMP:20260423T011749
CREATED:20250816T170631Z
LAST-MODIFIED:20260122T161515Z
UID:10002849-1920276000-1920277800@www.brightonlibrary.ca
SUMMARY:Busy Bees
DESCRIPTION:Babies and their caregivers are invited to buzz over and explore a variety of sensory activities together each week while making new friends in this relaxed program.
URL:https://www.brightonlibrary.ca/event-calendar/busy-bees/2030-11-07/
LOCATION:Brighton Public Library\, 35 Alice St\, Brighton\, Ontario\, K0K 1H0\, Canada
CATEGORIES:Babies,Drop-In
ATTACH;FMTTYPE=image/png:https://www.brightonlibrary.ca/wp-content/uploads/Busy-Bees.png
END:VEVENT
BEGIN:VEVENT
DTSTART;TZID=America/Toronto:20301114T100000
DTEND;TZID=America/Toronto:20301114T103000
DTSTAMP:20260423T011749
CREATED:20250816T170631Z
LAST-MODIFIED:20260122T161515Z
UID:10002850-1920880800-1920882600@www.brightonlibrary.ca
SUMMARY:Busy Bees
DESCRIPTION:Babies and their caregivers are invited to buzz over and explore a variety of sensory activities together each week while making new friends in this relaxed program.
URL:https://www.brightonlibrary.ca/event-calendar/busy-bees/2030-11-14/
LOCATION:Brighton Public Library\, 35 Alice St\, Brighton\, Ontario\, K0K 1H0\, Canada
CATEGORIES:Babies,Drop-In
ATTACH;FMTTYPE=image/png:https://www.brightonlibrary.ca/wp-content/uploads/Busy-Bees.png
END:VEVENT
BEGIN:VEVENT
DTSTART;TZID=America/Toronto:20301121T100000
DTEND;TZID=America/Toronto:20301121T103000
DTSTAMP:20260423T011749
CREATED:20250816T170631Z
LAST-MODIFIED:20260122T161515Z
UID:10002851-1921485600-1921487400@www.brightonlibrary.ca
SUMMARY:Busy Bees
DESCRIPTION:Babies and their caregivers are invited to buzz over and explore a variety of sensory activities together each week while making new friends in this relaxed program.
URL:https://www.brightonlibrary.ca/event-calendar/busy-bees/2030-11-21/
LOCATION:Brighton Public Library\, 35 Alice St\, Brighton\, Ontario\, K0K 1H0\, Canada
CATEGORIES:Babies,Drop-In
ATTACH;FMTTYPE=image/png:https://www.brightonlibrary.ca/wp-content/uploads/Busy-Bees.png
END:VEVENT
BEGIN:VEVENT
DTSTART;TZID=America/Toronto:20301128T100000
DTEND;TZID=America/Toronto:20301128T103000
DTSTAMP:20260423T011749
CREATED:20250816T170631Z
LAST-MODIFIED:20260122T161515Z
UID:10002852-1922090400-1922092200@www.brightonlibrary.ca
SUMMARY:Busy Bees
DESCRIPTION:Babies and their caregivers are invited to buzz over and explore a variety of sensory activities together each week while making new friends in this relaxed program.
URL:https://www.brightonlibrary.ca/event-calendar/busy-bees/2030-11-28/
LOCATION:Brighton Public Library\, 35 Alice St\, Brighton\, Ontario\, K0K 1H0\, Canada
CATEGORIES:Babies,Drop-In
ATTACH;FMTTYPE=image/png:https://www.brightonlibrary.ca/wp-content/uploads/Busy-Bees.png
END:VEVENT
BEGIN:VEVENT
DTSTART;TZID=America/Toronto:20301205T100000
DTEND;TZID=America/Toronto:20301205T103000
DTSTAMP:20260423T011749
CREATED:20250816T170631Z
LAST-MODIFIED:20260122T161515Z
UID:10002853-1922695200-1922697000@www.brightonlibrary.ca
SUMMARY:Busy Bees
DESCRIPTION:Babies and their caregivers are invited to buzz over and explore a variety of sensory activities together each week while making new friends in this relaxed program.
URL:https://www.brightonlibrary.ca/event-calendar/busy-bees/2030-12-05/
LOCATION:Brighton Public Library\, 35 Alice St\, Brighton\, Ontario\, K0K 1H0\, Canada
CATEGORIES:Babies,Drop-In
ATTACH;FMTTYPE=image/png:https://www.brightonlibrary.ca/wp-content/uploads/Busy-Bees.png
END:VEVENT
BEGIN:VEVENT
DTSTART;TZID=America/Toronto:20301212T100000
DTEND;TZID=America/Toronto:20301212T103000
DTSTAMP:20260423T011749
CREATED:20250816T170631Z
LAST-MODIFIED:20260122T161515Z
UID:10002854-1923300000-1923301800@www.brightonlibrary.ca
SUMMARY:Busy Bees
DESCRIPTION:Babies and their caregivers are invited to buzz over and explore a variety of sensory activities together each week while making new friends in this relaxed program.
URL:https://www.brightonlibrary.ca/event-calendar/busy-bees/2030-12-12/
LOCATION:Brighton Public Library\, 35 Alice St\, Brighton\, Ontario\, K0K 1H0\, Canada
CATEGORIES:Babies,Drop-In
ATTACH;FMTTYPE=image/png:https://www.brightonlibrary.ca/wp-content/uploads/Busy-Bees.png
END:VEVENT
BEGIN:VEVENT
DTSTART;TZID=America/Toronto:20301219T100000
DTEND;TZID=America/Toronto:20301219T103000
DTSTAMP:20260423T011749
CREATED:20250816T170631Z
LAST-MODIFIED:20260122T161515Z
UID:10002862-1923904800-1923906600@www.brightonlibrary.ca
SUMMARY:Busy Bees
DESCRIPTION:Babies and their caregivers are invited to buzz over and explore a variety of sensory activities together each week while making new friends in this relaxed program.
URL:https://www.brightonlibrary.ca/event-calendar/busy-bees/2030-12-19/
LOCATION:Brighton Public Library\, 35 Alice St\, Brighton\, Ontario\, K0K 1H0\, Canada
CATEGORIES:Babies,Drop-In
ATTACH;FMTTYPE=image/png:https://www.brightonlibrary.ca/wp-content/uploads/Busy-Bees.png
END:VEVENT
BEGIN:VEVENT
DTSTART;TZID=America/Toronto:20301226T100000
DTEND;TZID=America/Toronto:20301226T103000
DTSTAMP:20260423T011749
CREATED:20250816T170631Z
LAST-MODIFIED:20260122T161515Z
UID:10002863-1924509600-1924511400@www.brightonlibrary.ca
SUMMARY:Busy Bees
DESCRIPTION:Babies and their caregivers are invited to buzz over and explore a variety of sensory activities together each week while making new friends in this relaxed program.
URL:https://www.brightonlibrary.ca/event-calendar/busy-bees/2030-12-26/
LOCATION:Brighton Public Library\, 35 Alice St\, Brighton\, Ontario\, K0K 1H0\, Canada
CATEGORIES:Babies,Drop-In
ATTACH;FMTTYPE=image/png:https://www.brightonlibrary.ca/wp-content/uploads/Busy-Bees.png
END:VEVENT
BEGIN:VEVENT
DTSTART;TZID=America/Toronto:20310102T100000
DTEND;TZID=America/Toronto:20310102T103000
DTSTAMP:20260423T011749
CREATED:20250816T170631Z
LAST-MODIFIED:20260122T161515Z
UID:10002864-1925114400-1925116200@www.brightonlibrary.ca
SUMMARY:Busy Bees
DESCRIPTION:Babies and their caregivers are invited to buzz over and explore a variety of sensory activities together each week while making new friends in this relaxed program.
URL:https://www.brightonlibrary.ca/event-calendar/busy-bees/2031-01-02/
LOCATION:Brighton Public Library\, 35 Alice St\, Brighton\, Ontario\, K0K 1H0\, Canada
CATEGORIES:Babies,Drop-In
ATTACH;FMTTYPE=image/png:https://www.brightonlibrary.ca/wp-content/uploads/Busy-Bees.png
END:VEVENT
BEGIN:VEVENT
DTSTART;TZID=America/Toronto:20310109T100000
DTEND;TZID=America/Toronto:20310109T103000
DTSTAMP:20260423T011749
CREATED:20250816T170631Z
LAST-MODIFIED:20260122T161515Z
UID:10002865-1925719200-1925721000@www.brightonlibrary.ca
SUMMARY:Busy Bees
DESCRIPTION:Babies and their caregivers are invited to buzz over and explore a variety of sensory activities together each week while making new friends in this relaxed program.
URL:https://www.brightonlibrary.ca/event-calendar/busy-bees/2031-01-09/
LOCATION:Brighton Public Library\, 35 Alice St\, Brighton\, Ontario\, K0K 1H0\, Canada
CATEGORIES:Babies,Drop-In
ATTACH;FMTTYPE=image/png:https://www.brightonlibrary.ca/wp-content/uploads/Busy-Bees.png
END:VEVENT
BEGIN:VEVENT
DTSTART;TZID=America/Toronto:20310116T100000
DTEND;TZID=America/Toronto:20310116T103000
DTSTAMP:20260423T011749
CREATED:20250816T170631Z
LAST-MODIFIED:20260122T161515Z
UID:10002866-1926324000-1926325800@www.brightonlibrary.ca
SUMMARY:Busy Bees
DESCRIPTION:Babies and their caregivers are invited to buzz over and explore a variety of sensory activities together each week while making new friends in this relaxed program.
URL:https://www.brightonlibrary.ca/event-calendar/busy-bees/2031-01-16/
LOCATION:Brighton Public Library\, 35 Alice St\, Brighton\, Ontario\, K0K 1H0\, Canada
CATEGORIES:Babies,Drop-In
ATTACH;FMTTYPE=image/png:https://www.brightonlibrary.ca/wp-content/uploads/Busy-Bees.png
END:VEVENT
END:VCALENDAR