BEGIN:VCALENDAR
VERSION:2.0
PRODID:-//Brighton Public Library - ECPv6.15.20//NONSGML v1.0//EN
CALSCALE:GREGORIAN
METHOD:PUBLISH
X-ORIGINAL-URL:https://www.brightonlibrary.ca
X-WR-CALDESC:Events for Brighton Public Library
REFRESH-INTERVAL;VALUE=DURATION:PT1H
X-Robots-Tag:noindex
X-PUBLISHED-TTL:PT1H
BEGIN:VTIMEZONE
TZID:America/Toronto
BEGIN:DAYLIGHT
TZOFFSETFROM:-0500
TZOFFSETTO:-0400
TZNAME:EDT
DTSTART:20250309T070000
END:DAYLIGHT
BEGIN:STANDARD
TZOFFSETFROM:-0400
TZOFFSETTO:-0500
TZNAME:EST
DTSTART:20251102T060000
END:STANDARD
BEGIN:DAYLIGHT
TZOFFSETFROM:-0500
TZOFFSETTO:-0400
TZNAME:EDT
DTSTART:20260308T070000
END:DAYLIGHT
BEGIN:STANDARD
TZOFFSETFROM:-0400
TZOFFSETTO:-0500
TZNAME:EST
DTSTART:20261101T060000
END:STANDARD
BEGIN:DAYLIGHT
TZOFFSETFROM:-0500
TZOFFSETTO:-0400
TZNAME:EDT
DTSTART:20270314T070000
END:DAYLIGHT
BEGIN:STANDARD
TZOFFSETFROM:-0400
TZOFFSETTO:-0500
TZNAME:EST
DTSTART:20271107T060000
END:STANDARD
END:VTIMEZONE
BEGIN:VEVENT
DTSTART;TZID=America/Toronto:20260325T123000
DTEND;TZID=America/Toronto:20260325T143000
DTSTAMP:20260421T081227
CREATED:20241223T164321Z
LAST-MODIFIED:20251030T162458Z
UID:10000656-1774441800-1774449000@www.brightonlibrary.ca
SUMMARY:KnitCetera
DESCRIPTION:Drop in with your project to chat and share with other yarn enthusiasts. All fibre arts are welcome\, and those who want to learn how to knit or crochet are welcome to come and join in!  \nNo registration is required for this event.
URL:https://www.brightonlibrary.ca/event-calendar/knitcetera-2/2026-03-25/
LOCATION:Brighton Public Library\, 35 Alice St\, Brighton\, Ontario\, K0K 1H0\, Canada
CATEGORIES:Crafty,Drop-In,Recurring Program
ATTACH;FMTTYPE=image/png:https://www.brightonlibrary.ca/wp-content/uploads/KnitCetera-Banner.png
END:VEVENT
BEGIN:VEVENT
DTSTART;TZID=America/Toronto:20260325T150000
DTEND;TZID=America/Toronto:20260325T170000
DTSTAMP:20260421T081227
CREATED:20260209T155400Z
LAST-MODIFIED:20260209T164412Z
UID:10002898-1774450800-1774458000@www.brightonlibrary.ca
SUMMARY:Creative Writing for Beginners
DESCRIPTION:Led by award-winning local author Linda Rawlings\, this series is perfect for people who want to spark their creative side and begin a writing practice. No prior experience with creative writing is required.  \nThis three-week program will run on Wednesdays (March 25th\, April 1st and April 8th) from 3:00-5:00pm. As each week builds on a new skill\, it is best to attend each week to get the most out of this program. All materials are provided\, but you’re welcome to bring any writing utensils that you prefer (e.g. notebooks and favourite pens!).  \nRegistration is required\, as spaces are limited.  \nLearn more about our instructor\, Linda: \nLinda Rawlings received her Certificate in Continuing Studies in Creative Writing from the University of Toronto in 2009. Since moving to Brighton in 2014\, she has won two awards in short story competitions. Her love of reading ensures that there are always two or three books within her reach.
URL:https://www.brightonlibrary.ca/event-calendar/creative-writing-for-beginners/
LOCATION:Brighton Public Library\, 35 Alice St\, Brighton\, Ontario\, K0K 1H0\, Canada
CATEGORIES:Adult Workshop,Adults,Registration Required,Writing
ATTACH;FMTTYPE=image/png:https://www.brightonlibrary.ca/wp-content/uploads/Creative-Writing-Arena.png
END:VEVENT
BEGIN:VEVENT
DTSTART;TZID=America/Toronto:20260325T190000
DTEND;TZID=America/Toronto:20260325T200000
DTSTAMP:20260421T081227
CREATED:20250227T170024Z
LAST-MODIFIED:20251209T175921Z
UID:10001805-1774465200-1774468800@www.brightonlibrary.ca
SUMMARY:BPL Board Meeting
DESCRIPTION:The Brighton Public Library Board will be meeting tonight in the Library’s Program Room at 35 Alice Street. The public is always welcome to attend these Board meetings.
URL:https://www.brightonlibrary.ca/event-calendar/bpl-board-meeting/2026-03-25/
LOCATION:Brighton Public Library\, 35 Alice St\, Brighton\, Ontario\, K0K 1H0\, Canada
ATTACH;FMTTYPE=image/png:https://www.brightonlibrary.ca/wp-content/uploads/Board-Meeting.png
END:VEVENT
END:VCALENDAR