BEGIN:VCALENDAR
VERSION:2.0
PRODID:-//Brighton Public Library - ECPv6.15.20//NONSGML v1.0//EN
CALSCALE:GREGORIAN
METHOD:PUBLISH
X-ORIGINAL-URL:https://www.brightonlibrary.ca
X-WR-CALDESC:Events for Brighton Public Library
REFRESH-INTERVAL;VALUE=DURATION:PT1H
X-Robots-Tag:noindex
X-PUBLISHED-TTL:PT1H
BEGIN:VTIMEZONE
TZID:America/Toronto
BEGIN:DAYLIGHT
TZOFFSETFROM:-0500
TZOFFSETTO:-0400
TZNAME:EDT
DTSTART:20250309T070000
END:DAYLIGHT
BEGIN:STANDARD
TZOFFSETFROM:-0400
TZOFFSETTO:-0500
TZNAME:EST
DTSTART:20251102T060000
END:STANDARD
BEGIN:DAYLIGHT
TZOFFSETFROM:-0500
TZOFFSETTO:-0400
TZNAME:EDT
DTSTART:20260308T070000
END:DAYLIGHT
BEGIN:STANDARD
TZOFFSETFROM:-0400
TZOFFSETTO:-0500
TZNAME:EST
DTSTART:20261101T060000
END:STANDARD
BEGIN:DAYLIGHT
TZOFFSETFROM:-0500
TZOFFSETTO:-0400
TZNAME:EDT
DTSTART:20270314T070000
END:DAYLIGHT
BEGIN:STANDARD
TZOFFSETFROM:-0400
TZOFFSETTO:-0500
TZNAME:EST
DTSTART:20271107T060000
END:STANDARD
END:VTIMEZONE
BEGIN:VEVENT
DTSTART;TZID=America/Toronto:20260321T100000
DTEND;TZID=America/Toronto:20260321T160000
DTSTAMP:20260421T032509
CREATED:20241223T164123Z
LAST-MODIFIED:20251030T162536Z
UID:10000337-1774087200-1774108800@www.brightonlibrary.ca
SUMMARY:Kids' Crafts Kits
DESCRIPTION:New Craft Kits are unveiled every Saturday at the Main Desk. These can be completed with a few items from home (like glue\, scissors and crayons or markers). There’s a new craft every week!
URL:https://www.brightonlibrary.ca/event-calendar/kids-crafts-kits-2/2026-03-21/
LOCATION:Brighton Public Library\, 35 Alice St\, Brighton\, Ontario\, K0K 1H0\, Canada
CATEGORIES:Crafty,Grab and Go,Kids
ATTACH;FMTTYPE=image/png:https://www.brightonlibrary.ca/wp-content/uploads/Craft-Kits-Banner.png
END:VEVENT
BEGIN:VEVENT
DTSTART;TZID=America/Toronto:20260321T103000
DTEND;TZID=America/Toronto:20260321T123000
DTSTAMP:20260421T032509
CREATED:20260205T182417Z
LAST-MODIFIED:20260210T144924Z
UID:10002891-1774089000-1774096200@www.brightonlibrary.ca
SUMMARY:Seed Exchange
DESCRIPTION:Join other garden-loving folks at the Library to get ready for the upcoming season! Bring in your extra seeds to trade with others and increase the diversity in Brighton gardens.  \nPlus\, you can explore the BPL Seed Library and chat with our friends from the Brighton Garden Club.
URL:https://www.brightonlibrary.ca/event-calendar/seed-exchange/
LOCATION:Brighton Public Library\, 35 Alice St\, Brighton\, Ontario\, K0K 1H0\, Canada
CATEGORIES:All Ages,Drop-In
ATTACH;FMTTYPE=image/png:https://www.brightonlibrary.ca/wp-content/uploads/Seed-Exchange-FB-Cover-2.png
END:VEVENT
END:VCALENDAR