BEGIN:VCALENDAR
VERSION:2.0
PRODID:-//Brighton Public Library - ECPv6.15.20//NONSGML v1.0//EN
CALSCALE:GREGORIAN
METHOD:PUBLISH
X-WR-CALNAME:Brighton Public Library
X-ORIGINAL-URL:https://www.brightonlibrary.ca
X-WR-CALDESC:Events for Brighton Public Library
REFRESH-INTERVAL;VALUE=DURATION:PT1H
X-Robots-Tag:noindex
X-PUBLISHED-TTL:PT1H
BEGIN:VTIMEZONE
TZID:America/Toronto
BEGIN:DAYLIGHT
TZOFFSETFROM:-0500
TZOFFSETTO:-0400
TZNAME:EDT
DTSTART:20240310T070000
END:DAYLIGHT
BEGIN:STANDARD
TZOFFSETFROM:-0400
TZOFFSETTO:-0500
TZNAME:EST
DTSTART:20241103T060000
END:STANDARD
BEGIN:DAYLIGHT
TZOFFSETFROM:-0500
TZOFFSETTO:-0400
TZNAME:EDT
DTSTART:20250309T070000
END:DAYLIGHT
BEGIN:STANDARD
TZOFFSETFROM:-0400
TZOFFSETTO:-0500
TZNAME:EST
DTSTART:20251102T060000
END:STANDARD
BEGIN:DAYLIGHT
TZOFFSETFROM:-0500
TZOFFSETTO:-0400
TZNAME:EDT
DTSTART:20260308T070000
END:DAYLIGHT
BEGIN:STANDARD
TZOFFSETFROM:-0400
TZOFFSETTO:-0500
TZNAME:EST
DTSTART:20261101T060000
END:STANDARD
END:VTIMEZONE
BEGIN:VEVENT
DTSTART;TZID=America/Toronto:20251208T160000
DTEND;TZID=America/Toronto:20251208T170000
DTSTAMP:20260421T063942
CREATED:20250513T144125Z
LAST-MODIFIED:20251117T165331Z
UID:10001939-1765209600-1765213200@www.brightonlibrary.ca
SUMMARY:Adult Craft Hour
DESCRIPTION:Join Alyssa to try a different craft every month\, with all materials provided. December will be the last month when this program is being offered. Look for new crafty opportunities in 2026! \nRegistration is required for this event\, because spaces are limited.
URL:https://www.brightonlibrary.ca/event-calendar/adult-craft-hour-4/
LOCATION:Brighton Public Library\, 35 Alice St\, Brighton\, Ontario\, K0K 1H0\, Canada
CATEGORIES:Adult Workshop,Adults,Crafty,Recurring Program,Registration Required
ATTACH;FMTTYPE=image/png:https://www.brightonlibrary.ca/wp-content/uploads/Craft-Hour-FB-Cover-1.png
END:VEVENT
END:VCALENDAR