BEGIN:VCALENDAR
VERSION:2.0
PRODID:-//Brighton Public Library - ECPv6.15.20//NONSGML v1.0//EN
CALSCALE:GREGORIAN
METHOD:PUBLISH
X-ORIGINAL-URL:https://www.brightonlibrary.ca
X-WR-CALDESC:Events for Brighton Public Library
REFRESH-INTERVAL;VALUE=DURATION:PT1H
X-Robots-Tag:noindex
X-PUBLISHED-TTL:PT1H
BEGIN:VTIMEZONE
TZID:America/Toronto
BEGIN:DAYLIGHT
TZOFFSETFROM:-0500
TZOFFSETTO:-0400
TZNAME:EDT
DTSTART:20240310T070000
END:DAYLIGHT
BEGIN:STANDARD
TZOFFSETFROM:-0400
TZOFFSETTO:-0500
TZNAME:EST
DTSTART:20241103T060000
END:STANDARD
BEGIN:DAYLIGHT
TZOFFSETFROM:-0500
TZOFFSETTO:-0400
TZNAME:EDT
DTSTART:20250309T070000
END:DAYLIGHT
BEGIN:STANDARD
TZOFFSETFROM:-0400
TZOFFSETTO:-0500
TZNAME:EST
DTSTART:20251102T060000
END:STANDARD
BEGIN:DAYLIGHT
TZOFFSETFROM:-0500
TZOFFSETTO:-0400
TZNAME:EDT
DTSTART:20260308T070000
END:DAYLIGHT
BEGIN:STANDARD
TZOFFSETFROM:-0400
TZOFFSETTO:-0500
TZNAME:EST
DTSTART:20261101T060000
END:STANDARD
END:VTIMEZONE
BEGIN:VEVENT
DTSTART;TZID=America/Toronto:20251202T100000
DTEND;TZID=America/Toronto:20251202T160000
DTSTAMP:20260421T081216
CREATED:20250303T162536Z
LAST-MODIFIED:20260205T185936Z
UID:10002681-1764669600-1764691200@www.brightonlibrary.ca
SUMMARY:Tech Tuesdays
DESCRIPTION:Bring in your device or get help navigating the digital library\, by booking a 30-minute session with our staff. This one-on-one help is offered twice a month\, and is a very popular service. \nBecause we need to discuss your tech issue and select an appropriate time slot there is no online registration available for this program. Please visit the Main Desk or call the library during open hours to register: 613-475-2511.
URL:https://www.brightonlibrary.ca/event-calendar/tech-tuesdays-4/2025-12-02/
LOCATION:Brighton Public Library\, 35 Alice St\, Brighton\, Ontario\, K0K 1H0\, Canada
CATEGORIES:Adults,Recurring Program,Registration Required
ATTACH;FMTTYPE=image/png:https://www.brightonlibrary.ca/wp-content/uploads/Tech-Tuesdays-FB-Banner-1.png
END:VEVENT
BEGIN:VEVENT
DTSTART;TZID=America/Toronto:20251202T143000
DTEND;TZID=America/Toronto:20251202T160000
DTSTAMP:20260421T081216
CREATED:20251106T163756Z
LAST-MODIFIED:20251106T163756Z
UID:10002674-1764685800-1764691200@www.brightonlibrary.ca
SUMMARY:Homeschool Holiday Fun
DESCRIPTION:Create your own decorations to take home and enjoy Christmas music and stories with other homeschooling families. \nPlease use the tickets below to register; this helps us know how many kids to prepare for.
URL:https://www.brightonlibrary.ca/event-calendar/homeschool-holiday-fun/
LOCATION:Brighton Public Library\, 35 Alice St\, Brighton\, Ontario\, K0K 1H0\, Canada
CATEGORIES:Crafty,Homeschooler Events,Kids,Registration Required,Teens,Tweens
ATTACH;FMTTYPE=image/png:https://www.brightonlibrary.ca/wp-content/uploads/Homeschool-Holiday-Banner-2.png
END:VEVENT
BEGIN:VEVENT
DTSTART;TZID=America/Toronto:20251202T183000
DTEND;TZID=America/Toronto:20251202T200000
DTSTAMP:20260421T081216
CREATED:20251106T155845Z
LAST-MODIFIED:20251107T153233Z
UID:10002672-1764700200-1764705600@www.brightonlibrary.ca
SUMMARY:Brighton's Hops Barn
DESCRIPTION:Learn about the once-thriving hops industry in Brighton\, what caused its downfall and the journey this remaining artefact has taken to be restored. \nWe welcome Bruce Davis\, director of the Brian Todd Memorial Community Fund\, to share his slideshow on this 145 year old building. \nNo registration is required.
URL:https://www.brightonlibrary.ca/event-calendar/brightons-hops-barn/
LOCATION:Brighton Public Library\, 35 Alice St\, Brighton\, Ontario\, K0K 1H0\, Canada
CATEGORIES:Adults,Drop-In,Local History
ATTACH;FMTTYPE=image/png:https://www.brightonlibrary.ca/wp-content/uploads/Hops-Barn-Feature-Image-1.png
END:VEVENT
END:VCALENDAR