BEGIN:VCALENDAR
VERSION:2.0
PRODID:-//Brighton Public Library - ECPv6.15.20//NONSGML v1.0//EN
CALSCALE:GREGORIAN
METHOD:PUBLISH
X-ORIGINAL-URL:https://www.brightonlibrary.ca
X-WR-CALDESC:Events for Brighton Public Library
REFRESH-INTERVAL;VALUE=DURATION:PT1H
X-Robots-Tag:noindex
X-PUBLISHED-TTL:PT1H
BEGIN:VTIMEZONE
TZID:America/Toronto
BEGIN:DAYLIGHT
TZOFFSETFROM:-0500
TZOFFSETTO:-0400
TZNAME:EDT
DTSTART:20240310T070000
END:DAYLIGHT
BEGIN:STANDARD
TZOFFSETFROM:-0400
TZOFFSETTO:-0500
TZNAME:EST
DTSTART:20241103T060000
END:STANDARD
BEGIN:DAYLIGHT
TZOFFSETFROM:-0500
TZOFFSETTO:-0400
TZNAME:EDT
DTSTART:20250309T070000
END:DAYLIGHT
BEGIN:STANDARD
TZOFFSETFROM:-0400
TZOFFSETTO:-0500
TZNAME:EST
DTSTART:20251102T060000
END:STANDARD
BEGIN:DAYLIGHT
TZOFFSETFROM:-0500
TZOFFSETTO:-0400
TZNAME:EDT
DTSTART:20260308T070000
END:DAYLIGHT
BEGIN:STANDARD
TZOFFSETFROM:-0400
TZOFFSETTO:-0500
TZNAME:EST
DTSTART:20261101T060000
END:STANDARD
END:VTIMEZONE
BEGIN:VEVENT
DTSTART;TZID=America/Toronto:20251127T100000
DTEND;TZID=America/Toronto:20251127T103000
DTSTAMP:20260421T095325
CREATED:20250816T170631Z
LAST-MODIFIED:20260122T161515Z
UID:10002237-1764237600-1764239400@www.brightonlibrary.ca
SUMMARY:Busy Bees
DESCRIPTION:Babies and their caregivers are invited to buzz over and explore a variety of sensory activities together each week while making new friends in this relaxed program.
URL:https://www.brightonlibrary.ca/event-calendar/busy-bees/2025-11-27/
LOCATION:Brighton Public Library\, 35 Alice St\, Brighton\, Ontario\, K0K 1H0\, Canada
CATEGORIES:Babies,Drop-In
ATTACH;FMTTYPE=image/png:https://www.brightonlibrary.ca/wp-content/uploads/Busy-Bees.png
END:VEVENT
BEGIN:VEVENT
DTSTART;TZID=America/Toronto:20251127T103000
DTEND;TZID=America/Toronto:20251127T113000
DTSTAMP:20260421T095326
CREATED:20241217T171210Z
LAST-MODIFIED:20260122T161802Z
UID:10000065-1764239400-1764243000@www.brightonlibrary.ca
SUMMARY:Song & Story Hour
DESCRIPTION:Join Terry and Penny for sing-alongs and story books during this one hour program. This program is tailored to preschool children\, but we love to see all ages enjoy the stories and songs. \nOnce a month\, our friend Johanne helps us learn songs in French\, and brings a favourite French story to share! \nNo registration is required.  \n 
URL:https://www.brightonlibrary.ca/event-calendar/song-story-hour/2025-11-27/
LOCATION:Brighton Public Library\, 35 Alice St\, Brighton\, Ontario\, K0K 1H0\, Canada
CATEGORIES:Drop-In,Kids,Recurring Program
ATTACH;FMTTYPE=image/png:https://www.brightonlibrary.ca/wp-content/uploads/Song-and-Story-FB-Banner.png
END:VEVENT
BEGIN:VEVENT
DTSTART;TZID=America/Toronto:20251127T143000
DTEND;TZID=America/Toronto:20251127T160000
DTSTAMP:20260421T095326
CREATED:20251017T153746Z
LAST-MODIFIED:20251017T154126Z
UID:10002539-1764253800-1764259200@www.brightonlibrary.ca
SUMMARY:Holiday Gifts Workshop: ENSS
DESCRIPTION:This event is for students at East Northumberland Secondary School.  \nJoin Penny and Alyssa in the ENSS library after school to craft a special gift for the holiday season. Choose between making a keychain or a felted mug cozy when you register\, below. \nAll materials are provided\, but spaces are limited.
URL:https://www.brightonlibrary.ca/event-calendar/holiday-gifts-workshop-enss/
LOCATION:East Northumberland Secondary School\, 71 Dundas Street\, Brighton\, Ontario\, K0K 1H0\, Canada
CATEGORIES:Crafty,Registration Required,Teens
ATTACH;FMTTYPE=image/png:https://www.brightonlibrary.ca/wp-content/uploads/Holiday-Gifts-ENSS-Feature-Image-1.png
END:VEVENT
BEGIN:VEVENT
DTSTART;TZID=America/Toronto:20251127T150000
DTEND;TZID=America/Toronto:20251127T160000
DTSTAMP:20260421T095326
CREATED:20250816T170221Z
LAST-MODIFIED:20260217T135711Z
UID:10001978-1764255600-1764259200@www.brightonlibrary.ca
SUMMARY:Tween Scene
DESCRIPTION:Ages 11-14 can drop in for some snacks\, games\, crafts and hang outs. Head to the Program Room to see what’s on offer each week.
URL:https://www.brightonlibrary.ca/event-calendar/tween-scene/2025-11-27/
LOCATION:Brighton Public Library\, 35 Alice St\, Brighton\, Ontario\, K0K 1H0\, Canada
CATEGORIES:Drop-In,Tweens
ATTACH;FMTTYPE=image/png:https://www.brightonlibrary.ca/wp-content/uploads/Tween-Scene.png
END:VEVENT
END:VCALENDAR