BEGIN:VCALENDAR
VERSION:2.0
PRODID:-//Brighton Public Library - ECPv6.15.20//NONSGML v1.0//EN
CALSCALE:GREGORIAN
METHOD:PUBLISH
X-ORIGINAL-URL:https://www.brightonlibrary.ca
X-WR-CALDESC:Events for Brighton Public Library
REFRESH-INTERVAL;VALUE=DURATION:PT1H
X-Robots-Tag:noindex
X-PUBLISHED-TTL:PT1H
BEGIN:VTIMEZONE
TZID:America/Toronto
BEGIN:DAYLIGHT
TZOFFSETFROM:-0500
TZOFFSETTO:-0400
TZNAME:EDT
DTSTART:20240310T070000
END:DAYLIGHT
BEGIN:STANDARD
TZOFFSETFROM:-0400
TZOFFSETTO:-0500
TZNAME:EST
DTSTART:20241103T060000
END:STANDARD
BEGIN:DAYLIGHT
TZOFFSETFROM:-0500
TZOFFSETTO:-0400
TZNAME:EDT
DTSTART:20250309T070000
END:DAYLIGHT
BEGIN:STANDARD
TZOFFSETFROM:-0400
TZOFFSETTO:-0500
TZNAME:EST
DTSTART:20251102T060000
END:STANDARD
BEGIN:DAYLIGHT
TZOFFSETFROM:-0500
TZOFFSETTO:-0400
TZNAME:EDT
DTSTART:20260308T070000
END:DAYLIGHT
BEGIN:STANDARD
TZOFFSETFROM:-0400
TZOFFSETTO:-0500
TZNAME:EST
DTSTART:20261101T060000
END:STANDARD
END:VTIMEZONE
BEGIN:VEVENT
DTSTART;TZID=America/Toronto:20251106T100000
DTEND;TZID=America/Toronto:20251106T103000
DTSTAMP:20260421T100054
CREATED:20250816T170631Z
LAST-MODIFIED:20260122T161515Z
UID:10002234-1762423200-1762425000@www.brightonlibrary.ca
SUMMARY:Busy Bees
DESCRIPTION:Babies and their caregivers are invited to buzz over and explore a variety of sensory activities together each week while making new friends in this relaxed program.
URL:https://www.brightonlibrary.ca/event-calendar/busy-bees/2025-11-06/
LOCATION:Brighton Public Library\, 35 Alice St\, Brighton\, Ontario\, K0K 1H0\, Canada
CATEGORIES:Babies,Drop-In
ATTACH;FMTTYPE=image/png:https://www.brightonlibrary.ca/wp-content/uploads/Busy-Bees.png
END:VEVENT
BEGIN:VEVENT
DTSTART;TZID=America/Toronto:20251106T103000
DTEND;TZID=America/Toronto:20251106T113000
DTSTAMP:20260421T100054
CREATED:20241217T171210Z
LAST-MODIFIED:20260122T161802Z
UID:10000062-1762425000-1762428600@www.brightonlibrary.ca
SUMMARY:Song & Story Hour
DESCRIPTION:Join Terry and Penny for sing-alongs and story books during this one hour program. This program is tailored to preschool children\, but we love to see all ages enjoy the stories and songs. \nOnce a month\, our friend Johanne helps us learn songs in French\, and brings a favourite French story to share! \nNo registration is required.  \n 
URL:https://www.brightonlibrary.ca/event-calendar/song-story-hour/2025-11-06/
LOCATION:Brighton Public Library\, 35 Alice St\, Brighton\, Ontario\, K0K 1H0\, Canada
CATEGORIES:Drop-In,Kids,Recurring Program
ATTACH;FMTTYPE=image/png:https://www.brightonlibrary.ca/wp-content/uploads/Song-and-Story-FB-Banner.png
END:VEVENT
BEGIN:VEVENT
DTSTART;TZID=America/Toronto:20251106T130000
DTEND;TZID=America/Toronto:20251106T150000
DTSTAMP:20260421T100054
CREATED:20250828T183215Z
LAST-MODIFIED:20250828T183215Z
UID:10002512-1762434000-1762441200@www.brightonlibrary.ca
SUMMARY:Learning About the Law: Wills & Powers of Attorney
DESCRIPTION:Lawyer Sarah Cooling will be joining us from the Northumberland Community Legal Centre to talk about how wills and powers of attorney work\, and what you can do to be prepared. \nNo registration is required.
URL:https://www.brightonlibrary.ca/event-calendar/learning-about-the-law-wills-powers-of-attorney-3/
LOCATION:Brighton Public Library\, 35 Alice St\, Brighton\, Ontario\, K0K 1H0\, Canada
CATEGORIES:Adults,Drop-In
END:VEVENT
BEGIN:VEVENT
DTSTART;TZID=America/Toronto:20251106T150000
DTEND;TZID=America/Toronto:20251106T160000
DTSTAMP:20260421T100054
CREATED:20250816T170221Z
LAST-MODIFIED:20260217T135711Z
UID:10001975-1762441200-1762444800@www.brightonlibrary.ca
SUMMARY:Tween Scene
DESCRIPTION:Ages 11-14 can drop in for some snacks\, games\, crafts and hang outs. Head to the Program Room to see what’s on offer each week.
URL:https://www.brightonlibrary.ca/event-calendar/tween-scene/2025-11-06/
LOCATION:Brighton Public Library\, 35 Alice St\, Brighton\, Ontario\, K0K 1H0\, Canada
CATEGORIES:Drop-In,Tweens
ATTACH;FMTTYPE=image/png:https://www.brightonlibrary.ca/wp-content/uploads/Tween-Scene.png
END:VEVENT
BEGIN:VEVENT
DTSTART;TZID=America/Toronto:20251106T183000
DTEND;TZID=America/Toronto:20251106T200000
DTSTAMP:20260421T100054
CREATED:20250828T182358Z
LAST-MODIFIED:20250911T161624Z
UID:10002511-1762453800-1762459200@www.brightonlibrary.ca
SUMMARY:Music in the Library: Ray Herbert
DESCRIPTION:This month we welcome local musician Ray Herbert to the Music in the Library stage! Ray will be delighting us with an eclectic musical mix of styles and genres.
URL:https://www.brightonlibrary.ca/event-calendar/music-in-the-library-ray-herbert/
LOCATION:Brighton Public Library\, 35 Alice St\, Brighton\, Ontario\, K0K 1H0\, Canada
CATEGORIES:Adults,Drop-In,Music
END:VEVENT
END:VCALENDAR